{"text_format":"1","workbook":"xlsx","n_sheets":31,"sheets":["Deckblatt","A.1. Rohrleitungen Ebene 1","A.2. Rohrleitungen Ebene 2","A.3. Rohrlleitungen Ebene 3","B.1. Schieberstationen Ebene 1","B.2. Schieberstationen Ebene 2","B.3. Schieberstationen Ebene 3","C.1. GDRAs Ebene 1","C.2. GDRAs Ebene 2","C.3. GDRAs Ebene 3","D.1. Verdichter Ebene 1","D.2. Verdichter Ebene 2","D.3. Verdichter Ebene 3","E.1. Baukostenzuschüsse Ebene 1","E.2. Baukostenzuschüsse Ebene 2","E.3. Baukostenzuschüsse Ebene 3","F.1 Geleistete BKZ E1","F.2 Geleistete BKZ E2","F.3 Geleistete BKZ E3","G. Software","H. Zähler u.Messgeräte","I. Zähler-Fernaus.ger.","J. EDV-Anlagen","K. Kommunikationsanlagen","L. GWG","M.1. Gel.Anz.u.Anl.i.Bau E1","M.2. Gel.Anz.u.Anl.i.Bau E2","M.3. Gel.Anz.u.Anl.i.Bau E3","N. Summenblatt","O. Summenblatt nach Jahren","Verfahrensnummer"],"not_rendered":{"charts":2,"images":1,"macros":1,"external_links":0,"defined_names":38,"comments":0,"pivot_tables":0},"unopened":[],"bounds":{"document_bytes":16777216,"sheet_cells":100000,"rows_first":2000,"rows_last":500,"rows_between":2000,"halvings":0,"cell_chars":16384,"cell_head_chars":4096},"cells_cut":0,"cells_raw":0,"read":"whole","date_system":"1900"}

{"sheet":"Deckblatt","index":0,"n_rows":28,"n_cols":3,"rows_kept":28,"cut":false,"hidden":false,"merged":[[6,0,6,3],[24,1,26,1],[24,2,26,2]]}
[]
[]
[]
[]
[]
[]
["ERHEBUNGSBOGEN FÜR GASNETZBETREIBER 2013"]
[]
[]
[]
[]
[null,"Verfahrensnummer",{"$f":"VLOOKUP(C14,Verfahrensnummer!C2:E24,2,0)","v":" "}]
[null,"Netzbetreiberkennzahl",{"$f":"VLOOKUP(C14,Verfahrensnummer!C2:E24,3,0)","v":" "}]
[null,"Netzbetreiber","Bitte Auswählen"]
[]
[null,"Adresse des Netzbetreibers"]
[]
[]
[]
[null,"Kontaktperson des Gasnetzbetreibers: "]
[null,"Name:"]
[null,"Tel. Nr.:"]
[null,"e-mail:"]
[]
[]
[]
[]
[null,"Datum","Stempel und Unterschrift"]

{"sheet":"A.1. Rohrleitungen Ebene 1","index":1,"n_rows":70,"n_cols":18,"rows_kept":70,"cut":false,"hidden":false,"merged":[]}
["Netzbetreiber:",null,{"$f":"Deckblatt!C14","v":"Bitte Auswählen"}]
[]
["A.1.","Rohrleitungen Ebene 1"]
[]
["A.1.1.","Abschreibungsdauer in Jahren",null,null,null,null,null,null,null,null,0]
[]
["A.1.2.","Historische Anschaffungskosten gegliedert nach dem Jahr des Zugangs"]
[]
[null,"Jahr","Errichtete Rohrlänge (km)","AHK bestehender Anlagen in TEUR (2012)","Zugänge (2013) / Abgänge Altanlagen in TEUR ","AHK bestehender Anlagen in TEUR (2013)","Buchwerte (Ende 2012) in TEUR","Buchwerte (Ende 2013) in TEUR","Buchwerte abgeg. Anlagen in TEUR (2013)","Jahres-AFA (2013)","AFA - Dauer in Jahren","Kommentar","Buchwert-Anfang 2005","Alternative RND","Alternative AFA","Alternativer BW Ende","Anteil abgeg. Anlagen seit 2005","AHK der bestehenden Anlage 2005"]
[]
[1,2013,0,0,0,{"$f":"E11+D11","v":0},null,0,0,0,{"$f":"$K$5","v":0}]
[{"$f":"A11+1","v":2},{"$f":"B11-1","v":2012},0,0,0,0,0,0,0,0,{"$f":"$K$5","v":0}]
[{"$f":"A12+1","v":3},{"$f":"B12-1","v":2011},0,0,0,0,0,0,0,0,{"$f":"$K$5","v":0},null,0,0,0,0,0,0]
[{"$f":"A13+1","v":4},{"$f":"B13-1","v":2010},0,0,0,0,0,0,0,0,{"$f":"$K$5","v":0},null,0,0,0,0,0,0]
[{"$f":"A14+1","v":5},{"$f":"B14-1","v":2009},0,0,0,0,0,0,0,0,{"$f":"$K$5","v":0},null,0,0,0,0,0,0]
[6,2008,0,0,0,0,0,0,0,0,0,null,0,0,0,0,0,0]
[7,2007,0,0,0,0,0,0,0,0,0,null,0,0,0,0,0,0]
[8,2006,0,0,0,0,0,0,0,0,0,null,0,0,0,0,0,0]
[9,2005,0,0,0,0,0,0,0,0,0,null,0,0,0,0,0,0]
[10,2004,0,0,0,0,0,0,0,0,0,null,0,0,0,0,0,0]
[11,2003,0,0,0,0,0,0,0,0,0,null,0,0,0,0,0,0]
[12,2002,0,0,0,0,0,0,0,0,0,null,0,0,0,0,0,0]
[13,2001,0,0,0,0,0,0,0,0,0,null,0,0,0,0,0,0]
[14,2000,0,0,0,0,0,0,0,0,0,null,0,0,0,0,0,0]
[15,1999,0,0,0,0,0,0,0,0,0,null,0,0,0,0,0,0]
[16,1998,0,0,0,0,0,0,0,0,0,null,0,0,0,0,0,0]
[17,1997,0,0,0,0,0,0,0,0,0,null,0,0,0,0,0,0]
[18,1996,0,0,0,0,0,0,0,0,0,null,0,0,0,0,0,0]
[19,1995,0,0,0,0,0,0,0,0,0,null,0,0,0,0,0,0]
[20,1994,0,0,0,0,0,0,0,0,0,null,0,0,0,0,0,0]
[21,1993,0,0,0,0,0,0,0,0,0,null,0,0,0,0,0,0]
[22,1992,0,0,0,0,0,0,0,0,0,null,0,0,0,0,0,0]
[23,1991,0,0,0,0,0,0,0,0,0,null,0,0,0,0,0,0]
[24,1990,0,0,0,0,0,0,0,0,0,null,0,0,0,0,0,0]
[25,1989,0,0,0,0,0,0,0,0,0,null,0,0,0,0,0,0]
[26,1988,0,0,0,0,0,0,0,0,0,null,0,0,0,0,0,0]
[27,1987,0,0,0,0,0,0,0,0,0,null,0,0,0,0,0,0]
[28,1986,0,0,0,0,0,0,0,0,0,null,0,0,0,0,0,0]
[29,1985,0,0,0,0,0,0,0,0,0,null,0,0,0,0,0,0]
[30,1984,0,0,0,0,0,0,0,0,0,null,0,0,0,0,0,0]
[31,1983,0,0,0,0,0,0,0,0,0,null,0,0,0,0,0,0]
[32,1982,0,0,0,0,0,0,0,0,0,null,0,0,0,0,0,0]
[33,1981,0,0,0,0,0,0,0,0,0,null,0,0,0,0,0,0]
[34,1980,0,0,0,0,0,0,0,0,0,null,0,0,0,0,0,0]
[35,1979,0,0,0,0,0,0,0,0,0,null,0,0,0,0,0,0]
[36,1978,0,0,0,0,0,0,0,0,0,null,0,0,0,0,0,0]
[37,1977,0,0,0,0,0,0,0,0,0,null,0,0,0,0,0,0]
[38,1976,0,0,0,0,0,0,0,0,0,null,0,0,0,0,0,0]
[39,1975,0,0,0,0,0,0,0,0,0,null,0,0,0,0,0,0]
[40,1974,0,0,0,0,0,0,0,0,0,null,0,0,0,0,0,0]
[41,1973,0,0,0,0,0,0,0,0,0,null,0,0,0,0,0,0]
[42,1972,0,0,0,0,0,0,0,0,0,null,0,0,0,0,0,0]
[43,1971,0,0,0,0,0,0,0,0,0,null,0,0,0,0,0,0]
[44,1970,0,0,0,0,0,0,0,0,0,null,0,0,0,0,0,0]
[45,1969,0,0,0,0,0,0,0,0,0,null,0,0,0,0,0,0]
[46,1968,0,0,0,0,0,0,0,0,0,null,0,0,0,0,0,0]
[47,1967,0,0,0,0,0,0,0,0,0,null,0,0,0,0,0,0]
[48,1966,0,0,0,0,0,0,0,0,0,null,0,0,0,0,0,0]
[49,1965,0,0,0,0,0,0,0,0,0,null,0,0,0,0,0,0]
[50,1964,0,0,0,0,0,0,0,0,0,null,0,0,0,0,0,0]
[51,1963,0,0,0,0,0,0,0,0,0,null,0,0,0,0,0,0]
[52,1962,0,0,0,0,0,0,0,0,0,null,0,0,0,0,0,0]
[53,1961,0,0,0,0,0,0,0,0,0,null,0,0,0,0,0,0]
[54,1960,0,0,0,0,0,0,0,0,0,null,0,0,0,0,0,0]
[55,1959,0,0,0,0,0,0,0,0,0,null,0,0,0,0,0,0]
[56,1958,0,0,0,0,0,0,0,0,0,null,0,0,0,0,0,0]
[57,1957,0,0,0,0,0,0,0,0,0,null,0,0,0,0,0,0]
[58,1956,0,0,0,0,0,0,0,0,0,null,0,0,0,0,0,0]
[59,"älter",0,0,0,0,0,0,0,0,0,null,0,0,0,0,0,0]
[60,"Summe",{"$f":"SUM(C11:C69)","v":0},0,0,0,0,0,0,0]

{"sheet":"A.2. Rohrleitungen Ebene 2","index":2,"n_rows":70,"n_cols":18,"rows_kept":70,"cut":false,"hidden":false,"merged":[[0,2,0,11]]}
["Netzbetreiber:",null,{"$f":"'A.1. Rohrleitungen Ebene 1'!C1:L1","v":"Bitte Auswählen"}]
[]
["A.2.","Rohrleitungen Ebene 2"]
[]
["A.2.1.","Abschreibungsdauer in Jahren",null,null,null,null,null,null,null,null,0]
[]
["A.2.2.","Historische Anschaffungskosten gegliedert nach dem Jahr des Zugangs"]
[]
[null,"Jahr","Errichtete Rohrlänge (km)","AHK bestehender Anlagen in TEUR (2012)","Zugänge (2013) / Abgänge Altanlagen in TEUR ","AHK bestehender Anlagen in TEUR (2013)","Buchwerte (Ende 2012) in TEUR","Buchwerte (Ende 2013) in TEUR","Buchwerte abgeg. Anlagen in TEUR (2013)","Jahres-AFA (2013)","AFA - Dauer in Jahren","Kommentar","Buchwert-Anfang 2005","Alternative RND","Alternative AFA","Alternativer BW Ende","Anteil abgeg. Anlagen seit 2005","AHK der bestehenden Anlage 2005"]
[]
[1,2013,0,0,0,{"$f":"E11+D11","v":0},0,0,0,0,{"$f":"$K$5","v":0}]
[{"$f":"A11+1","v":2},{"$f":"B11-1","v":2012},0,0,0,0,0,0,0,0,0]
[3,2011,0,0,0,0,0,0,0,0,0,null,0,0,0,0,0,0]
[4,2010,0,0,0,0,0,0,0,0,0,null,0,0,0,0,0,0]
[5,2009,0,0,0,0,0,0,0,0,0,null,0,0,0,0,0,0]
[6,2008,0,0,0,0,0,0,0,0,0,null,0,0,0,0,0,0]
[7,2007,0,0,0,0,0,0,0,0,0,null,0,0,0,0,0,0]
[8,2006,0,0,0,0,0,0,0,0,0,null,0,0,0,0,0,0]
[9,2005,0,0,0,0,0,0,0,0,0,null,0,0,0,0,0,0]
[10,2004,0,0,0,0,0,0,0,0,0,null,0,0,0,0,0,0]
[11,2003,0,0,0,0,0,0,0,0,0,null,0,0,0,0,0,0]
[12,2002,0,0,0,0,0,0,0,0,0,null,0,0,0,0,0,0]
[13,2001,0,0,0,0,0,0,0,0,0,null,0,0,0,0,0,0]
[14,2000,0,0,0,0,0,0,0,0,0,null,0,0,0,0,0,0]
[15,1999,0,0,0,0,0,0,0,0,0,null,0,0,0,0,0,0]
[16,1998,0,0,0,0,0,0,0,0,0,null,0,0,0,0,0,0]
[17,1997,0,0,0,0,0,0,0,0,0,null,0,0,0,0,0,0]
[18,1996,0,0,0,0,0,0,0,0,0,null,0,0,0,0,0,0]
[19,1995,0,0,0,0,0,0,0,0,0,null,0,0,0,0,0,0]
[20,1994,0,0,0,0,0,0,0,0,0,null,0,0,0,0,0,0]
[21,1993,0,0,0,0,0,0,0,0,0,null,0,0,0,0,0,0]
[22,1992,0,0,0,0,0,0,0,0,0,null,0,0,0,0,0,0]
[23,1991,0,0,0,0,0,0,0,0,0,null,0,0,0,0,0,0]
[24,1990,0,0,0,0,0,0,0,0,0,null,0,0,0,0,0,0]
[25,1989,0,0,0,0,0,0,0,0,0,null,0,0,0,0,0,0]
[26,1988,0,0,0,0,0,0,0,0,0,null,0,0,0,0,0,0]
[27,1987,0,0,0,0,0,0,0,0,0,null,0,0,0,0,0,0]
[28,1986,0,0,0,0,0,0,0,0,0,null,0,0,0,0,0,0]
[29,1985,0,0,0,0,0,0,0,0,0,null,0,0,0,0,0,0]
[30,1984,0,0,0,0,0,0,0,0,0,null,0,0,0,0,0,0]
[31,1983,0,0,0,0,0,0,0,0,0,null,0,0,0,0,0,0]
[32,1982,0,0,0,0,0,0,0,0,0,null,0,0,0,0,0,0]
[33,1981,0,0,0,0,0,0,0,0,0,null,0,0,0,0,0,0]
[34,1980,0,0,0,0,0,0,0,0,0,null,0,0,0,0,0,0]
[35,1979,0,0,0,0,0,0,0,0,{"$f":"$K$5","v":0},null,0,0,0,0,0,0]
[{"$f":"A45+1","v":36},{"$f":"B45-1","v":1978},0,0,0,0,0,0,0,0,0,null,0,0,0,0,0,0]
[37,1977,0,0,0,0,0,0,0,0,0,null,0,0,0,0,0,0]
[38,1976,0,0,0,0,0,0,0,0,0,null,0,0,0,0,0,0]
[39,1975,0,0,0,0,0,0,0,0,0,null,0,0,0,0,0,0]
[40,1974,0,0,0,0,0,0,0,0,0,null,0,0,0,0,0,0]
[41,1973,0,0,0,0,0,0,0,0,0,null,0,0,0,0,0,0]
[42,1972,0,0,0,0,0,0,0,0,0,null,0,0,0,0,0,0]
[43,1971,0,0,0,0,0,0,0,0,0,null,0,0,0,0,0,0]
[44,1970,0,0,0,0,0,0,0,0,0,null,0,0,0,0,0,0]
[45,1969,0,0,0,0,0,0,0,0,0,null,0,0,0,0,0,0]
[46,1968,0,0,0,0,0,0,0,0,0,null,0,0,0,0,0,0]
[47,1967,0,0,0,0,0,0,0,0,0,null,0,0,0,0,0,0]
[48,1966,0,0,0,0,0,0,0,0,0,null,0,0,0,0,0,0]
[49,1965,0,0,0,0,0,0,0,0,0,null,0,0,0,0,0,0]
[50,1964,0,0,0,0,0,0,0,0,0,null,0,0,0,0,0,0]
[51,1963,0,0,0,0,0,0,0,0,0,null,0,0,0,0,0,0]
[52,1962,0,0,0,0,0,0,0,0,0,null,0,0,0,0,0,0]
[53,1961,0,0,0,0,0,0,0,0,0,null,0,0,0,0,0,0]
[54,1960,0,0,0,0,0,0,0,0,0,null,0,0,0,0,0,0]
[55,1959,0,0,0,0,0,0,0,0,0,null,0,0,0,0,0,0]
[56,1958,0,0,0,0,0,0,0,0,0,null,0,0,0,0,0,0]
[57,1957,0,0,0,0,0,0,0,0,0,null,0,0,0,0,0,0]
[58,1956,0,0,0,0,0,0,0,0,0,null,0,0,0,0,0,0]
[59,"älter",0,0,0,0,0,0,0,0,0,null,0,0,0,0,0,0]
[60,"Summe",{"$f":"SUM(C12:C69)","v":0},{"$f":"SUM(D11:D69)","v":0},0,0,0,0,0,0]

{"sheet":"A.3. Rohrlleitungen Ebene 3","index":3,"n_rows":70,"n_cols":18,"rows_kept":70,"cut":false,"hidden":false,"merged":[[0,2,0,11]]}
["Netzbetreiber:",null,{"$f":"'A.1. Rohrleitungen Ebene 1'!C1:L1","v":"Bitte Auswählen"}]
[]
["A.3.","Rohrleitungen Ebene 3"]
[]
["A.3.1.","Abschreibungsdauer in Jahren",null,null,null,null,null,null,null,null,0]
[]
["A.3.2.","Historische Anschaffungskosten gegliedert nach dem Jahr des Zugangs"]
[]
[null,"Jahr","Errichtete Rohrlänge (km)","AHK bestehender Anlagen in TEUR (2012)","Zugänge (2013) / Abgänge Altanlagen in TEUR ","AHK bestehender Anlagen in TEUR (2013)","Buchwerte (Ende 2012) in TEUR","Buchwerte (Ende 2013) in TEUR","Buchwerte abgeg. Anlagen in TEUR (2013)","Jahres-AFA (2013)","AFA - Dauer in Jahren","Kommentar","Buchwert-Anfang 2005","Alternative RND","Alternative AFA","Alternativer BW Ende","Anteil abgeg. Anlagen seit 2005","AHK der bestehenden Anlage 2005"]
[]
[1,2013,0,0,0,{"$f":"E11+D11","v":0},0,0,0,0,{"$f":"$K$5","v":0}]
[{"$f":"A11+1","v":2},{"$f":"B11-1","v":2012},0,0,0,0,0,0,0,0,0]
[3,2011,0,0,0,0,0,0,0,0,0,null,0,0,0,0,0,0]
[4,2010,0,0,0,0,0,0,0,0,0,null,0,0,0,0,0,0]
[5,2009,0,0,0,0,0,0,0,0,0,null,0,0,0,0,0,0]
[6,2008,0,0,0,0,0,0,0,0,0,null,0,0,0,0,0,0]
[7,2007,0,0,0,0,0,0,0,0,0,null,0,0,0,0,0,0]
[8,2006,0,0,0,0,0,0,0,0,0,null,0,0,0,0,0,0]
[9,2005,0,0,0,0,0,0,0,0,0,null,0,0,0,0,0,0]
[10,2004,0,0,0,0,0,0,0,0,0,null,0,0,0,0,0,0]
[11,2003,0,0,0,0,0,0,0,0,0,null,0,0,0,0,0,0]
[12,2002,0,0,0,0,0,0,0,0,0,null,0,0,0,0,0,0]
[13,2001,0,0,0,0,0,0,0,0,0,null,0,0,0,0,0,0]
[14,2000,0,0,0,0,0,0,0,0,0,null,0,0,0,0,0,0]
[15,1999,0,0,0,0,0,0,0,0,0,null,0,0,0,0,0,0]
[16,1998,0,0,0,0,0,0,0,0,0,null,0,0,0,0,0,0]
[17,1997,0,0,0,0,0,0,0,0,0,null,0,0,0,0,0,0]
[18,1996,0,0,0,0,0,0,0,0,0,null,0,0,0,0,0,0]
[19,1995,0,0,0,0,0,0,0,0,0,null,0,0,0,0,0,0]
[20,1994,0,0,0,0,0,0,0,0,0,null,0,0,0,0,0,0]
[21,1993,0,0,0,0,0,0,0,0,0,null,0,0,0,0,0,0]
[22,1992,0,0,0,0,0,0,0,0,0,null,0,0,0,0,0,0]
[23,1991,0,0,0,0,0,0,0,0,0,null,0,0,0,0,0,0]
[24,1990,0,0,0,0,0,0,0,0,0,null,0,0,0,0,0,0]
[25,1989,0,0,0,0,0,0,0,0,0,null,0,0,0,0,0,0]
[26,1988,0,0,0,0,0,0,0,0,0,null,0,0,0,0,0,0]
[27,1987,0,0,0,0,0,0,0,0,0,null,0,0,0,0,0,0]
[28,1986,0,0,0,0,0,0,0,0,0,null,0,0,0,0,0,0]
[29,1985,0,0,0,0,0,0,0,0,0,null,0,0,0,0,0,0]
[30,1984,0,0,0,0,0,0,0,0,0,null,0,0,0,0,0,0]
[31,1983,0,0,0,0,0,0,0,0,0,null,0,0,0,0,0,0]
[32,1982,0,0,0,0,0,0,0,0,0,null,0,0,0,0,0,0]
[33,1981,0,0,0,{"$f":"E43+D43","v":0},0,0,0,0,{"$f":"$K$5","v":0},null,0,0,0,0,0,0]
[{"$f":"A43+1","v":34},{"$f":"B43-1","v":1980},0,0,0,0,0,0,0,0,0,null,0,0,0,0,0,0]
[35,1979,0,0,0,0,0,0,0,0,0,null,0,0,0,0,0,0]
[36,1978,0,0,0,0,0,0,0,0,0,null,0,0,0,0,0,0]
[37,1977,0,0,0,0,0,0,0,0,0,null,0,0,0,0,0,0]
[38,1976,0,0,0,0,0,0,0,0,0,null,0,0,0,0,0,0]
[39,1975,0,0,0,0,0,0,0,0,0,null,0,0,0,0,0,0]
[40,1974,0,0,0,0,0,0,0,0,0,null,0,0,0,0,0,0]
[41,1973,0,0,0,0,0,0,0,0,0,null,0,0,0,0,0,0]
[42,1972,0,0,0,0,0,0,0,0,0,null,0,0,0,0,0,0]
[43,1971,0,0,0,0,0,0,0,0,0,null,0,0,0,0,0,0]
[44,1970,0,0,0,0,0,0,0,0,0,null,0,0,0,0,0,0]
[45,1969,0,0,0,0,0,0,0,0,0,null,0,0,0,0,0,0]
[46,1968,0,0,0,0,0,0,0,0,0,null,0,0,0,0,0,0]
[47,1967,0,0,0,0,0,0,0,0,0,null,0,0,0,0,0,0]
[48,1966,0,0,0,0,0,0,0,0,0,null,0,0,0,0,0,0]
[49,1965,0,0,0,0,0,0,0,0,0,null,0,0,0,0,0,0]
[50,1964,0,0,0,0,0,0,0,0,0,null,0,0,0,0,0,0]
[51,1963,0,0,0,0,0,0,0,0,0,null,0,0,0,0,0,0]
[52,1962,0,0,0,0,0,0,0,0,0,null,0,0,0,0,0,0]
[53,1961,0,0,0,0,0,0,0,0,0,null,0,0,0,0,0,0]
[54,1960,0,0,0,0,0,0,0,0,0,null,0,0,0,0,0,0]
[55,1959,0,0,0,0,0,0,0,0,0,null,0,0,0,0,0,0]
[56,1958,0,0,0,0,0,0,0,0,0,null,0,0,0,0,0,0]
[57,1957,0,0,0,0,0,0,0,0,0,null,0,0,0,0,0,0]
[58,1956,0,0,0,0,0,0,0,0,0,null,0,0,0,0,0,0]
[59,"älter",0,0,0,0,0,0,0,0,0,null,0,0,0,0,0,0]
[60,"Summe",{"$f":"SUM(C12:C69)","v":0},{"$f":"SUM(D11:D69)","v":0},0,0,0,0,0,0]

{"sheet":"B.1. Schieberstationen Ebene 1","index":4,"n_rows":70,"n_cols":18,"rows_kept":70,"cut":false,"hidden":false,"merged":[[0,2,0,11]]}
["Netzbetreiber:",null,{"$f":"'A.1. Rohrleitungen Ebene 1'!C1:L1","v":"Bitte Auswählen"}]
[]
["B.1.","Schieberstationen Ebene 1"]
[]
["B.1.1.","Abschreibungsdauer in Jahren",null,null,null,null,null,null,null,null,0]
[]
["B.1.2.","Historische Anschaffungskosten gegliedert nach dem Jahr des Zugangs"]
[]
[null,"Jahr","Anzahl der Schieberstationen","AHK bestehender Anlagen in TEUR (2012)","Zugänge (2013) / Abgänge Altanlagen in TEUR ","AHK bestehender Anlagen in TEUR (2013)","Buchwerte (Ende 2012) in TEUR","Buchwerte (Ende 2013) in TEUR","Buchwerte abgeg. Anlagen in TEUR (2013)","Jahres-AFA (2013)","AFA - Dauer in Jahren","Kommentar","Buchwert-Anfang 2005","Alternative RND","Alternative AFA","Alternativer BW Ende","Anteil abgeg. Anlagen seit 2005","AHK der bestehenden Anlage 2005"]
[]
[1,2013,0,0,0,{"$f":"E11+D11","v":0},0,0,0,0,{"$f":"$K$5","v":0}]
[{"$f":"A11+1","v":2},{"$f":"B11-1","v":2012},0,0,0,0,0,0,0,0,0]
[3,2011,0,0,0,0,0,0,0,0,0,null,0,0,0,0,0,0]
[4,2010,0,0,0,0,0,0,0,0,0,null,0,0,0,0,0,0]
[5,2009,0,0,0,0,0,0,0,0,0,null,0,0,0,0,0,0]
[6,2008,0,0,0,0,0,0,0,0,0,null,0,0,0,0,0,0]
[7,2007,0,0,0,0,0,0,0,0,0,null,0,0,0,0,0,0]
[8,2006,0,0,0,0,0,0,0,0,0,null,0,0,0,0,0,0]
[9,2005,0,0,0,0,0,0,0,0,0,null,0,0,0,0,0,0]
[10,2004,0,0,0,0,0,0,0,0,0,null,0,0,0,0,0,0]
[11,2003,0,0,0,0,0,0,0,0,0,null,0,0,0,0,0,0]
[12,2002,0,0,0,0,0,0,0,0,0,null,0,0,0,0,0,0]
[13,2001,0,0,0,0,0,0,0,0,0,null,0,0,0,0,0,0]
[14,2000,0,0,0,0,0,0,0,0,0,null,0,0,0,0,0,0]
[15,1999,0,0,0,0,0,0,0,0,0,null,0,0,0,0,0,0]
[16,1998,0,0,0,0,0,0,0,0,0,null,0,0,0,0,0,0]
[17,1997,0,0,0,0,0,0,0,0,0,null,0,0,0,0,0,0]
[18,1996,0,0,0,0,0,0,0,0,0,null,0,0,0,0,0,0]
[19,1995,0,0,0,0,0,0,0,0,0,null,0,0,0,0,0,0]
[20,1994,0,0,0,0,0,0,0,0,0,null,0,0,0,0,0,0]
[21,1993,0,0,0,0,0,0,0,0,0,null,0,0,0,0,0,0]
[22,1992,0,0,0,0,0,0,0,0,0,null,0,0,0,0,0,0]
[23,1991,0,0,0,0,0,0,0,0,0,null,0,0,0,0,0,0]
[24,1990,0,0,0,0,0,0,0,0,0,null,0,0,0,0,0,0]
[25,1989,0,0,0,0,0,0,0,0,0,null,0,0,0,0,0,0]
[26,1988,0,0,0,0,0,0,0,0,0,null,0,0,0,0,0,0]
[27,1987,0,0,0,0,0,0,0,0,0,null,0,0,0,0,0,0]
[28,1986,0,0,0,0,0,0,0,0,0,null,0,0,0,0,0,0]
[29,1985,0,0,0,0,0,0,0,0,0,null,0,0,0,0,0,0]
[30,1984,0,0,0,0,0,0,0,0,0,null,0,0,0,0,0,0]
[31,1983,0,0,0,0,0,0,0,0,0,null,0,0,0,0,0,0]
[32,1982,0,0,0,0,0,0,0,0,0,null,0,0,0,0,0,0]
[33,1981,0,0,0,0,0,0,0,0,0,null,0,0,0,0,0,0]
[34,1980,0,0,0,0,0,0,0,0,0,null,0,0,0,0,0,0]
[35,1979,0,0,0,0,0,0,0,0,{"$f":"$K$5","v":0},null,0,0,0,0,0,0]
[{"$f":"A45+1","v":36},{"$f":"B45-1","v":1978},0,0,0,0,0,0,0,0,0,null,0,0,0,0,0,0]
[37,1977,0,0,0,0,0,0,0,0,0,null,0,0,0,0,0,0]
[38,1976,0,0,0,0,0,0,0,0,0,null,0,0,0,0,0,0]
[39,1975,0,0,0,0,0,0,0,0,0,null,0,0,0,0,0,0]
[40,1974,0,0,0,0,0,0,0,0,0,null,0,0,0,0,0,0]
[41,1973,0,0,0,0,0,0,0,0,0,null,0,0,0,0,0,0]
[42,1972,0,0,0,0,0,0,0,0,0,null,0,0,0,0,0,0]
[43,1971,0,0,0,0,0,0,0,0,0,null,0,0,0,0,0,0]
[44,1970,0,0,0,0,0,0,0,0,0,null,0,0,0,0,0,0]
[45,1969,0,0,0,0,0,0,0,0,0,null,0,0,0,0,0,0]
[46,1968,0,0,0,0,0,0,0,0,0,null,0,0,0,0,0,0]
[47,1967,0,0,0,0,0,0,0,0,0,null,0,0,0,0,0,0]
[48,1966,0,0,0,0,0,0,0,0,0,null,0,0,0,0,0,0]
[49,1965,0,0,0,0,0,0,0,0,0,null,0,0,0,0,0,0]
[50,1964,0,0,0,0,0,0,0,0,0,null,0,0,0,0,0,0]
[51,1963,0,0,0,0,0,0,0,0,0,null,0,0,0,0,0,0]
[52,1962,0,0,0,0,0,0,0,0,0,null,0,0,0,0,0,0]
[53,1961,0,0,0,0,0,0,0,0,0,null,0,0,0,0,0,0]
[54,1960,0,0,0,0,0,0,0,0,0,null,0,0,0,0,0,0]
[55,1959,0,0,0,0,0,0,0,0,0,null,0,0,0,0,0,0]
[56,1958,0,0,0,0,0,0,0,0,0,null,0,0,0,0,0,0]
[57,1957,0,0,0,0,0,0,0,0,0,null,0,0,0,0,0,0]
[58,1956,0,0,0,0,0,0,0,0,0,null,0,0,0,0,0,0]
[59,"älter",0,0,0,0,0,0,0,0,0,null,0,0,0,0,0,0]
[60,"Summe",{"$f":"SUM(C12:C69)","v":0},{"$f":"SUM(D11:D69)","v":0},0,0,0,0,0,0]

{"sheet":"B.2. Schieberstationen Ebene 2","index":5,"n_rows":70,"n_cols":18,"rows_kept":70,"cut":false,"hidden":false,"merged":[[0,2,0,11]]}
["Netzbetreiber:",null,{"$f":"'A.1. Rohrleitungen Ebene 1'!C1:L1","v":"Bitte Auswählen"}]
[]
["B.2.","Schieberstationen Ebene 2"]
[]
["B.2.1.","Abschreibungsdauer in Jahren",null,null,null,null,null,null,null,null,0]
[]
["B.2.2.","Historische Anschaffungskosten gegliedert nach dem Jahr des Zugangs"]
[]
[null,"Jahr","Anzahl der Schieberstationen","AHK bestehender Anlagen in TEUR (2012)","Zugänge (2013) / Abgänge Altanlagen in TEUR ","AHK bestehender Anlagen in TEUR (2013)","Buchwerte (Ende 2012) in TEUR","Buchwerte (Ende 2013) in TEUR","Buchwerte abgeg. Anlagen in TEUR (2013)","Jahres-AFA (2013)","AFA - Dauer in Jahren","Kommentar","Buchwert-Anfang 2005","Alternative RND","Alternative AFA","Alternativer BW Ende","Anteil abgeg. Anlagen seit 2005","AHK der bestehenden Anlage 2005"]
[]
[1,2013,0,0,0,{"$f":"E11+D11","v":0},0,0,0,0,{"$f":"$K$5","v":0}]
[{"$f":"A11+1","v":2},{"$f":"B11-1","v":2012},0,0,0,{"$f":"E12+D12","v":0},0,0,0,0,0]
[3,2011,0,0,0,{"$f":"E13+D13","v":0},0,0,0,0,0,null,0,0,0,0,0,0]
[4,2010,0,0,0,0,0,0,0,0,0,null,0,0,0,0,0,0]
[5,2009,0,0,0,0,0,0,0,0,0,null,0,0,0,0,0,0]
[6,2008,0,0,0,0,0,0,0,0,0,null,0,0,0,0,0,0]
[7,2007,0,0,0,0,0,0,0,0,0,null,0,0,0,0,0,0]
[8,2006,0,0,0,0,0,0,0,0,0,null,0,0,0,0,0,0]
[9,2005,0,0,0,0,0,0,0,0,0,null,0,0,0,0,0,0]
[10,2004,0,0,0,0,0,0,0,0,0,null,0,0,0,0,0,0]
[11,2003,0,0,0,0,0,0,0,0,0,null,0,0,0,0,0,0]
[12,2002,0,0,0,0,0,0,0,0,0,null,0,0,0,0,0,0]
[13,2001,0,0,0,0,0,0,0,0,0,null,0,0,0,0,0,0]
[14,2000,0,0,0,0,0,0,0,0,0,null,0,0,0,0,0,0]
[15,1999,0,0,0,0,0,0,0,0,0,null,0,0,0,0,0,0]
[16,1998,0,0,0,0,0,0,0,0,0,null,0,0,0,0,0,0]
[17,1997,0,0,0,0,0,0,0,0,0,null,0,0,0,0,0,0]
[18,1996,0,0,0,0,0,0,0,0,0,null,0,0,0,0,0,0]
[19,1995,0,0,0,0,0,0,0,0,0,null,0,0,0,0,0,0]
[20,1994,0,0,0,0,0,0,0,0,0,null,0,0,0,0,0,0]
[21,1993,0,0,0,0,0,0,0,0,0,null,0,0,0,0,0,0]
[22,1992,0,0,0,0,0,0,0,0,0,null,0,0,0,0,0,0]
[23,1991,0,0,0,0,0,0,0,0,0,null,0,0,0,0,0,0]
[24,1990,0,0,0,0,0,0,0,0,0,null,0,0,0,0,0,0]
[25,1989,0,0,0,0,0,0,0,0,0,null,0,0,0,0,0,0]
[26,1988,0,0,0,0,0,0,0,0,0,null,0,0,0,0,0,0]
[27,1987,0,0,0,0,0,0,0,0,0,null,0,0,0,0,0,0]
[28,1986,0,0,0,0,0,0,0,0,0,null,0,0,0,0,0,0]
[29,1985,0,0,0,0,0,0,0,0,0,null,0,0,0,0,0,0]
[30,1984,0,0,0,0,0,0,0,0,0,null,0,0,0,0,0,0]
[31,1983,0,0,0,0,0,0,0,0,0,null,0,0,0,0,0,0]
[32,1982,0,0,0,0,0,0,0,0,0,null,0,0,0,0,0,0]
[33,1981,0,0,0,0,0,0,0,0,0,null,0,0,0,0,0,0]
[34,1980,0,0,0,0,0,0,0,0,0,null,0,0,0,0,0,0]
[35,1979,0,0,0,0,0,0,0,0,{"$f":"$K$5","v":0},null,0,0,0,0,0,0]
[{"$f":"A45+1","v":36},{"$f":"B45-1","v":1978},0,0,0,0,0,0,0,0,0,null,0,0,0,0,0,0]
[37,1977,0,0,0,0,0,0,0,0,0,null,0,0,0,0,0,0]
[38,1976,0,0,0,0,0,0,0,0,0,null,0,0,0,0,0,0]
[39,1975,0,0,0,0,0,0,0,0,0,null,0,0,0,0,0,0]
[40,1974,0,0,0,0,0,0,0,0,0,null,0,0,0,0,0,0]
[41,1973,0,0,0,0,0,0,0,0,0,null,0,0,0,0,0,0]
[42,1972,0,0,0,0,0,0,0,0,0,null,0,0,0,0,0,0]
[43,1971,0,0,0,0,0,0,0,0,0,null,0,0,0,0,0,0]
[44,1970,0,0,0,0,0,0,0,0,0,null,0,0,0,0,0,0]
[45,1969,0,0,0,0,0,0,0,0,0,null,0,0,0,0,0,0]
[46,1968,0,0,0,0,0,0,0,0,0,null,0,0,0,0,0,0]
[47,1967,0,0,0,0,0,0,0,0,0,null,0,0,0,0,0,0]
[48,1966,0,0,0,0,0,0,0,0,0,null,0,0,0,0,0,0]
[49,1965,0,0,0,0,0,0,0,0,0,null,0,0,0,0,0,0]
[50,1964,0,0,0,0,0,0,0,0,0,null,0,0,0,0,0,0]
[51,1963,0,0,0,0,0,0,0,0,0,null,0,0,0,0,0,0]
[52,1962,0,0,0,0,0,0,0,0,0,null,0,0,0,0,0,0]
[53,1961,0,0,0,0,0,0,0,0,0,null,0,0,0,0,0,0]
[54,1960,0,0,0,0,0,0,0,0,0,null,0,0,0,0,0,0]
[55,1959,0,0,0,0,0,0,0,0,0,null,0,0,0,0,0,0]
[56,1958,0,0,0,0,0,0,0,0,0,null,0,0,0,0,0,0]
[57,1957,0,0,0,0,0,0,0,0,0,null,0,0,0,0,0,0]
[58,1956,0,0,0,0,0,0,0,0,0,null,0,0,0,0,0,0]
[59,"älter",0,0,0,0,0,0,0,0,0,null,0,0,0,0,0,0]
[60,"Summe",{"$f":"SUM(C12:C69)","v":0},{"$f":"SUM(D11:D69)","v":0},0,0,0,0,0,0]

{"sheet":"B.3. Schieberstationen Ebene 3","index":6,"n_rows":70,"n_cols":18,"rows_kept":70,"cut":false,"hidden":false,"merged":[[0,2,0,11]]}
["Netzbetreiber:",null,{"$f":"'A.1. Rohrleitungen Ebene 1'!C1:L1","v":"Bitte Auswählen"}]
[]
["B.3.","Schieberstationen Ebene 3"]
[]
["B.3.1.","Abschreibungsdauer in Jahren",null,null,null,null,null,null,null,null,0]
[]
["B.3.2.","Historische Anschaffungskosten gegliedert nach dem Jahr des Zugangs"]
[]
[null,"Jahr","Anzahl der Schieberstationen","AHK bestehender Anlagen in TEUR (2012)","Zugänge (2013) / Abgänge Altanlagen in TEUR ","AHK bestehender Anlagen in TEUR (2013)","Buchwerte (Ende 2012) in TEUR","Buchwerte (Ende 2013) in TEUR","Buchwerte abgeg. Anlagen in TEUR (2013)","Jahres-AFA (2013)","AFA - Dauer in Jahren","Kommentar","Buchwert-Anfang 2005","Alternative RND","Alternative AFA","Alternativer BW Ende","Anteil abgeg. Anlagen seit 2005","AHK der bestehenden Anlage 2005"]
[]
[1,2013,0,0,0,{"$f":"E11+D11","v":0},0,0,0,0,{"$f":"$K$5","v":0}]
[{"$f":"A11+1","v":2},{"$f":"B11-1","v":2012},0,0,0,{"$f":"E12+D12","v":0},0,0,0,0,0]
[3,2011,0,0,0,{"$f":"E13+D13","v":0},0,0,0,0,0,null,0,0,0,0,0,0]
[4,2010,0,0,0,0,0,0,0,0,0,null,0,0,0,0,0,0]
[5,2009,0,0,0,0,0,0,0,0,0,null,0,0,0,0,0,0]
[6,2008,0,0,0,0,0,0,0,0,0,null,0,0,0,0,0,0]
[7,2007,0,0,0,0,0,0,0,0,0,null,0,0,0,0,0,0]
[8,2006,0,0,0,0,0,0,0,0,0,null,0,0,0,0,0,0]
[9,2005,0,0,0,0,0,0,0,0,0,null,0,0,0,0,0,0]
[10,2004,0,0,0,0,0,0,0,0,0,null,0,0,0,0,0,0]
[11,2003,0,0,0,0,0,0,0,0,0,null,0,0,0,0,0,0]
[12,2002,0,0,0,0,0,0,0,0,0,null,0,0,0,0,0,0]
[13,2001,0,0,0,0,0,0,0,0,0,null,0,0,0,0,0,0]
[14,2000,0,0,0,0,0,0,0,0,0,null,0,0,0,0,0,0]
[15,1999,0,0,0,0,0,0,0,0,0,null,0,0,0,0,0,0]
[16,1998,0,0,0,0,0,0,0,0,0,null,0,0,0,0,0,0]
[17,1997,0,0,0,0,0,0,0,0,0,null,0,0,0,0,0,0]
[18,1996,0,0,0,0,0,0,0,0,0,null,0,0,0,0,0,0]
[19,1995,0,0,0,0,0,0,0,0,0,null,0,0,0,0,0,0]
[20,1994,0,0,0,0,0,0,0,0,0,null,0,0,0,0,0,0]
[21,1993,0,0,0,0,0,0,0,0,0,null,0,0,0,0,0,0]
[22,1992,0,0,0,0,0,0,0,0,0,null,0,0,0,0,0,0]
[23,1991,0,0,0,0,0,0,0,0,0,null,0,0,0,0,0,0]
[24,1990,0,0,0,0,0,0,0,0,0,null,0,0,0,0,0,0]
[25,1989,0,0,0,0,0,0,0,0,0,null,0,0,0,0,0,0]
[26,1988,0,0,0,0,0,0,0,0,0,null,0,0,0,0,0,0]
[27,1987,0,0,0,0,0,0,0,0,0,null,0,0,0,0,0,0]
[28,1986,0,0,0,0,0,0,0,0,0,null,0,0,0,0,0,0]
[29,1985,0,0,0,0,0,0,0,0,0,null,0,0,0,0,0,0]
[30,1984,0,0,0,0,0,0,0,0,0,null,0,0,0,0,0,0]
[31,1983,0,0,0,0,0,0,0,0,0,null,0,0,0,0,0,0]
[32,1982,0,0,0,0,0,0,0,0,0,null,0,0,0,0,0,0]
[33,1981,0,0,0,0,0,0,0,0,0,null,0,0,0,0,0,0]
[34,1980,0,0,0,0,0,0,0,0,0,null,0,0,0,0,0,0]
[35,1979,0,0,0,0,0,0,0,0,{"$f":"$K$5","v":0},null,0,0,0,0,0,0]
[{"$f":"A45+1","v":36},{"$f":"B45-1","v":1978},0,0,0,0,0,0,0,0,0,null,0,0,0,0,0,0]
[37,1977,0,0,0,0,0,0,0,0,0,null,0,0,0,0,0,0]
[38,1976,0,0,0,0,0,0,0,0,0,null,0,0,0,0,0,0]
[39,1975,0,0,0,0,0,0,0,0,0,null,0,0,0,0,0,0]
[40,1974,0,0,0,0,0,0,0,0,0,null,0,0,0,0,0,0]
[41,1973,0,0,0,0,0,0,0,0,0,null,0,0,0,0,0,0]
[42,1972,0,0,0,0,0,0,0,0,0,null,0,0,0,0,0,0]
[43,1971,0,0,0,0,0,0,0,0,0,null,0,0,0,0,0,0]
[44,1970,0,0,0,0,0,0,0,0,0,null,0,0,0,0,0,0]
[45,1969,0,0,0,0,0,0,0,0,0,null,0,0,0,0,0,0]
[46,1968,0,0,0,0,0,0,0,0,0,null,0,0,0,0,0,0]
[47,1967,0,0,0,0,0,0,0,0,0,null,0,0,0,0,0,0]
[48,1966,0,0,0,0,0,0,0,0,0,null,0,0,0,0,0,0]
[49,1965,0,0,0,0,0,0,0,0,0,null,0,0,0,0,0,0]
[50,1964,0,0,0,0,0,0,0,0,0,null,0,0,0,0,0,0]
[51,1963,0,0,0,0,0,0,0,0,0,null,0,0,0,0,0,0]
[52,1962,0,0,0,0,0,0,0,0,0,null,0,0,0,0,0,0]
[53,1961,0,0,0,0,0,0,0,0,0,null,0,0,0,0,0,0]
[54,1960,0,0,0,0,0,0,0,0,0,null,0,0,0,0,0,0]
[55,1959,0,0,0,0,0,0,0,0,0,null,0,0,0,0,0,0]
[56,1958,0,0,0,0,0,0,0,0,0,null,0,0,0,0,0,0]
[57,1957,0,0,0,0,0,0,0,0,0,null,0,0,0,0,0,0]
[58,1956,0,0,0,0,0,0,0,0,0,null,0,0,0,0,0,0]
[59,"älter",0,0,0,0,0,0,0,0,0,null,0,0,0,0,0,0]
[60,"Summe",{"$f":"SUM(C12:C69)","v":0},{"$f":"SUM(D11:D69)","v":0},0,0,0,0,0,0]

{"sheet":"C.1. GDRAs Ebene 1","index":7,"n_rows":70,"n_cols":18,"rows_kept":70,"cut":false,"hidden":false,"merged":[[0,2,0,11]]}
["Netzbetreiber:",null,{"$f":"'A.1. Rohrleitungen Ebene 1'!C1:L1","v":"Bitte Auswählen"}]
[]
["C.1.","GDRAs (Gasdruckreduzieranlagen) Ebene 1"]
[]
["C.1.1.","Abschreibungsdauer in Jahren",null,null,null,null,null,null,null,null,0]
[]
["C.1.2.","Historische Anschaffungskosten gegliedert nach dem Jahr des Zugangs"]
[]
[null,"Jahr","Anzahl der GDRAs","AHK bestehender Anlagen in TEUR (2012)","Zugänge (2013) / Abgänge Altanlagen in TEUR ","AHK bestehender Anlagen in TEUR (2013)","Buchwerte (Ende 2012) in TEUR","Buchwerte (Ende 2013) in TEUR","Buchwerte abgeg. Anlagen in TEUR (2013)","Jahres-AFA (2013)","AFA - Dauer in Jahren","Kommentar","Buchwert-Anfang 2005","Alternative RND","Alternative AFA","Alternativer BW Ende","Anteil abgeg. Anlagen seit 2005","AHK der bestehenden Anlage 2005"]
[]
[1,2013,0,0,0,{"$f":"E11+D11","v":0},null,0,0,0,{"$f":"$K$5","v":0}]
[{"$f":"A11+1","v":2},{"$f":"B11-1","v":2012},0,0,0,{"$f":"E12+D12","v":0},0,0,0,0,0]
[3,2011,0,0,0,{"$f":"E13+D13","v":0},0,0,0,0,0,null,0,0,0,0,0,0]
[4,2010,0,0,0,0,0,0,0,0,0,null,0,0,0,0,0,0]
[5,2009,0,0,0,0,0,0,0,0,0,null,0,0,0,0,0,0]
[6,2008,0,0,0,0,0,0,0,0,0,null,0,0,0,0,0,0]
[7,2007,0,0,0,0,0,0,0,0,0,null,0,0,0,0,0,0]
[8,2006,0,0,0,0,0,0,0,0,0,null,0,0,0,0,0,0]
[9,2005,0,0,0,0,0,0,0,0,0,null,0,0,0,0,0,0]
[10,2004,0,0,0,0,0,0,0,0,0,null,0,0,0,0,0,0]
[11,2003,0,0,0,0,0,0,0,0,0,null,0,0,0,0,0,0]
[12,2002,0,0,0,0,0,0,0,0,0,null,0,0,0,0,0,0]
[13,2001,0,0,0,0,0,0,0,0,0,null,0,0,0,0,0,0]
[14,2000,0,0,0,0,0,0,0,0,0,null,0,0,0,0,0,0]
[15,1999,0,0,0,0,0,0,0,0,0,null,0,0,0,0,0,0]
[16,1998,0,0,0,0,0,0,0,0,0,null,0,0,0,0,0,0]
[17,1997,0,0,0,0,0,0,0,0,0,null,0,0,0,0,0,0]
[18,1996,0,0,0,0,0,0,0,0,0,null,0,0,0,0,0,0]
[19,1995,0,0,0,0,0,0,0,0,0,null,0,0,0,0,0,0]
[20,1994,0,0,0,0,0,0,0,0,0,null,0,0,0,0,0,0]
[21,1993,0,0,0,0,0,0,0,0,0,null,0,0,0,0,0,0]
[22,1992,0,0,0,0,0,0,0,0,0,null,0,0,0,0,0,0]
[23,1991,0,0,0,0,0,0,0,0,0,null,0,0,0,0,0,0]
[24,1990,0,0,0,0,0,0,0,0,0,null,0,0,0,0,0,0]
[25,1989,0,0,0,0,0,0,0,0,0,null,0,0,0,0,0,0]
[26,1988,0,0,0,0,0,0,0,0,0,null,0,0,0,0,0,0]
[27,1987,0,0,0,0,0,0,0,0,0,null,0,0,0,0,0,0]
[28,1986,0,0,0,0,0,0,0,0,0,null,0,0,0,0,0,0]
[29,1985,0,0,0,0,0,0,0,0,0,null,0,0,0,0,0,0]
[30,1984,0,0,0,0,0,0,0,0,0,null,0,0,0,0,0,0]
[31,1983,0,0,0,0,0,0,0,0,0,null,0,0,0,0,0,0]
[32,1982,0,0,0,0,0,0,0,0,0,null,0,0,0,0,0,0]
[33,1981,0,0,0,0,0,0,0,0,0,null,0,0,0,0,0,0]
[34,1980,0,0,0,0,0,0,0,0,0,null,0,0,0,0,0,0]
[35,1979,0,0,0,0,0,0,0,0,{"$f":"$K$5","v":0},null,0,0,0,0,0,0]
[{"$f":"A45+1","v":36},{"$f":"B45-1","v":1978},0,0,0,0,0,0,0,0,0,null,0,0,0,0,0,0]
[37,1977,0,0,0,0,0,0,0,0,0,null,0,0,0,0,0,0]
[38,1976,0,0,0,0,0,0,0,0,0,null,0,0,0,0,0,0]
[39,1975,0,0,0,0,0,0,0,0,0,null,0,0,0,0,0,0]
[40,1974,0,0,0,0,0,0,0,0,0,null,0,0,0,0,0,0]
[41,1973,0,0,0,0,0,0,0,0,0,null,0,0,0,0,0,0]
[42,1972,0,0,0,0,0,0,0,0,0,null,0,0,0,0,0,0]
[43,1971,0,0,0,0,0,0,0,0,0,null,0,0,0,0,0,0]
[44,1970,0,0,0,0,0,0,0,0,0,null,0,0,0,0,0,0]
[45,1969,0,0,0,0,0,0,0,0,0,null,0,0,0,0,0,0]
[46,1968,0,0,0,0,0,0,0,0,0,null,0,0,0,0,0,0]
[47,1967,0,0,0,0,0,0,0,0,0,null,0,0,0,0,0,0]
[48,1966,0,0,0,0,0,0,0,0,0,null,0,0,0,0,0,0]
[49,1965,0,0,0,0,0,0,0,0,0,null,0,0,0,0,0,0]
[50,1964,0,0,0,0,0,0,0,0,0,null,0,0,0,0,0,0]
[51,1963,0,0,0,0,0,0,0,0,0,null,0,0,0,0,0,0]
[52,1962,0,0,0,0,0,0,0,0,0,null,0,0,0,0,0,0]
[53,1961,0,0,0,0,0,0,0,0,0,null,0,0,0,0,0,0]
[54,1960,0,0,0,0,0,0,0,0,0,null,0,0,0,0,0,0]
[55,1959,0,0,0,0,0,0,0,0,0,null,0,0,0,0,0,0]
[56,1958,0,0,0,0,0,0,0,0,0,null,0,0,0,0,0,0]
[57,1957,0,0,0,0,0,0,0,0,0,null,0,0,0,0,0,0]
[58,1956,0,0,0,0,0,0,0,0,0,null,0,0,0,0,0,0]
[59,"älter",0,0,0,0,0,0,0,0,0,null,0,0,0,0,0,0]
[60,"Summe",{"$f":"SUM(C12:C69)","v":0},{"$f":"SUM(D11:D69)","v":0},0,0,0,0,0,0]

{"sheet":"C.2. GDRAs Ebene 2","index":8,"n_rows":70,"n_cols":18,"rows_kept":70,"cut":false,"hidden":false,"merged":[[0,2,0,11]]}
["Netzbetreiber:",null,{"$f":"'A.1. Rohrleitungen Ebene 1'!C1:L1","v":"Bitte Auswählen"}]
[]
["C.2","GDRAs (Gasdruckreduzieranlagen) Ebene 2"]
[]
["C.2.1.","Abschreibungsdauer in Jahren",null,null,null,null,null,null,null,null,0]
[]
["C.2.2.","Historische Anschaffungskosten gegliedert nach dem Jahr des Zugangs"]
[]
[null,"Jahr","Anzahl der GDRAs","AHK bestehender Anlagen in TEUR (2012)","Zugänge (2013) / Abgänge Altanlagen in TEUR ","AHK bestehender Anlagen in TEUR (2013)","Buchwerte (Ende 2012) in TEUR","Buchwerte (Ende 2013) in TEUR","Buchwerte abgeg. Anlagen in TEUR (2013)","Jahres-AFA (2013)","AFA - Dauer in Jahren","Kommentar","Buchwert-Anfang 2005","Alternative RND","Alternative AFA","Alternativer BW Ende","Anteil abgeg. Anlagen seit 2005","AHK der bestehenden Anlage 2005"]
[]
[1,2013,0,0,0,{"$f":"E11+D11","v":0},null,0,0,0,{"$f":"$K$5","v":0}]
[{"$f":"A11+1","v":2},{"$f":"B11-1","v":2012},0,0,0,{"$f":"E12+D12","v":0},0,0,0,0,0]
[3,2011,0,0,0,{"$f":"E13+D13","v":0},0,0,0,0,0,null,0,0,0,0,0,0]
[4,2010,0,0,0,0,0,0,0,0,0,null,0,0,0,0,0,0]
[5,2009,0,0,0,0,0,0,0,0,0,null,0,0,0,0,0,0]
[6,2008,0,0,0,0,0,0,0,0,0,null,0,0,0,0,0,0]
[7,2007,0,0,0,0,0,0,0,0,0,null,0,0,0,0,0,0]
[8,2006,0,0,0,0,0,0,0,0,0,null,0,0,0,0,0,0]
[9,2005,0,0,0,0,0,0,0,0,0,null,0,0,0,0,0,0]
[10,2004,0,0,0,0,0,0,0,0,0,null,0,0,0,0,0,0]
[11,2003,0,0,0,0,0,0,0,0,0,null,0,0,0,0,0,0]
[12,2002,0,0,0,0,0,0,0,0,0,null,0,0,0,0,0,0]
[13,2001,0,0,0,0,0,0,0,0,0,null,0,0,0,0,0,0]
[14,2000,0,0,0,0,0,0,0,0,0,null,0,0,0,0,0,0]
[15,1999,0,0,0,0,0,0,0,0,0,null,0,0,0,0,0,0]
[16,1998,0,0,0,0,0,0,0,0,0,null,0,0,0,0,0,0]
[17,1997,0,0,0,0,0,0,0,0,0,null,0,0,0,0,0,0]
[18,1996,0,0,0,0,0,0,0,0,0,null,0,0,0,0,0,0]
[19,1995,0,0,0,0,0,0,0,0,0,null,0,0,0,0,0,0]
[20,1994,0,0,0,0,0,0,0,0,0,null,0,0,0,0,0,0]
[21,1993,0,0,0,0,0,0,0,0,0,null,0,0,0,0,0,0]
[22,1992,0,0,0,0,0,0,0,0,0,null,0,0,0,0,0,0]
[23,1991,0,0,0,0,0,0,0,0,0,null,0,0,0,0,0,0]
[24,1990,0,0,0,0,0,0,0,0,0,null,0,0,0,0,0,0]
[25,1989,0,0,0,0,0,0,0,0,0,null,0,0,0,0,0,0]
[26,1988,0,0,0,0,0,0,0,0,0,null,0,0,0,0,0,0]
[27,1987,0,0,0,0,0,0,0,0,0,null,0,0,0,0,0,0]
[28,1986,0,0,0,0,0,0,0,0,0,null,0,0,0,0,0,0]
[29,1985,0,0,0,0,0,0,0,0,0,null,0,0,0,0,0,0]
[30,1984,0,0,0,0,0,0,0,0,0,null,0,0,0,0,0,0]
[31,1983,0,0,0,0,0,0,0,0,0,null,0,0,0,0,0,0]
[32,1982,0,0,0,0,0,0,0,0,0,null,0,0,0,0,0,0]
[33,1981,0,0,0,0,0,0,0,0,0,null,0,0,0,0,0,0]
[34,1980,0,0,0,0,0,0,0,0,0,null,0,0,0,0,0,0]
[35,1979,0,0,0,0,0,0,0,0,{"$f":"$K$5","v":0},null,0,0,0,0,0,0]
[{"$f":"A45+1","v":36},{"$f":"B45-1","v":1978},0,0,0,0,0,0,0,0,0,null,0,0,0,0,0,0]
[37,1977,0,0,0,0,0,0,0,0,0,null,0,0,0,0,0,0]
[38,1976,0,0,0,0,0,0,0,0,0,null,0,0,0,0,0,0]
[39,1975,0,0,0,0,0,0,0,0,0,null,0,0,0,0,0,0]
[40,1974,0,0,0,0,0,0,0,0,0,null,0,0,0,0,0,0]
[41,1973,0,0,0,0,0,0,0,0,0,null,0,0,0,0,0,0]
[42,1972,0,0,0,0,0,0,0,0,0,null,0,0,0,0,0,0]
[43,1971,0,0,0,0,0,0,0,0,0,null,0,0,0,0,0,0]
[44,1970,0,0,0,0,0,0,0,0,0,null,0,0,0,0,0,0]
[45,1969,0,0,0,0,0,0,0,0,0,null,0,0,0,0,0,0]
[46,1968,0,0,0,0,0,0,0,0,0,null,0,0,0,0,0,0]
[47,1967,0,0,0,0,0,0,0,0,0,null,0,0,0,0,0,0]
[48,1966,0,0,0,0,0,0,0,0,0,null,0,0,0,0,0,0]
[49,1965,0,0,0,0,0,0,0,0,0,null,0,0,0,0,0,0]
[50,1964,0,0,0,0,0,0,0,0,0,null,0,0,0,0,0,0]
[51,1963,0,0,0,0,0,0,0,0,0,null,0,0,0,0,0,0]
[52,1962,0,0,0,0,0,0,0,0,0,null,0,0,0,0,0,0]
[53,1961,0,0,0,0,0,0,0,0,0,null,0,0,0,0,0,0]
[54,1960,0,0,0,0,0,0,0,0,0,null,0,0,0,0,0,0]
[55,1959,0,0,0,0,0,0,0,0,0,null,0,0,0,0,0,0]
[56,1958,0,0,0,0,0,0,0,0,0,null,0,0,0,0,0,0]
[57,1957,0,0,0,0,0,0,0,0,0,null,0,0,0,0,0,0]
[58,1956,0,0,0,0,0,0,0,0,0,null,0,0,0,0,0,0]
[59,"älter",0,0,0,0,0,0,0,0,0,null,0,0,0,0,0,0]
[60,"Summe",{"$f":"SUM(C12:C69)","v":0},{"$f":"SUM(D11:D69)","v":0},0,0,0,0,0,0]

{"sheet":"C.3. GDRAs Ebene 3","index":9,"n_rows":70,"n_cols":18,"rows_kept":70,"cut":false,"hidden":false,"merged":[[0,2,0,11]]}
["Netzbetreiber:",null,{"$f":"'A.1. Rohrleitungen Ebene 1'!C1:L1","v":"Bitte Auswählen"}]
[]
["C.3.","GDRAs (Gasdruckreduzieranlagen) Ebene 3"]
[]
["C.3.1.","Abschreibungsdauer in Jahren",null,null,null,null,null,null,null,null,0]
[]
["C.3.2.","Historische Anschaffungskosten gegliedert nach dem Jahr des Zugangs"]
[]
[null,"Jahr","Anzahl der GDRAs","AHK bestehender Anlagen in TEUR (2012)","Zugänge (2013) / Abgänge Altanlagen in TEUR ","AHK bestehender Anlagen in TEUR (2013)","Buchwerte (Ende 2012) in TEUR","Buchwerte (Ende 2013) in TEUR","Buchwerte abgeg. Anlagen in TEUR (2013)","Jahres-AFA (2013)","AFA - Dauer in Jahren","Kommentar","Buchwert-Anfang 2005","Alternative RND","Alternative AFA","Alternativer BW Ende","Anteil abgeg. Anlagen seit 2005","AHK der bestehenden Anlage 2005"]
[]
[1,2013,0,0,0,{"$f":"E11+D11","v":0},0,0,0,0,{"$f":"$K$5","v":0}]
[{"$f":"A11+1","v":2},{"$f":"B11-1","v":2012},0,0,0,{"$f":"E12+D12","v":0},0,0,0,0,0]
[3,2011,0,0,0,{"$f":"E13+D13","v":0},0,0,0,0,0,null,0,0,0,0,0,0]
[4,2010,0,0,0,0,0,0,0,0,0,null,0,0,0,0,0,0]
[5,2009,0,0,0,0,0,0,0,0,0,null,0,0,0,0,0,0]
[6,2008,0,0,0,0,0,0,0,0,0,null,0,0,0,0,0,0]
[7,2007,0,0,0,0,0,0,0,0,0,null,0,0,0,0,0,0]
[8,2006,0,0,0,0,0,0,0,0,0,null,0,0,0,0,0,0]
[9,2005,0,0,0,0,0,0,0,0,0,null,0,0,0,0,0,0]
[10,2004,0,0,0,0,0,0,0,0,0,null,0,0,0,0,0,0]
[11,2003,0,0,0,0,0,0,0,0,0,null,0,0,0,0,0,0]
[12,2002,0,0,0,0,0,0,0,0,0,null,0,0,0,0,0,0]
[13,2001,0,0,0,0,0,0,0,0,0,null,0,0,0,0,0,0]
[14,2000,0,0,0,0,0,0,0,0,0,null,0,0,0,0,0,0]
[15,1999,0,0,0,0,0,0,0,0,0,null,0,0,0,0,0,0]
[16,1998,0,0,0,0,0,0,0,0,0,null,0,0,0,0,0,0]
[17,1997,0,0,0,0,0,0,0,0,0,null,0,0,0,0,0,0]
[18,1996,0,0,0,0,0,0,0,0,0,null,0,0,0,0,0,0]
[19,1995,0,0,0,0,0,0,0,0,0,null,0,0,0,0,0,0]
[20,1994,0,0,0,0,0,0,0,0,0,null,0,0,0,0,0,0]
[21,1993,0,0,0,0,0,0,0,0,0,null,0,0,0,0,0,0]
[22,1992,0,0,0,0,0,0,0,0,0,null,0,0,0,0,0,0]
[23,1991,0,0,0,0,0,0,0,0,0,null,0,0,0,0,0,0]
[24,1990,0,0,0,0,0,0,0,0,0,null,0,0,0,0,0,0]
[25,1989,0,0,0,0,0,0,0,0,0,null,0,0,0,0,0,0]
[26,1988,0,0,0,0,0,0,0,0,0,null,0,0,0,0,0,0]
[27,1987,0,0,0,0,0,0,0,0,0,null,0,0,0,0,0,0]
[28,1986,0,0,0,0,0,0,0,0,0,null,0,0,0,0,0,0]
[29,1985,0,0,0,0,0,0,0,0,0,null,0,0,0,0,0,0]
[30,1984,0,0,0,0,0,0,0,0,0,null,0,0,0,0,0,0]
[31,1983,0,0,0,0,0,0,0,0,0,null,0,0,0,0,0,0]
[32,1982,0,0,0,0,0,0,0,0,0,null,0,0,0,0,0,0]
[33,1981,0,0,0,0,0,0,0,0,0,null,0,0,0,0,0,0]
[34,1980,0,0,0,0,0,0,0,0,0,null,0,0,0,0,0,0]
[35,1979,0,0,0,0,0,0,0,0,{"$f":"$K$5","v":0},null,0,0,0,0,0,0]
[{"$f":"A45+1","v":36},{"$f":"B45-1","v":1978},0,0,0,0,0,0,0,0,0,null,0,0,0,0,0,0]
[37,1977,0,0,0,0,0,0,0,0,0,null,0,0,0,0,0,0]
[38,1976,0,0,0,0,0,0,0,0,0,null,0,0,0,0,0,0]
[39,1975,0,0,0,0,0,0,0,0,0,null,0,0,0,0,0,0]
[40,1974,0,0,0,0,0,0,0,0,0,null,0,0,0,0,0,0]
[41,1973,0,0,0,0,0,0,0,0,0,null,0,0,0,0,0,0]
[42,1972,0,0,0,0,0,0,0,0,0,null,0,0,0,0,0,0]
[43,1971,0,0,0,0,0,0,0,0,0,null,0,0,0,0,0,0]
[44,1970,0,0,0,0,0,0,0,0,0,null,0,0,0,0,0,0]
[45,1969,0,0,0,0,0,0,0,0,0,null,0,0,0,0,0,0]
[46,1968,0,0,0,0,0,0,0,0,0,null,0,0,0,0,0,0]
[47,1967,0,0,0,0,0,0,0,0,0,null,0,0,0,0,0,0]
[48,1966,0,0,0,0,0,0,0,0,0,null,0,0,0,0,0,0]
[49,1965,0,0,0,0,0,0,0,0,0,null,0,0,0,0,0,0]
[50,1964,0,0,0,0,0,0,0,0,0,null,0,0,0,0,0,0]
[51,1963,0,0,0,0,0,0,0,0,0,null,0,0,0,0,0,0]
[52,1962,0,0,0,0,0,0,0,0,0,null,0,0,0,0,0,0]
[53,1961,0,0,0,0,0,0,0,0,0,null,0,0,0,0,0,0]
[54,1960,0,0,0,0,0,0,0,0,0,null,0,0,0,0,0,0]
[55,1959,0,0,0,0,0,0,0,0,0,null,0,0,0,0,0,0]
[56,1958,0,0,0,0,0,0,0,0,0,null,0,0,0,0,0,0]
[57,1957,0,0,0,0,0,0,0,0,0,null,0,0,0,0,0,0]
[58,1956,0,0,0,0,0,0,0,0,0,null,0,0,0,0,0,0]
[59,"älter",0,0,0,0,0,0,0,0,0,null,0,0,0,0,0,0]
[60,"Summe",{"$f":"SUM(C12:C69)","v":0},{"$f":"SUM(D11:D69)","v":0},0,0,0,0,0,0]

{"sheet":"D.1. Verdichter Ebene 1","index":10,"n_rows":70,"n_cols":18,"rows_kept":70,"cut":false,"hidden":false,"merged":[[0,2,0,11]]}
["Netzbetreiber:",null,{"$f":"'A.1. Rohrleitungen Ebene 1'!C1:L1","v":"Bitte Auswählen"}]
[]
["D.1.","Verdichter Ebene 1"]
[]
["D.1.1.","Abschreibungsdauer in Jahren",null,null,null,null,null,null,null,null,0]
[]
["D.1.2.","Historische Anschaffungskosten gegliedert nach dem Jahr des Zugangs"]
[]
[null,"Jahr","Anzahl der Verdichter","AHK bestehender Anlagen in TEUR (2012)","Zugänge (2013) / Abgänge Altanlagen in TEUR ","AHK bestehender Anlagen in TEUR (2013)","Buchwerte (Ende 2012) in TEUR","Buchwerte (Ende 2013) in TEUR","Buchwerte abgeg. Anlagen in TEUR (2013)","Jahres-AFA (2013)","AFA - Dauer in Jahren","Kommentar","Buchwert-Anfang 2005","Alternative RND","Alternative AFA","Alternativer BW Ende","Anteil abgeg. Anlagen seit 2005","AHK der bestehenden Anlage 2005"]
[]
[1,2013,0,0,0,{"$f":"E11+D11","v":0},0,0,0,0,{"$f":"$K$5","v":0}]
[{"$f":"A11+1","v":2},{"$f":"B11-1","v":2012},0,0,0,{"$f":"E12+D12","v":0},0,0,0,0,0]
[3,2011,0,0,0,{"$f":"E13+D13","v":0},0,0,0,0,0,null,0,0,0,0,0,0]
[4,2010,0,0,0,0,0,0,0,0,0,null,0,0,0,0,0,0]
[5,2009,0,0,0,0,0,0,0,0,0,null,0,0,0,0,0,0]
[6,2008,0,0,0,0,0,0,0,0,0,null,0,0,0,0,0,0]
[7,2007,0,0,0,0,0,0,0,0,0,null,0,0,0,0,0,0]
[8,2006,0,0,0,0,0,0,0,0,0,null,0,0,0,0,0,0]
[9,2005,0,0,0,0,0,0,0,0,0,null,0,0,0,0,0,0]
[10,2004,0,0,0,0,0,0,0,0,0,null,0,0,0,0,0,0]
[11,2003,0,0,0,0,0,0,0,0,0,null,0,0,0,0,0,0]
[12,2002,0,0,0,0,0,0,0,0,0,null,0,0,0,0,0,0]
[13,2001,0,0,0,0,0,0,0,0,0,null,0,0,0,0,0,0]
[14,2000,0,0,0,0,0,0,0,0,0,null,0,0,0,0,0,0]
[15,1999,0,0,0,0,0,0,0,0,0,null,0,0,0,0,0,0]
[16,1998,0,0,0,0,0,0,0,0,0,null,0,0,0,0,0,0]
[17,1997,0,0,0,0,0,0,0,0,0,null,0,0,0,0,0,0]
[18,1996,0,0,0,0,0,0,0,0,0,null,0,0,0,0,0,0]
[19,1995,0,0,0,0,0,0,0,0,0,null,0,0,0,0,0,0]
[20,1994,0,0,0,0,0,0,0,0,0,null,0,0,0,0,0,0]
[21,1993,0,0,0,0,0,0,0,0,0,null,0,0,0,0,0,0]
[22,1992,0,0,0,0,0,0,0,0,0,null,0,0,0,0,0,0]
[23,1991,0,0,0,0,0,0,0,0,0,null,0,0,0,0,0,0]
[24,1990,0,0,0,0,0,0,0,0,0,null,0,0,0,0,0,0]
[25,1989,0,0,0,0,0,0,0,0,0,null,0,0,0,0,0,0]
[26,1988,0,0,0,0,0,0,0,0,0,null,0,0,0,0,0,0]
[27,1987,0,0,0,0,0,0,0,0,0,null,0,0,0,0,0,0]
[28,1986,0,0,0,0,0,0,0,0,0,null,0,0,0,0,0,0]
[29,1985,0,0,0,0,0,0,0,0,0,null,0,0,0,0,0,0]
[30,1984,0,0,0,0,0,0,0,0,0,null,0,0,0,0,0,0]
[31,1983,0,0,0,0,0,0,0,0,0,null,0,0,0,0,0,0]
[32,1982,0,0,0,0,0,0,0,0,0,null,0,0,0,0,0,0]
[33,1981,0,0,0,0,0,0,0,0,0,null,0,0,0,0,0,0]
[34,1980,0,0,0,0,0,0,0,0,0,null,0,0,0,0,0,0]
[35,1979,0,0,0,0,0,0,0,0,{"$f":"$K$5","v":0},null,0,0,0,0,0,0]
[{"$f":"A45+1","v":36},{"$f":"B45-1","v":1978},0,0,0,0,0,0,0,0,0,null,0,0,0,0,0,0]
[37,1977,0,0,0,0,0,0,0,0,0,null,0,0,0,0,0,0]
[38,1976,0,0,0,0,0,0,0,0,0,null,0,0,0,0,0,0]
[39,1975,0,0,0,0,0,0,0,0,0,null,0,0,0,0,0,0]
[40,1974,0,0,0,0,0,0,0,0,0,null,0,0,0,0,0,0]
[41,1973,0,0,0,0,0,0,0,0,0,null,0,0,0,0,0,0]
[42,1972,0,0,0,0,0,0,0,0,0,null,0,0,0,0,0,0]
[43,1971,0,0,0,0,0,0,0,0,0,null,0,0,0,0,0,0]
[44,1970,0,0,0,0,0,0,0,0,0,null,0,0,0,0,0,0]
[45,1969,0,0,0,0,0,0,0,0,0,null,0,0,0,0,0,0]
[46,1968,0,0,0,0,0,0,0,0,0,null,0,0,0,0,0,0]
[47,1967,0,0,0,0,0,0,0,0,0,null,0,0,0,0,0,0]
[48,1966,0,0,0,0,0,0,0,0,0,null,0,0,0,0,0,0]
[49,1965,0,0,0,0,0,0,0,0,0,null,0,0,0,0,0,0]
[50,1964,0,0,0,0,0,0,0,0,0,null,0,0,0,0,0,0]
[51,1963,0,0,0,0,0,0,0,0,0,null,0,0,0,0,0,0]
[52,1962,0,0,0,0,0,0,0,0,0,null,0,0,0,0,0,0]
[53,1961,0,0,0,0,0,0,0,0,0,null,0,0,0,0,0,0]
[54,1960,0,0,0,0,0,0,0,0,0,null,0,0,0,0,0,0]
[55,1959,0,0,0,0,0,0,0,0,0,null,0,0,0,0,0,0]
[56,1958,0,0,0,0,0,0,0,0,0,null,0,0,0,0,0,0]
[57,1957,0,0,0,0,0,0,0,0,0,null,0,0,0,0,0,0]
[58,1956,0,0,0,0,0,0,0,0,0,null,0,0,0,0,0,0]
[59,"älter",0,0,0,0,0,0,0,0,0,null,0,0,0,0,0,0]
[60,"Summe",{"$f":"SUM(C12:C69)","v":0},{"$f":"SUM(D11:D69)","v":0},0,0,0,0,0,0]

{"sheet":"D.2. Verdichter Ebene 2","index":11,"n_rows":70,"n_cols":18,"rows_kept":70,"cut":false,"hidden":false,"merged":[[0,2,0,11]]}
["Netzbetreiber:",null,{"$f":"'A.1. Rohrleitungen Ebene 1'!C1:L1","v":"Bitte Auswählen"}]
[]
["D.2.","Verdichter Ebene 2"]
[]
["D.2.1.","Abschreibungsdauer in Jahren",null,null,null,null,null,null,null,null,0]
[]
["D.2.2.","Historische Anschaffungskosten gegliedert nach dem Jahr des Zugangs"]
[]
[null,"Jahr","Anzahl der Verdichter","AHK bestehender Anlagen in TEUR (2012)","Zugänge (2013) / Abgänge Altanlagen in TEUR ","AHK bestehender Anlagen in TEUR (2013)","Buchwerte (Ende 2012) in TEUR","Buchwerte (Ende 2013) in TEUR","Buchwerte abgeg. Anlagen in TEUR (2013)","Jahres-AFA (2013)","AFA - Dauer in Jahren","Kommentar","Buchwert-Anfang 2005","Alternative RND","Alternative AFA","Alternativer BW Ende","Anteil abgeg. Anlagen seit 2005","AHK der bestehenden Anlage 2005"]
[]
[1,2013,0,0,9,{"$f":"E11+D11","v":9},null,0,0,0,{"$f":"$K$5","v":0}]
[{"$f":"A11+1","v":2},{"$f":"B11-1","v":2012},0,0,0,{"$f":"E12+D12","v":0},0,0,0,0,0]
[3,2011,0,0,0,{"$f":"E13+D13","v":0},0,0,0,0,0,null,0,0,0,0,0,0]
[4,2010,0,0,0,0,0,0,0,0,0,null,0,0,0,0,0,0]
[5,2009,0,0,0,0,0,0,0,0,0,null,0,0,0,0,0,0]
[6,2008,0,0,0,0,0,0,0,0,0,null,0,0,0,0,0,0]
[7,2007,0,0,0,0,0,0,0,0,0,null,0,0,0,0,0,0]
[8,2006,0,0,0,0,0,0,0,0,0,null,0,0,0,0,0,0]
[9,2005,0,0,0,0,0,0,0,0,0,null,0,0,0,0,0,0]
[10,2004,0,0,0,0,0,0,0,0,0,null,0,0,0,0,0,0]
[11,2003,0,0,0,0,0,0,0,0,0,null,0,0,0,0,0,0]
[12,2002,0,0,0,0,0,0,0,0,0,null,0,0,0,0,0,0]
[13,2001,0,0,0,0,0,0,0,0,0,null,0,0,0,0,0,0]
[14,2000,0,0,0,0,0,0,0,0,0,null,0,0,0,0,0,0]
[15,1999,0,0,0,0,0,0,0,0,0,null,0,0,0,0,0,0]
[16,1998,0,0,0,0,0,0,0,0,0,null,0,0,0,0,0,0]
[17,1997,0,0,0,0,0,0,0,0,0,null,0,0,0,0,0,0]
[18,1996,0,0,0,0,0,0,0,0,0,null,0,0,0,0,0,0]
[19,1995,0,0,0,0,0,0,0,0,0,null,0,0,0,0,0,0]
[20,1994,0,0,0,0,0,0,0,0,0,null,0,0,0,0,0,0]
[21,1993,0,0,0,0,0,0,0,0,0,null,0,0,0,0,0,0]
[22,1992,0,0,0,0,0,0,0,0,0,null,0,0,0,0,0,0]
[23,1991,0,0,0,0,0,0,0,0,0,null,0,0,0,0,0,0]
[24,1990,0,0,0,0,0,0,0,0,0,null,0,0,0,0,0,0]
[25,1989,0,0,0,0,0,0,0,0,0,null,0,0,0,0,0,0]
[26,1988,0,0,0,0,0,0,0,0,0,null,0,0,0,0,0,0]
[27,1987,0,0,0,0,0,0,0,0,0,null,0,0,0,0,0,0]
[28,1986,0,0,0,0,0,0,0,0,0,null,0,0,0,0,0,0]
[29,1985,0,0,0,0,0,0,0,0,0,null,0,0,0,0,0,0]
[30,1984,0,0,0,0,0,0,0,0,0,null,0,0,0,0,0,0]
[31,1983,0,0,0,0,0,0,0,0,0,null,0,0,0,0,0,0]
[32,1982,0,0,0,0,0,0,0,0,0,null,0,0,0,0,0,0]
[33,1981,0,0,0,0,0,0,0,0,0,null,0,0,0,0,0,0]
[34,1980,0,0,0,0,0,0,0,0,0,null,0,0,0,0,0,0]
[35,1979,0,0,0,0,0,0,0,0,{"$f":"$K$5","v":0},null,0,0,0,0,0,0]
[{"$f":"A45+1","v":36},{"$f":"B45-1","v":1978},0,0,0,0,0,0,0,0,0,null,0,0,0,0,0,0]
[37,1977,0,0,0,0,0,0,0,0,0,null,0,0,0,0,0,0]
[38,1976,0,0,0,0,0,0,0,0,0,null,0,0,0,0,0,0]
[39,1975,0,0,0,0,0,0,0,0,0,null,0,0,0,0,0,0]
[40,1974,0,0,0,0,0,0,0,0,0,null,0,0,0,0,0,0]
[41,1973,0,0,0,0,0,0,0,0,0,null,0,0,0,0,0,0]
[42,1972,0,0,0,0,0,0,0,0,0,null,0,0,0,0,0,0]
[43,1971,0,0,0,0,0,0,0,0,0,null,0,0,0,0,0,0]
[44,1970,0,0,0,0,0,0,0,0,0,null,0,0,0,0,0,0]
[45,1969,0,0,0,0,0,0,0,0,0,null,0,0,0,0,0,0]
[46,1968,0,0,0,0,0,0,0,0,0,null,0,0,0,0,0,0]
[47,1967,0,0,0,0,0,0,0,0,0,null,0,0,0,0,0,0]
[48,1966,0,0,0,0,0,0,0,0,0,null,0,0,0,0,0,0]
[49,1965,0,0,0,0,0,0,0,0,0,null,0,0,0,0,0,0]
[50,1964,0,0,0,0,0,0,0,0,0,null,0,0,0,0,0,0]
[51,1963,0,0,0,0,0,0,0,0,0,null,0,0,0,0,0,0]
[52,1962,0,0,0,0,0,0,0,0,0,null,0,0,0,0,0,0]
[53,1961,0,0,0,0,0,0,0,0,0,null,0,0,0,0,0,0]
[54,1960,0,0,0,0,0,0,0,0,0,null,0,0,0,0,0,0]
[55,1959,0,0,0,0,0,0,0,0,0,null,0,0,0,0,0,0]
[56,1958,0,0,0,0,0,0,0,0,0,null,0,0,0,0,0,0]
[57,1957,0,0,0,0,0,0,0,0,0,null,0,0,0,0,0,0]
[58,1956,0,0,0,0,0,0,0,0,0,null,0,0,0,0,0,0]
[59,"älter",0,0,0,0,0,0,0,0,0,null,0,0,0,0,0,0]
[60,"Summe",{"$f":"SUM(C12:C69)","v":0},{"$f":"SUM(D11:D69)","v":0},9,9,0,0,0,0]

{"sheet":"D.3. Verdichter Ebene 3","index":12,"n_rows":70,"n_cols":18,"rows_kept":70,"cut":false,"hidden":false,"merged":[[0,2,0,11]]}
["Netzbetreiber:",null,{"$f":"'A.1. Rohrleitungen Ebene 1'!C1:L1","v":"Bitte Auswählen"}]
[]
["D.3","Verdichter Ebene 3"]
[]
["D.3.1.","Abschreibungsdauer in Jahren",null,null,null,null,null,null,null,null,0]
[]
["D.3.2.","Historische Anschaffungskosten gegliedert nach dem Jahr des Zugangs"]
[]
[null,"Jahr","Anzahl der Verdichter","AHK bestehender Anlagen in TEUR (2012)","Zugänge (2013) / Abgänge Altanlagen in TEUR ","AHK bestehender Anlagen in TEUR (2013)","Buchwerte (Ende 2012) in TEUR","Buchwerte (Ende 2013) in TEUR","Buchwerte abgeg. Anlagen in TEUR (2013)","Jahres-AFA (2013)","AFA - Dauer in Jahren","Kommentar","Buchwert-Anfang 2005","Alternative RND","Alternative AFA","Alternativer BW Ende","Anteil abgeg. Anlagen seit 2005","AHK der bestehenden Anlage 2005"]
[]
[1,2013,0,0,0,{"$f":"E11+D11","v":0},0,0,0,0,{"$f":"$K$5","v":0}]
[{"$f":"A11+1","v":2},{"$f":"B11-1","v":2012},0,0,0,{"$f":"E12+D12","v":0},0,0,0,0,0]
[3,2011,0,0,0,{"$f":"E13+D13","v":0},0,0,0,0,0,null,0,0,0,0,0,0]
[4,2010,0,0,0,0,0,0,0,0,0,null,0,0,0,0,0,0]
[5,2009,0,0,0,0,0,0,0,0,0,null,0,0,0,0,0,0]
[6,2008,0,0,0,0,0,0,0,0,0,null,0,0,0,0,0,0]
[7,2007,0,0,0,0,0,0,0,0,0,null,0,0,0,0,0,0]
[8,2006,0,0,0,0,0,0,0,0,0,null,0,0,0,0,0,0]
[9,2005,0,0,0,0,0,0,0,0,0,null,0,0,0,0,0,0]
[10,2004,0,0,0,0,0,0,0,0,0,null,0,0,0,0,0,0]
[11,2003,0,0,0,0,0,0,0,0,0,null,0,0,0,0,0,0]
[12,2002,0,0,0,0,0,0,0,0,0,null,0,0,0,0,0,0]
[13,2001,0,0,0,0,0,0,0,0,0,null,0,0,0,0,0,0]
[14,2000,0,0,0,0,0,0,0,0,0,null,0,0,0,0,0,0]
[15,1999,0,0,0,0,0,0,0,0,0,null,0,0,0,0,0,0]
[16,1998,0,0,0,0,0,0,0,0,0,null,0,0,0,0,0,0]
[17,1997,0,0,0,0,0,0,0,0,0,null,0,0,0,0,0,0]
[18,1996,0,0,0,0,0,0,0,0,0,null,0,0,0,0,0,0]
[19,1995,0,0,0,0,0,0,0,0,0,null,0,0,0,0,0,0]
[20,1994,0,0,0,0,0,0,0,0,0,null,0,0,0,0,0,0]
[21,1993,0,0,0,0,0,0,0,0,0,null,0,0,0,0,0,0]
[22,1992,0,0,0,0,0,0,0,0,0,null,0,0,0,0,0,0]
[23,1991,0,0,0,0,0,0,0,0,0,null,0,0,0,0,0,0]
[24,1990,0,0,0,0,0,0,0,0,0,null,0,0,0,0,0,0]
[25,1989,0,0,0,0,0,0,0,0,0,null,0,0,0,0,0,0]
[26,1988,0,0,0,0,0,0,0,0,0,null,0,0,0,0,0,0]
[27,1987,0,0,0,0,0,0,0,0,0,null,0,0,0,0,0,0]
[28,1986,0,0,0,0,0,0,0,0,0,null,0,0,0,0,0,0]
[29,1985,0,0,0,0,0,0,0,0,0,null,0,0,0,0,0,0]
[30,1984,0,0,0,0,0,0,0,0,0,null,0,0,0,0,0,0]
[31,1983,0,0,0,0,0,0,0,0,0,null,0,0,0,0,0,0]
[32,1982,0,0,0,0,0,0,0,0,0,null,0,0,0,0,0,0]
[33,1981,0,0,0,0,0,0,0,0,0,null,0,0,0,0,0,0]
[34,1980,0,0,0,0,0,0,0,0,0,null,0,0,0,0,0,0]
[35,1979,0,0,0,0,0,0,0,0,{"$f":"$K$5","v":0},null,0,0,0,0,0,0]
[{"$f":"A45+1","v":36},{"$f":"B45-1","v":1978},0,0,0,0,0,0,0,0,0,null,0,0,0,0,0,0]
[37,1977,0,0,0,0,0,0,0,0,0,null,0,0,0,0,0,0]
[38,1976,0,0,0,0,0,0,0,0,0,null,0,0,0,0,0,0]
[39,1975,0,0,0,0,0,0,0,0,0,null,0,0,0,0,0,0]
[40,1974,0,0,0,0,0,0,0,0,0,null,0,0,0,0,0,0]
[41,1973,0,0,0,0,0,0,0,0,0,null,0,0,0,0,0,0]
[42,1972,0,0,0,0,0,0,0,0,0,null,0,0,0,0,0,0]
[43,1971,0,0,0,0,0,0,0,0,0,null,0,0,0,0,0,0]
[44,1970,0,0,0,0,0,0,0,0,0,null,0,0,0,0,0,0]
[45,1969,0,0,0,0,0,0,0,0,0,null,0,0,0,0,0,0]
[46,1968,0,0,0,0,0,0,0,0,0,null,0,0,0,0,0,0]
[47,1967,0,0,0,0,0,0,0,0,0,null,0,0,0,0,0,0]
[48,1966,0,0,0,0,0,0,0,0,0,null,0,0,0,0,0,0]
[49,1965,0,0,0,0,0,0,0,0,0,null,0,0,0,0,0,0]
[50,1964,0,0,0,0,0,0,0,0,0,null,0,0,0,0,0,0]
[51,1963,0,0,0,0,0,0,0,0,0,null,0,0,0,0,0,0]
[52,1962,0,0,0,0,0,0,0,0,0,null,0,0,0,0,0,0]
[53,1961,0,0,0,0,0,0,0,0,0,null,0,0,0,0,0,0]
[54,1960,0,0,0,0,0,0,0,0,0,null,0,0,0,0,0,0]
[55,1959,0,0,0,0,0,0,0,0,0,null,0,0,0,0,0,0]
[56,1958,0,0,0,0,0,0,0,0,0,null,0,0,0,0,0,0]
[57,1957,0,0,0,0,0,0,0,0,0,null,0,0,0,0,0,0]
[58,1956,0,0,0,0,0,0,0,0,0,null,0,0,0,0,0,0]
[59,"älter",0,0,0,0,0,0,0,0,0,null,0,0,0,0,0,0]
[60,"Summe",{"$f":"SUM(C12:C69)","v":0},{"$f":"SUM(D11:D69)","v":0},0,0,0,0,0,0]

{"sheet":"E.1. Baukostenzuschüsse Ebene 1","index":13,"n_rows":70,"n_cols":18,"rows_kept":70,"cut":false,"hidden":false,"merged":[[0,2,0,11]]}
["Netzbetreiber:",null,{"$f":"'A.1. Rohrleitungen Ebene 1'!C1:L1","v":"Bitte Auswählen"}]
[]
["E.1.","Baukostenzuschüsse Ebene 1"]
[]
["E.1.1.","Auflösungsdauer in Jahren",null,null,null,null,null,null,null,null,0]
[]
["E.1.2.","Historische Passivierungsbeträge gegliedert nach dem Jahr des Zugangs"]
[]
[null,"Jahr",null,"AHK bestehender Anlagen in TEUR (2012)","Zugänge (2013) / Abgänge Altanlagen in TEUR ","AHK bestehender Anlagen in TEUR (2013)","Buchwerte (Ende 2012) in TEUR","Buchwerte (Ende 2013) in TEUR","Buchwerte abgeg. Anlagen in TEUR (2013)","Jahres-AFA (2013)","Auflösungs-dauer in Jahren","Kommentar","Buchwert-Anfang 2005","Alternative RND","Alternative AFA","Alternativer BW Ende","Anteil abgeg. Anlagen seit 2005","AHK der bestehenden Anlage 2005"]
[]
[1,2013,null,0,0,{"$f":"E11+D11","v":0},0,0,0,0,{"$f":"$K$5","v":0}]
[{"$f":"A11+1","v":2},{"$f":"B11-1","v":2012},null,0,0,{"$f":"E12+D12","v":0},0,0,0,0,0]
[3,2011,null,0,0,{"$f":"E13+D13","v":0},0,0,0,0,0,null,0,0,0,0,0,0]
[4,2010,null,0,0,0,0,0,0,0,0,null,0,0,0,0,0,0]
[5,2009,null,0,0,0,0,0,0,0,0,null,0,0,0,0,0,0]
[6,2008,null,0,0,0,0,0,0,0,0,null,0,0,0,0,0,0]
[7,2007,null,0,0,0,0,0,0,0,0,null,0,0,0,0,0,0]
[8,2006,null,0,0,0,0,0,0,0,0,null,0,0,0,0,0,0]
[9,2005,null,0,0,0,0,0,0,0,0,null,0,0,0,0,0,0]
[10,2004,null,0,0,0,0,0,0,0,0,null,0,0,0,0,0,0]
[11,2003,null,0,0,0,0,0,0,0,0,null,0,0,0,0,0,0]
[12,2002,null,0,0,0,0,0,0,0,0,null,0,0,0,0,0,0]
[13,2001,null,0,0,0,0,0,0,0,0,null,0,0,0,0,0,0]
[14,2000,null,0,0,0,0,0,0,0,0,null,0,0,0,0,0,0]
[15,1999,null,0,0,0,0,0,0,0,0,null,0,0,0,0,0,0]
[16,1998,null,0,0,0,0,0,0,0,0,null,0,0,0,0,0,0]
[17,1997,null,0,0,0,0,0,0,0,0,null,0,0,0,0,0,0]
[18,1996,null,0,0,0,0,0,0,0,0,null,0,0,0,0,0,0]
[19,1995,null,0,0,0,0,0,0,0,0,null,0,0,0,0,0,0]
[20,1994,null,0,0,0,0,0,0,0,0,null,0,0,0,0,0,0]
[21,1993,null,0,0,0,0,0,0,0,0,null,0,0,0,0,0,0]
[22,1992,null,0,0,0,0,0,0,0,0,null,0,0,0,0,0,0]
[23,1991,null,0,0,0,0,0,0,0,0,null,0,0,0,0,0,0]
[24,1990,null,0,0,0,0,0,0,0,0,null,0,0,0,0,0,0]
[25,1989,null,0,0,0,0,0,0,0,0,null,0,0,0,0,0,0]
[26,1988,null,0,0,0,0,0,0,0,0,null,0,0,0,0,0,0]
[27,1987,null,0,0,0,0,0,0,0,0,null,0,0,0,0,0,0]
[28,1986,null,0,0,0,0,0,0,0,0,null,0,0,0,0,0,0]
[29,1985,null,0,0,0,0,0,0,0,0,null,0,0,0,0,0,0]
[30,1984,null,0,0,0,0,0,0,0,0,null,0,0,0,0,0,0]
[31,1983,null,0,0,0,0,0,0,0,0,null,0,0,0,0,0,0]
[32,1982,null,0,0,0,0,0,0,0,0,null,0,0,0,0,0,0]
[33,1981,null,0,0,0,0,0,0,0,0,null,0,0,0,0,0,0]
[34,1980,null,0,0,0,0,0,0,0,0,null,0,0,0,0,0,0]
[35,1979,null,0,0,0,0,0,0,0,{"$f":"$K$5","v":0},null,0,0,0,0,0,0]
[{"$f":"A45+1","v":36},{"$f":"B45-1","v":1978},null,0,0,0,0,0,0,0,0,null,0,0,0,0,0,0]
[37,1977,null,0,0,0,0,0,0,0,0,null,0,0,0,0,0,0]
[38,1976,null,0,0,0,0,0,0,0,0,null,0,0,0,0,0,0]
[39,1975,null,0,0,0,0,0,0,0,0,null,0,0,0,0,0,0]
[40,1974,null,0,0,0,0,0,0,0,0,null,0,0,0,0,0,0]
[41,1973,null,0,0,0,0,0,0,0,0,null,0,0,0,0,0,0]
[42,1972,null,0,0,0,0,0,0,0,0,null,0,0,0,0,0,0]
[43,1971,null,0,0,0,0,0,0,0,0,null,0,0,0,0,0,0]
[44,1970,null,0,0,0,0,0,0,0,0,null,0,0,0,0,0,0]
[45,1969,null,0,0,0,0,0,0,0,0,null,0,0,0,0,0,0]
[46,1968,null,0,0,0,0,0,0,0,0,null,0,0,0,0,0,0]
[47,1967,null,0,0,0,0,0,0,0,0,null,0,0,0,0,0,0]
[48,1966,null,0,0,0,0,0,0,0,0,null,0,0,0,0,0,0]
[49,1965,null,0,0,0,0,0,0,0,0,null,0,0,0,0,0,0]
[50,1964,null,0,0,0,0,0,0,0,0,null,0,0,0,0,0,0]
[51,1963,null,0,0,0,0,0,0,0,0,null,0,0,0,0,0,0]
[52,1962,null,0,0,0,0,0,0,0,0,null,0,0,0,0,0,0]
[53,1961,null,0,0,0,0,0,0,0,0,null,0,0,0,0,0,0]
[54,1960,null,0,0,0,0,0,0,0,0,null,0,0,0,0,0,0]
[55,1959,null,0,0,0,0,0,0,0,0,null,0,0,0,0,0,0]
[56,1958,null,0,0,0,0,0,0,0,0,null,0,0,0,0,0,0]
[57,1957,null,0,0,0,0,0,0,0,0,null,0,0,0,0,0,0]
[58,1956,null,0,0,0,0,0,0,0,0,null,0,0,0,0,0,0]
[59,"älter",null,0,0,0,0,0,0,0,0,null,0,0,0,0,0,0]
[60,"Summe",{"$f":"SUM(C12:C69)","v":0},{"$f":"SUM(D11:D69)","v":0},0,0,0,0,0,0]

{"sheet":"E.2. Baukostenzuschüsse Ebene 2","index":14,"n_rows":70,"n_cols":18,"rows_kept":70,"cut":false,"hidden":false,"merged":[[0,2,0,11]]}
["Netzbetreiber:",null,{"$f":"'A.1. Rohrleitungen Ebene 1'!C1:L1","v":"Bitte Auswählen"}]
[]
["E.2.","Baukostenzuschüsse Ebene 2"]
[]
["E.2.1.","Auflösungsdauer in Jahren",null,null,null,null,null,null,null,null,0]
[]
["E.2.2.","Historische Passivierungsbeträge gegliedert nach dem Jahr des Zugangs"]
[]
[null,"Jahr",null,"AHK bestehender Anlagen in TEUR (2012)","Zugänge (2013) / Abgänge Altanlagen in TEUR ","AHK bestehender Anlagen in TEUR (2013)","Buchwerte (Ende 2012) in TEUR","Buchwerte (Ende 2013) in TEUR","Buchwerte abgeg. Anlagen in TEUR (2013)","Jahres-AFA (2013)","Auflösungs-dauer in Jahren","Kommentar","Buchwert-Anfang 2005","Alternative RND","Alternative AFA","Alternativer BW Ende","Anteil abgeg. Anlagen seit 2005","AHK der bestehenden Anlage 2005"]
[]
[1,2013,null,0,0,{"$f":"E11+D11","v":0},0,0,0,0,{"$f":"$K$5","v":0}]
[{"$f":"A11+1","v":2},{"$f":"B11-1","v":2012},null,0,0,{"$f":"E12+D12","v":0},0,0,0,0,0]
[3,2011,null,0,0,{"$f":"E13+D13","v":0},0,0,0,0,0,null,0,0,0,0,0,0]
[4,2010,null,0,0,0,0,0,0,0,0,null,0,0,0,0,0,0]
[5,2009,null,0,0,0,0,0,0,0,0,null,0,0,0,0,0,0]
[6,2008,null,0,0,0,0,0,0,0,0,null,0,0,0,0,0,0]
[7,2007,null,0,0,0,0,0,0,0,0,null,0,0,0,0,0,0]
[8,2006,null,0,0,0,0,0,0,0,0,null,0,0,0,0,0,0]
[9,2005,null,0,0,0,0,0,0,0,0,null,0,0,0,0,0,0]
[10,2004,null,0,0,0,0,0,0,0,0,null,0,0,0,0,0,0]
[11,2003,null,0,0,0,0,0,0,0,0,null,0,0,0,0,0,0]
[12,2002,null,0,0,0,0,0,0,0,0,null,0,0,0,0,0,0]
[13,2001,null,0,0,0,0,0,0,0,0,null,0,0,0,0,0,0]
[14,2000,null,0,0,0,0,0,0,0,0,null,0,0,0,0,0,0]
[15,1999,null,0,0,0,0,0,0,0,0,null,0,0,0,0,0,0]
[16,1998,null,0,0,0,0,0,0,0,0,null,0,0,0,0,0,0]
[17,1997,null,0,0,0,0,0,0,0,0,null,0,0,0,0,0,0]
[18,1996,null,0,0,0,0,0,0,0,0,null,0,0,0,0,0,0]
[19,1995,null,0,0,0,0,0,0,0,0,null,0,0,0,0,0,0]
[20,1994,null,0,0,0,0,0,0,0,0,null,0,0,0,0,0,0]
[21,1993,null,0,0,0,0,0,0,0,0,null,0,0,0,0,0,0]
[22,1992,null,0,0,0,0,0,0,0,0,null,0,0,0,0,0,0]
[23,1991,null,0,0,0,0,0,0,0,0,null,0,0,0,0,0,0]
[24,1990,null,0,0,0,0,0,0,0,0,null,0,0,0,0,0,0]
[25,1989,null,0,0,0,0,0,0,0,0,null,0,0,0,0,0,0]
[26,1988,null,0,0,0,0,0,0,0,0,null,0,0,0,0,0,0]
[27,1987,null,0,0,0,0,0,0,0,0,null,0,0,0,0,0,0]
[28,1986,null,0,0,0,0,0,0,0,0,null,0,0,0,0,0,0]
[29,1985,null,0,0,0,0,0,0,0,0,null,0,0,0,0,0,0]
[30,1984,null,0,0,0,0,0,0,0,0,null,0,0,0,0,0,0]
[31,1983,null,0,0,0,0,0,0,0,0,null,0,0,0,0,0,0]
[32,1982,null,0,0,0,0,0,0,0,0,null,0,0,0,0,0,0]
[33,1981,null,0,0,0,0,0,0,0,0,null,0,0,0,0,0,0]
[34,1980,null,0,0,0,0,0,0,0,0,null,0,0,0,0,0,0]
[35,1979,null,0,0,0,0,0,0,0,{"$f":"$K$5","v":0},null,0,0,0,0,0,0]
[{"$f":"A45+1","v":36},{"$f":"B45-1","v":1978},null,0,0,0,0,0,0,0,0,null,0,0,0,0,0,0]
[37,1977,null,0,0,0,0,0,0,0,0,null,0,0,0,0,0,0]
[38,1976,null,0,0,0,0,0,0,0,0,null,0,0,0,0,0,0]
[39,1975,null,0,0,0,0,0,0,0,0,null,0,0,0,0,0,0]
[40,1974,null,0,0,0,0,0,0,0,0,null,0,0,0,0,0,0]
[41,1973,null,0,0,0,0,0,0,0,0,null,0,0,0,0,0,0]
[42,1972,null,0,0,0,0,0,0,0,0,null,0,0,0,0,0,0]
[43,1971,null,0,0,0,0,0,0,0,0,null,0,0,0,0,0,0]
[44,1970,null,0,0,0,0,0,0,0,0,null,0,0,0,0,0,0]
[45,1969,null,0,0,0,0,0,0,0,0,null,0,0,0,0,0,0]
[46,1968,null,0,0,0,0,0,0,0,0,null,0,0,0,0,0,0]
[47,1967,null,0,0,0,0,0,0,0,0,null,0,0,0,0,0,0]
[48,1966,null,0,0,0,0,0,0,0,0,null,0,0,0,0,0,0]
[49,1965,null,0,0,0,0,0,0,0,0,null,0,0,0,0,0,0]
[50,1964,null,0,0,0,0,0,0,0,0,null,0,0,0,0,0,0]
[51,1963,null,0,0,0,0,0,0,0,0,null,0,0,0,0,0,0]
[52,1962,null,0,0,0,0,0,0,0,0,null,0,0,0,0,0,0]
[53,1961,null,0,0,0,0,0,0,0,0,null,0,0,0,0,0,0]
[54,1960,null,0,0,0,0,0,0,0,0,null,0,0,0,0,0,0]
[55,1959,null,0,0,0,0,0,0,0,0,null,0,0,0,0,0,0]
[56,1958,null,0,0,0,0,0,0,0,0,null,0,0,0,0,0,0]
[57,1957,null,0,0,0,0,0,0,0,0,null,0,0,0,0,0,0]
[58,1956,null,0,0,0,0,0,0,0,0,null,0,0,0,0,0,0]
[59,"älter",null,0,0,0,0,0,0,0,0,null,0,0,0,0,0,0]
[60,"Summe",{"$f":"SUM(C12:C69)","v":0},{"$f":"SUM(D11:D69)","v":0},0,0,0,0,0,0]

{"sheet":"E.3. Baukostenzuschüsse Ebene 3","index":15,"n_rows":70,"n_cols":18,"rows_kept":70,"cut":false,"hidden":false,"merged":[[0,2,0,11]]}
["Netzbetreiber:",null,{"$f":"'A.1. Rohrleitungen Ebene 1'!C1:L1","v":"Bitte Auswählen"}]
[]
["E.3.","Baukostenzuschüsse Ebene 3"]
[]
["E.3.1.","Auflösungsdauer in Jahren",null,null,null,null,null,null,null,null,0]
[]
["E.3.2.","Historische Passivierungsbeträge gegliedert nach dem Jahr des Zugangs"]
[]
[null,"Jahr",null,"AHK bestehender Anlagen in TEUR (2012)","Zugänge (2013) / Abgänge Altanlagen in TEUR ","AHK bestehender Anlagen in TEUR (2013)","Buchwerte (Ende 2012) in TEUR","Buchwerte (Ende 2013) in TEUR","Buchwerte abgeg. Anlagen in TEUR (2013)","Jahres-AFA (2013)","Auflösungs-dauer in Jahren","Kommentar","Buchwert-Anfang 2005","Alternative RND","Alternative AFA","Alternativer BW Ende","Anteil abgeg. Anlagen seit 2005","AHK der bestehenden Anlage 2005"]
[]
[1,2013,null,0,0,{"$f":"E11+D11","v":0},0,0,0,0,{"$f":"$K$5","v":0}]
[{"$f":"A11+1","v":2},{"$f":"B11-1","v":2012},null,0,0,{"$f":"E12+D12","v":0},0,0,0,0,0]
[3,2011,null,0,0,{"$f":"E13+D13","v":0},0,0,0,0,0,null,0,0,0,0,0,0]
[4,2010,null,0,0,0,0,0,0,0,0,null,0,0,0,0,0,0]
[5,2009,null,0,0,0,0,0,0,0,0,null,0,0,0,0,0,0]
[6,2008,null,0,0,0,0,0,0,0,0,null,0,0,0,0,0,0]
[7,2007,null,0,0,0,0,0,0,0,0,null,0,0,0,0,0,0]
[8,2006,null,0,0,0,0,0,0,0,0,null,0,0,0,0,0,0]
[9,2005,null,0,0,0,0,0,0,0,0,null,0,0,0,0,0,0]
[10,2004,null,0,0,0,0,0,0,0,0,null,0,0,0,0,0,0]
[11,2003,null,0,0,0,0,0,0,0,0,null,0,0,0,0,0,0]
[12,2002,null,0,0,0,0,0,0,0,0,null,0,0,0,0,0,0]
[13,2001,null,0,0,0,0,0,0,0,0,null,0,0,0,0,0,0]
[14,2000,null,0,0,0,0,0,0,0,0,null,0,0,0,0,0,0]
[15,1999,null,0,0,0,0,0,0,0,0,null,0,0,0,0,0,0]
[16,1998,null,0,0,0,0,0,0,0,0,null,0,0,0,0,0,0]
[17,1997,null,0,0,0,0,0,0,0,0,null,0,0,0,0,0,0]
[18,1996,null,0,0,0,0,0,0,0,0,null,0,0,0,0,0,0]
[19,1995,null,0,0,0,0,0,0,0,0,null,0,0,0,0,0,0]
[20,1994,null,0,0,0,0,0,0,0,0,null,0,0,0,0,0,0]
[21,1993,null,0,0,0,0,0,0,0,0,null,0,0,0,0,0,0]
[22,1992,null,0,0,0,0,0,0,0,0,null,0,0,0,0,0,0]
[23,1991,null,0,0,0,0,0,0,0,0,null,0,0,0,0,0,0]
[24,1990,null,0,0,0,0,0,0,0,0,null,0,0,0,0,0,0]
[25,1989,null,0,0,0,0,0,0,0,0,null,0,0,0,0,0,0]
[26,1988,null,0,0,0,0,0,0,0,0,null,0,0,0,0,0,0]
[27,1987,null,0,0,0,0,0,0,0,0,null,0,0,0,0,0,0]
[28,1986,null,0,0,0,0,0,0,0,0,null,0,0,0,0,0,0]
[29,1985,null,0,0,0,0,0,0,0,0,null,0,0,0,0,0,0]
[30,1984,null,0,0,0,0,0,0,0,0,null,0,0,0,0,0,0]
[31,1983,null,0,0,0,0,0,0,0,0,null,0,0,0,0,0,0]
[32,1982,null,0,0,0,0,0,0,0,0,null,0,0,0,0,0,0]
[33,1981,null,0,0,0,0,0,0,0,0,null,0,0,0,0,0,0]
[34,1980,null,0,0,0,0,0,0,0,0,null,0,0,0,0,0,0]
[35,1979,null,0,0,0,0,0,0,0,{"$f":"$K$5","v":0},null,0,0,0,0,0,0]
[{"$f":"A45+1","v":36},{"$f":"B45-1","v":1978},null,0,0,0,0,0,0,0,0,null,0,0,0,0,0,0]
[37,1977,null,0,0,0,0,0,0,0,0,null,0,0,0,0,0,0]
[38,1976,null,0,0,0,0,0,0,0,0,null,0,0,0,0,0,0]
[39,1975,null,0,0,0,0,0,0,0,0,null,0,0,0,0,0,0]
[40,1974,null,0,0,0,0,0,0,0,0,null,0,0,0,0,0,0]
[41,1973,null,0,0,0,0,0,0,0,0,null,0,0,0,0,0,0]
[42,1972,null,0,0,0,0,0,0,0,0,null,0,0,0,0,0,0]
[43,1971,null,0,0,0,0,0,0,0,0,null,0,0,0,0,0,0]
[44,1970,null,0,0,0,0,0,0,0,0,null,0,0,0,0,0,0]
[45,1969,null,0,0,0,0,0,0,0,0,null,0,0,0,0,0,0]
[46,1968,null,0,0,0,0,0,0,0,0,null,0,0,0,0,0,0]
[47,1967,null,0,0,0,0,0,0,0,0,null,0,0,0,0,0,0]
[48,1966,null,0,0,0,0,0,0,0,0,null,0,0,0,0,0,0]
[49,1965,null,0,0,0,0,0,0,0,0,null,0,0,0,0,0,0]
[50,1964,null,0,0,0,0,0,0,0,0,null,0,0,0,0,0,0]
[51,1963,null,0,0,0,0,0,0,0,0,null,0,0,0,0,0,0]
[52,1962,null,0,0,0,0,0,0,0,0,null,0,0,0,0,0,0]
[53,1961,null,0,0,0,0,0,0,0,0,null,0,0,0,0,0,0]
[54,1960,null,0,0,0,0,0,0,0,0,null,0,0,0,0,0,0]
[55,1959,null,0,0,0,0,0,0,0,0,null,0,0,0,0,0,0]
[56,1958,null,0,0,0,0,0,0,0,0,null,0,0,0,0,0,0]
[57,1957,null,0,0,0,0,0,0,0,0,null,0,0,0,0,0,0]
[58,1956,null,0,0,0,0,0,0,0,0,null,0,0,0,0,0,0]
[59,"älter",null,0,0,0,0,0,0,0,0,null,0,0,0,0,0,0]
[60,"Summe",{"$f":"SUM(C12:C69)","v":0},{"$f":"SUM(D11:D69)","v":0},0,0,0,0,0,0]

{"sheet":"F.1 Geleistete BKZ E1","index":16,"n_rows":64,"n_cols":8,"rows_kept":64,"cut":false,"hidden":false,"merged":[[0,2,0,11]]}
["Netzbetreiber:",null,{"$f":"'A.1. Rohrleitungen Ebene 1'!C1:L1","v":"Bitte Auswählen"}]
[]
["F.1.","Geleistete Baukostenzuschüsse"]
[]
["F.1.1.","Abschreibungsdauer in Jahren"]
[]
["F.1.2.","Historische Anschaffungskosten gegliedert nach dem Jahr des Zugangs"]
[]
[null,"Jahr",null,"AHK in TEUR (Ende 2013)","Buchwerte (Ende 2013) in TEUR","Jahres-AFA in TEUR (2013)","AFA - Dauer in Jahren","Kommentar"]
[null,null,null,"a"]
[1,2013,null,0,9,0,{"$f":"$G$5","v":0}]
[{"$f":"+A11+1","v":2},{"$f":"B11-1","v":2012},null,0,0,0,0]
[3,2011,null,0,0,0,0]
[4,2010,null,0,0,0,0]
[5,2009,null,0,0,0,0]
[6,2008,null,0,0,0,0]
[7,2007,null,0,0,0,0]
[8,2006,null,0,0,0,0]
[9,2005,null,0,0,0,0]
[10,2004,null,0,0,0,0]
[11,2003,null,0,0,0,0]
[12,2002,null,0,0,0,0]
[13,2001,null,0,0,0,0]
[14,2000,null,0,0,0,0]
[15,1999,null,0,0,0,0]
[16,1998,null,0,0,0,0]
[17,1997,null,0,0,0,0]
[18,1996,null,0,0,0,0]
[19,1995,null,0,0,0,0]
[20,1994,null,0,0,0,0]
[21,1993,null,0,0,0,0]
[22,1992,null,0,0,0,0]
[23,1991,null,0,0,0,0]
[24,1990,null,0,0,0,0]
[25,1989,null,0,0,0,0]
[26,1988,null,0,0,0,0]
[27,1987,null,0,0,0,0]
[28,1986,null,0,0,0,0]
[29,1985,null,0,0,0,0]
[30,1984,null,0,0,0,0]
[31,1983,null,0,0,0,0]
[32,1982,null,0,0,0,0]
[33,1981,null,0,0,0,{"$f":"$G$5","v":0}]
[{"$f":"+A43+1","v":34},{"$f":"B43-1","v":1980},null,0,0,0,0]
[35,1979,null,0,0,0,0]
[36,1978,null,0,0,0,0]
[37,1977,null,0,0,0,0]
[38,1976,null,0,0,0,0]
[39,1975,null,0,0,0,0]
[40,1974,null,0,0,0,0]
[41,1973,null,0,0,0,0]
[42,1972,null,0,0,0,0]
[43,1971,null,0,0,0,0]
[44,1970,null,0,0,0,0]
[45,1969,null,0,0,0,0]
[46,1968,null,0,0,0,0]
[47,1967,null,0,0,0,0]
[48,1966,null,0,0,0,0]
[49,1965,null,0,0,0,0]
[50,1964,null,0,0,0,0]
[51,1963,null,0,0,0,0]
[52,1962,null,0,0,0,0]
[53,"älter",null,0,0,0,0]
[54,"Summe",null,{"$f":"SUM(D11:D63)","v":0},{"$f":"SUM(E11:E63)","v":9},{"$f":"SUM(F11:F63)","v":0}]

{"sheet":"F.2 Geleistete BKZ E2","index":17,"n_rows":64,"n_cols":8,"rows_kept":64,"cut":false,"hidden":false,"merged":[[0,2,0,11]]}
["Netzbetreiber:",null,{"$f":"'A.1. Rohrleitungen Ebene 1'!C1:L1","v":"Bitte Auswählen"}]
[]
["F.2.","Geleistete Baukostenzuschüsse"]
[]
["F.2.1.","Abschreibungsdauer in Jahren"]
[]
["F.2.2.","Historische Anschaffungskosten gegliedert nach dem Jahr des Zugangs"]
[]
[null,"Jahr",null,"AHK in TEUR (Ende 2013)","Buchwerte (Ende 2013) in TEUR","Jahres-AFA in TEUR (2013)","AFA - Dauer in Jahren","Kommentar"]
[null,null,null,"a"]
[1,2013,null,0,0,0,{"$f":"$G$5","v":0}]
[{"$f":"+A11+1","v":2},{"$f":"B11-1","v":2012},null,0,0,0,0]
[3,2011,null,0,0,0,0]
[4,2010,null,0,0,0,0]
[5,2009,null,0,0,0,0]
[6,2008,null,0,0,0,0]
[7,2007,null,0,0,0,0]
[8,2006,null,0,0,0,0]
[9,2005,null,0,0,0,0]
[10,2004,null,0,0,0,0]
[11,2003,null,0,0,0,0]
[12,2002,null,0,0,0,0]
[13,2001,null,0,0,0,0]
[14,2000,null,0,0,0,0]
[15,1999,null,0,0,0,0]
[16,1998,null,0,0,0,0]
[17,1997,null,0,0,0,0]
[18,1996,null,0,0,0,0]
[19,1995,null,0,0,0,0]
[20,1994,null,0,0,0,0]
[21,1993,null,0,0,0,0]
[22,1992,null,0,0,0,0]
[23,1991,null,0,0,0,0]
[24,1990,null,0,0,0,0]
[25,1989,null,0,0,0,0]
[26,1988,null,0,0,0,0]
[27,1987,null,0,0,0,0]
[28,1986,null,0,0,0,0]
[29,1985,null,0,0,0,0]
[30,1984,null,0,0,0,0]
[31,1983,null,0,0,0,0]
[32,1982,null,0,0,0,0]
[33,1981,null,0,0,0,{"$f":"$G$5","v":0}]
[{"$f":"+A43+1","v":34},{"$f":"B43-1","v":1980},null,0,0,0,0]
[35,1979,null,0,0,0,0]
[36,1978,null,0,0,0,0]
[37,1977,null,0,0,0,0]
[38,1976,null,0,0,0,0]
[39,1975,null,0,0,0,0]
[40,1974,null,0,0,0,0]
[41,1973,null,0,0,0,0]
[42,1972,null,0,0,0,0]
[43,1971,null,0,0,0,0]
[44,1970,null,0,0,0,0]
[45,1969,null,0,0,0,0]
[46,1968,null,0,0,0,0]
[47,1967,null,0,0,0,0]
[48,1966,null,0,0,0,0]
[49,1965,null,0,0,0,0]
[50,1964,null,0,0,0,0]
[51,1963,null,0,0,0,0]
[52,1962,null,0,0,0,0]
[53,"älter",null,0,0,0,0]
[54,"Summe",null,{"$f":"SUM(D11:D63)","v":0},{"$f":"SUM(E11:E63)","v":0},{"$f":"SUM(F11:F63)","v":0}]

{"sheet":"F.3 Geleistete BKZ E3","index":18,"n_rows":64,"n_cols":8,"rows_kept":64,"cut":false,"hidden":false,"merged":[[0,2,0,11]]}
["Netzbetreiber:",null,{"$f":"'A.1. Rohrleitungen Ebene 1'!C1:L1","v":"Bitte Auswählen"}]
[]
["F.3.","Geleistete Baukostenzuschüsse"]
[]
["F.3.1.","Abschreibungsdauer in Jahren"]
[]
["F.3.2.","Historische Anschaffungskosten gegliedert nach dem Jahr des Zugangs"]
[]
[null,"Jahr",null,"AHK in TEUR (Ende 2013)","Buchwerte (Ende 2013) in TEUR","Jahres-AFA in TEUR (2013)","AFA - Dauer in Jahren","Kommentar"]
[null,null,null,"a"]
[1,2013,null,0,0,0,{"$f":"$G$5","v":0}]
[{"$f":"+A11+1","v":2},{"$f":"B11-1","v":2012},null,0,0,0,0]
[3,2011,null,0,0,0,0]
[4,2010,null,0,0,0,0]
[5,2009,null,0,0,0,0]
[6,2008,null,0,0,0,0]
[7,2007,null,0,0,0,0]
[8,2006,null,0,0,0,0]
[9,2005,null,0,0,0,0]
[10,2004,null,0,0,0,0]
[11,2003,null,0,0,0,0]
[12,2002,null,0,0,0,0]
[13,2001,null,0,0,0,0]
[14,2000,null,0,0,0,0]
[15,1999,null,0,0,0,0]
[16,1998,null,0,0,0,0]
[17,1997,null,0,0,0,0]
[18,1996,null,0,0,0,0]
[19,1995,null,0,0,0,0]
[20,1994,null,0,0,0,0]
[21,1993,null,0,0,0,0]
[22,1992,null,0,0,0,0]
[23,1991,null,0,0,0,0]
[24,1990,null,0,0,0,0]
[25,1989,null,0,0,0,0]
[26,1988,null,0,0,0,0]
[27,1987,null,0,0,0,0]
[28,1986,null,0,0,0,0]
[29,1985,null,0,0,0,0]
[30,1984,null,0,0,0,0]
[31,1983,null,0,0,0,0]
[32,1982,null,0,0,0,0]
[33,1981,null,0,0,0,{"$f":"$G$5","v":0}]
[{"$f":"+A43+1","v":34},{"$f":"B43-1","v":1980},null,0,0,0,0]
[35,1979,null,0,0,0,0]
[36,1978,null,0,0,0,0]
[37,1977,null,0,0,0,0]
[38,1976,null,0,0,0,0]
[39,1975,null,0,0,0,0]
[40,1974,null,0,0,0,0]
[41,1973,null,0,0,0,0]
[42,1972,null,0,0,0,0]
[43,1971,null,0,0,0,0]
[44,1970,null,0,0,0,0]
[45,1969,null,0,0,0,0]
[46,1968,null,0,0,0,0]
[47,1967,null,0,0,0,0]
[48,1966,null,0,0,0,0]
[49,1965,null,0,0,0,0]
[50,1964,null,0,0,0,0]
[51,1963,null,0,0,0,0]
[52,1962,null,0,0,0,0]
[53,"älter",null,0,0,0,0]
[54,"Summe",null,{"$f":"SUM(D11:D63)","v":0},{"$f":"SUM(E11:E63)","v":0},{"$f":"SUM(F11:F63)","v":0}]

{"sheet":"G. Software","index":19,"n_rows":24,"n_cols":8,"rows_kept":24,"cut":false,"hidden":false,"merged":[[0,2,0,11]]}
["Netzbetreiber:",null,{"$f":"'A.1. Rohrleitungen Ebene 1'!C1:L1","v":"Bitte Auswählen"}]
[]
["G.1.","Software für Netzbetrieb"]
[]
["G.1.1.","Abschreibungsdauer in Jahren"]
[]
["G.1.2.","Historische Anschaffungskosten gegliedert nach dem Jahr des Zugangs"]
[]
[null,"Jahr",null,"AHK in TEUR (Ende 2013)","Buchwerte (Ende 2013) in TEUR","Jahres-AFA in TEUR (2013)","AFA - Dauer in Jahren","Kommentar"]
[]
[1,2013,null,0,0,0,{"$f":"$G$5","v":0}]
[{"$f":"A11+1","v":2},{"$f":"B11-1","v":2012},null,0,0,0,0]
[3,2011,null,0,0,0,0]
[4,2010,null,0,0,0,0]
[5,2009,null,0,0,0,0]
[6,2008,null,0,0,0,0]
[7,2007,null,0,0,0,0]
[8,2006,null,0,0,0,0]
[9,2005,null,0,0,0,0]
[10,2004,null,0,0,0,0]
[11,2003,null,0,0,0,0]
[12,2002,null,0,0,0,0]
[13,"älter",null,0,0,0,0]
[14,"Summe",null,{"$f":"SUM(D11:D23)","v":0},{"$f":"SUM(E11:E23)","v":0},{"$f":"SUM(F11:F23)","v":0}]

{"sheet":"H. Zähler u.Messgeräte","index":20,"n_rows":29,"n_cols":8,"rows_kept":29,"cut":false,"hidden":false,"merged":[[0,2,0,11]]}
["Netzbetreiber:",null,{"$f":"'A.1. Rohrleitungen Ebene 1'!C1:L1","v":"Bitte Auswählen"}]
[]
["H.1","Zähler und Messgeräte (exkl. GWG- Zähler und GWG-Messgeräte)"]
[]
["H.1.1.","Abschreibungsdauer in Jahren"]
[]
["H.1.2.","Historische Anschaffungskosten gegliedert nach dem Jahr des Zugangs"]
[]
[null,"Jahr","Anzahl","AHK in TEUR (Ende 2013)","Buchwerte (Ende 2013) in TEUR","Jahres-AFA in TEUR (2013)","AFA - Dauer in Jahren","Kommentar"]
[]
[1,2013,null,0,0,0,{"$f":"$G$5","v":0}]
[{"$f":"1+A11","v":2},{"$f":"B11-1","v":2012},null,0,0,0,0]
[3,2011,null,0,0,0,0]
[4,2010,null,0,0,0,0]
[5,2009,null,0,0,0,0]
[6,2008,null,0,0,0,0]
[7,2007,null,0,0,0,0]
[8,2006,null,0,0,0,0]
[9,2005,null,0,0,0,0]
[10,2004,null,0,0,0,0]
[11,2003,null,0,0,0,0]
[12,2002,null,0,0,0,0]
[13,2001,null,0,0,0,0]
[14,2000,null,0,0,0,0]
[15,1999,null,0,0,0,0]
[16,1998,null,0,0,0,0]
[17,1997,null,0,0,0,0]
[18,"älter",null,0,0,0,0]
[19,"Summe",null,{"$f":"SUM(D11:D28)","v":0},{"$f":"SUM(E11:E28)","v":0},{"$f":"SUM(F11:F28)","v":0}]

{"sheet":"I. Zähler-Fernaus.ger.","index":21,"n_rows":29,"n_cols":7,"rows_kept":29,"cut":false,"hidden":false,"merged":[[0,2,0,11]]}
["Netzbetreiber:",null,{"$f":"'A.1. Rohrleitungen Ebene 1'!C1:L1","v":"Bitte Auswählen"}]
[]
["I.1","Andere fernausgelesene Zähler \"Smart Meter\""]
[]
["I.1.1.","Abschreibungsdauer in Jahren",null,null,null,0]
[]
["I.1.2.","Historische Anschaffungskosten gegliedert nach dem Jahr des Zugangs"]
[]
[null,"Jahr","Anzahl","AHK in TEUR (2013)",null,"AFA - Dauer in Jahren","Kommentar"]
[]
[1,2013,null,0,null,{"$f":"$F$5","v":0}]
[{"$f":"1+A11","v":2},{"$f":"B11-1","v":2012},null,0,null,0]
[3,2011,null,0,null,0]
[4,2010,null,0,null,0]
[5,2009,null,0,null,0]
[6,2008,null,0,null,0]
[7,2007,null,0,null,0]
[8,2006,null,0,null,0]
[9,2005,null,0,null,0]
[10,2004,null,0,null,0]
[11,2003,null,0,null,0]
[12,2002,null,0,null,0]
[13,2001,null,0,null,0]
[14,2000,null,0,null,0]
[15,1999,null,0,null,0]
[16,1998,null,0,null,0]
[17,1997,null,0,null,0]
[18,"älter",null,0,null,0]
[19,"Summe",null,{"$f":"SUM(D11:D28)","v":0}]

{"sheet":"J. EDV-Anlagen","index":22,"n_rows":24,"n_cols":8,"rows_kept":24,"cut":false,"hidden":false,"merged":[[0,2,0,11]]}
["Netzbetreiber:",null,{"$f":"'A.1. Rohrleitungen Ebene 1'!C1:L1","v":"Bitte Auswählen"}]
[]
["J.1","EDV Anlagen"]
[]
["J.1.1.","Abschreibungsdauer in Jahren"]
[]
["J.1.2.","Historische Anschaffungskosten gegliedert nach dem Jahr des Zugangs"]
[]
[null,"Jahr",null,"AHK in TEUR (Ende 2013)","Buchwerte (Ende 2013) in TEUR","Jahres-AFA in TEUR (2013)","AFA - Dauer in Jahren","Kommentar"]
[]
[1,2013,null,0,0,0,{"$f":"$G$5","v":0}]
[{"$f":"1+A11","v":2},{"$f":"B11-1","v":2012},null,0,0,0,0]
[3,2011,null,0,0,0,0]
[4,2010,null,0,0,0,0]
[5,2009,null,0,0,0,0]
[6,2008,null,0,0,0,0]
[7,2007,null,0,0,0,0]
[8,2006,null,0,0,0,0]
[9,2005,null,0,0,0,0]
[10,2004,null,0,0,0,0]
[11,2003,null,0,0,0,0]
[12,2002,null,0,0,0,0]
[13,"älter",null,0,0,0,0]
[14,"Summe",null,{"$f":"SUM(D11:D23)","v":0},{"$f":"SUM(E11:E23)","v":0},{"$f":"SUM(F11:F23)","v":0}]

{"sheet":"K. Kommunikationsanlagen","index":23,"n_rows":24,"n_cols":8,"rows_kept":24,"cut":false,"hidden":false,"merged":[[0,2,0,11]]}
["Netzbetreiber:",null,{"$f":"'A.1. Rohrleitungen Ebene 1'!C1:L1","v":"Bitte Auswählen"}]
[]
["K.1","Kommunikationsanlagen"]
[]
["K.1.1.","Abschreibungsdauer in Jahren"]
[]
["K.1.2.","Historische Anschaffungskosten gegliedert nach dem Jahr des Zugangs"]
[]
[null,"Jahr",null,"AHK in TEUR (Ende 2013)","Buchwerte (Ende 2013) in TEUR","Jahres-AFA in TEUR (2013)","AFA - Dauer in Jahren","Kommentar"]
[]
[1,2013,null,0,0,0,{"$f":"$G$5","v":0}]
[{"$f":"1+A11","v":2},{"$f":"B11-1","v":2012},null,0,0,0,0]
[3,2011,null,0,0,0,0]
[4,2010,null,0,0,0,0]
[5,2009,null,0,0,0,0]
[6,2008,null,0,0,0,0]
[7,2007,null,0,0,0,0]
[8,2006,null,0,0,0,0]
[9,2005,null,0,0,0,0]
[10,2004,null,0,0,0,0]
[11,2003,null,0,0,0,0]
[12,2002,null,0,0,0,0]
[13,"älter",null,0,0,0,0]
[14,"Summe",null,{"$f":"SUM(D11:D23)","v":0},{"$f":"SUM(E11:E23)","v":0},{"$f":"SUM(F11:F23)","v":0}]

{"sheet":"L. GWG","index":24,"n_rows":12,"n_cols":8,"rows_kept":12,"cut":false,"hidden":false,"merged":[[0,2,0,11]]}
["Netzbetreiber:",null,{"$f":"'A.1. Rohrleitungen Ebene 1'!C1:L1","v":"Bitte Auswählen"}]
[]
["L.1","Geringwertige Wirtschaftsgüter"]
[]
["L.1.1.","Abschreibungsdauer in Jahren"]
[]
["L.1.2.","Historische Anschaffungskosten gegliedert nach dem Jahr des Zugangs"]
[]
[null,"Jahr",null,"AHK in TEUR (Ende 2013)","Buchwerte (Ende 2013) in TEUR","Jahres-AFA in TEUR (2013)",null,"Kommentar"]
[]
[1,2013]
[{"$f":"1+A11","v":2},"Summe",null,{"$f":"SUM(D11:D11)","v":0},{"$f":"SUM(E11:E11)","v":0},{"$f":"SUM(F11:F11)","v":0}]

{"sheet":"M.1. Gel.Anz.u.Anl.i.Bau E1","index":25,"n_rows":12,"n_cols":8,"rows_kept":12,"cut":false,"hidden":false,"merged":[[0,2,0,11]]}
["Netzbetreiber:",null,{"$f":"'A.1. Rohrleitungen Ebene 1'!C1:L1","v":"Bitte Auswählen"}]
[]
["M.1","Geleistete Anzahlungen und Anlagen in Bau - Ebene 1"]
[]
["M.1.1.","Abschreibungsdauer in Jahren"]
[]
["M.1.2.","Historische Anschaffungskosten gegliedert nach dem Jahr des Zugangs"]
[]
[null,"Jahr",null,"AHK in TEUR (Ende 2013)","Buchwerte (Ende 2013) in TEUR","Jahres-AFA in TEUR (2013)",null,"Kommentar"]
[]
[1,2013]
[{"$f":"1+A11","v":2},"Summe",null,{"$f":"SUM(D11:D11)","v":0},{"$f":"SUM(E11:E11)","v":0},{"$f":"SUM(F11:F11)","v":0}]

{"sheet":"M.2. Gel.Anz.u.Anl.i.Bau E2","index":26,"n_rows":12,"n_cols":8,"rows_kept":12,"cut":false,"hidden":false,"merged":[[0,2,0,11]]}
["Netzbetreiber:",null,{"$f":"'A.1. Rohrleitungen Ebene 1'!C1:L1","v":"Bitte Auswählen"}]
[]
["M.2","Geleistete Anzahlungen und Anlagen in Bau - Ebene 2"]
[]
["M.2.1.","Abschreibungsdauer in Jahren"]
[]
["M.2.2.","Historische Anschaffungskosten gegliedert nach dem Jahr des Zugangs"]
[]
[null,"Jahr",null,"AHK in TEUR (Ende 2013)","Buchwerte (Ende 2013) in TEUR","Jahres-AFA in TEUR (2013)",null,"Kommentar"]
[]
[1,2013]
[{"$f":"1+A11","v":2},"Summe",null,{"$f":"SUM(D11:D11)","v":0},{"$f":"SUM(E11:E11)","v":0},{"$f":"SUM(F11:F11)","v":0}]

{"sheet":"M.3. Gel.Anz.u.Anl.i.Bau E3","index":27,"n_rows":12,"n_cols":8,"rows_kept":12,"cut":false,"hidden":false,"merged":[[0,2,0,11]]}
["Netzbetreiber:",null,{"$f":"'A.1. Rohrleitungen Ebene 1'!C1:L1","v":"Bitte Auswählen"}]
[]
["M.3","Geleistete Anzahlungen und Anlagen in Bau - Ebene 3"]
[]
["M.3.1.","Abschreibungsdauer in Jahren"]
[]
["M.3.2.","Historische Anschaffungskosten gegliedert nach dem Jahr des Zugangs"]
[]
[null,"Jahr",null,"AHK in TEUR (Ende 2013)","Buchwerte (Ende 2013) in TEUR","Jahres-AFA in TEUR (2013)",null,"Kommentar"]
[]
[1,2013]
[{"$f":"1+A11","v":2},"Summe",null,{"$f":"SUM(D11:D11)","v":0},{"$f":"SUM(E11:E11)","v":0},{"$f":"SUM(F11:F11)","v":0}]

{"sheet":"N. Summenblatt","index":28,"n_rows":33,"n_cols":5,"rows_kept":33,"cut":false,"hidden":false,"merged":[[0,2,0,11]]}
["Netzbetreiber:",null,{"$f":"'A.1. Rohrleitungen Ebene 1'!C1:L1","v":"Bitte Auswählen"}]
[]
[null,"Summenblatt"]
[]
[null,"Jahr","AHK in TEUR (Ende 2013)","Buchwerte in TEUR (Ende 2013)","Jahres-AFA in TEUR (2013)"]
[]
["A.1.","Rohrleitungen Ebene 1",{"$f":"+'A.1. Rohrleitungen Ebene 1'!F70","v":0},{"$f":"+'A.1. Rohrleitungen Ebene 1'!H70","v":0},{"$f":"+'A.1. Rohrleitungen Ebene 1'!J70","v":0}]
["A.2.","Rohrleitungen Ebene 2",{"$f":"+'A.2. Rohrleitungen Ebene 2'!F70","v":0},{"$f":"+'A.2. Rohrleitungen Ebene 2'!H70","v":0},{"$f":"+'A.2. Rohrleitungen Ebene 2'!J70","v":0}]
["A.3.","Rohrleitungen Ebene 3",{"$f":"+'A.3. Rohrlleitungen Ebene 3'!F70","v":0},{"$f":"+'A.3. Rohrlleitungen Ebene 3'!H70","v":0},{"$f":"+'A.3. Rohrlleitungen Ebene 3'!J70","v":0}]
["B.1. ","Schieberstationen Ebene 1",{"$f":"+'B.1. Schieberstationen Ebene 1'!F70","v":0},{"$f":"+'B.1. Schieberstationen Ebene 1'!H70","v":0},{"$f":"+'B.1. Schieberstationen Ebene 1'!J70","v":0}]
["B.2. ","Schieberstationen Ebene 2",{"$f":"+'B.2. Schieberstationen Ebene 2'!F70","v":0},{"$f":"+'B.2. Schieberstationen Ebene 2'!H70","v":0},{"$f":"+'B.2. Schieberstationen Ebene 2'!J70","v":0}]
["B.3. ","Schieberstationen Ebene 3",{"$f":"+'B.3. Schieberstationen Ebene 3'!F70","v":0},{"$f":"+'B.3. Schieberstationen Ebene 3'!H70","v":0},{"$f":"+'B.3. Schieberstationen Ebene 3'!J70","v":0}]
["C.1. ","GDRAs Ebene 1",{"$f":"+'C.1. GDRAs Ebene 1'!F70","v":0},{"$f":"+'C.1. GDRAs Ebene 1'!H70","v":0},{"$f":"+'C.1. GDRAs Ebene 1'!J70","v":0}]
["C.2. ","GDRAs Ebene 2",{"$f":"+'C.2. GDRAs Ebene 2'!F70","v":0},{"$f":"+'C.2. GDRAs Ebene 2'!H70","v":0},{"$f":"+'C.2. GDRAs Ebene 2'!J70","v":0}]
["C.3. ","GDRAs Ebene 3",{"$f":"+'C.3. GDRAs Ebene 3'!F70","v":0},{"$f":"+'C.3. GDRAs Ebene 3'!H70","v":0},{"$f":"+'C.3. GDRAs Ebene 3'!J70","v":0}]
["D.1. ","Verdichter Ebene 1",{"$f":"+'D.1. Verdichter Ebene 1'!F70","v":0},{"$f":"+'D.1. Verdichter Ebene 1'!H70","v":0},{"$f":"+'D.1. Verdichter Ebene 1'!J70","v":0}]
["D.2. ","Verdichter Ebene 2",{"$f":"+'D.2. Verdichter Ebene 2'!F70","v":9},{"$f":"+'D.2. Verdichter Ebene 2'!H70","v":0},{"$f":"+'D.2. Verdichter Ebene 2'!J70","v":0}]
["D.3. ","Verdichter Ebene 3",{"$f":"+'D.3. Verdichter Ebene 3'!F70","v":0},{"$f":"+'D.3. Verdichter Ebene 3'!H70","v":0},{"$f":"+'D.3. Verdichter Ebene 3'!J70","v":0}]
["E.1. ","Baukostenzuschüsse Ebene 1",{"$f":"+'E.1. Baukostenzuschüsse Ebene 1'!F70","v":0},{"$f":"+'E.1. Baukostenzuschüsse Ebene 1'!H70","v":0},{"$f":"+'E.1. Baukostenzuschüsse Ebene 1'!J70","v":0}]
["E.2. ","Baukostenzuschüsse Ebene 2",{"$f":"+'E.2. Baukostenzuschüsse Ebene 2'!F70","v":0},{"$f":"+'E.2. Baukostenzuschüsse Ebene 2'!H70","v":0},{"$f":"+'E.2. Baukostenzuschüsse Ebene 2'!J70","v":0}]
["E.3. ","Baukostenzuschüsse Ebene 3",{"$f":"+'E.3. Baukostenzuschüsse Ebene 3'!F70","v":0},{"$f":"+'E.3. Baukostenzuschüsse Ebene 3'!H70","v":0},{"$f":"+'E.3. Baukostenzuschüsse Ebene 3'!J70","v":0}]
["F.1.","Geleistete BKZ Ebene 1",{"$f":"+'F.1 Geleistete BKZ E1'!D64","v":0},{"$f":"+'F.1 Geleistete BKZ E1'!E64","v":9},{"$f":"+'F.1 Geleistete BKZ E1'!F64","v":0}]
["F.2.","Geleistete BKZ Ebene 2",{"$f":"+'F.2 Geleistete BKZ E2'!D64","v":0},{"$f":"+'F.2 Geleistete BKZ E2'!E64","v":0},{"$f":"+'F.2 Geleistete BKZ E2'!F64","v":0}]
["F.3.","Geleistete BKZ Ebene 3",{"$f":"+'F.3 Geleistete BKZ E3'!D64","v":0},{"$f":"+'F.3 Geleistete BKZ E3'!E64","v":0},{"$f":"+'F.3 Geleistete BKZ E3'!F64","v":0}]
["G.","Software",{"$f":"+'G. Software'!D24","v":0},{"$f":"+'G. Software'!E24","v":0},{"$f":"+'G. Software'!F24","v":0}]
["H. ","Zähler u.Messgeräte",{"$f":"+'H. Zähler u.Messgeräte'!D29","v":0},{"$f":"+'H. Zähler u.Messgeräte'!E29","v":0},{"$f":"+'H. Zähler u.Messgeräte'!F29","v":0}]
["I. ","Zähler-Fernaus.ger",{"$f":"+'I. Zähler-Fernaus.ger.'!D29","v":0}]
["J. ","EDV-Anlagen",{"$f":"+'J. EDV-Anlagen'!D24","v":0},{"$f":"+'J. EDV-Anlagen'!E24","v":0},{"$f":"+'J. EDV-Anlagen'!F24","v":0}]
["K. ","Kommunikationsanlagen",{"$f":"+'K. Kommunikationsanlagen'!D24","v":0},{"$f":"+'K. Kommunikationsanlagen'!E24","v":0},{"$f":"+'K. Kommunikationsanlagen'!F24","v":0}]
["L. ","GWG",{"$f":"+'L. GWG'!D12","v":0},{"$f":"+'L. GWG'!E12","v":0},{"$f":"+'L. GWG'!F12","v":0}]
["M.1. ","Gel.Anz.u.Anl.i.Bau Ebene 1",{"$f":"+'M.1. Gel.Anz.u.Anl.i.Bau E1'!D12","v":0},{"$f":"+'M.1. Gel.Anz.u.Anl.i.Bau E1'!E12","v":0},{"$f":"+'M.1. Gel.Anz.u.Anl.i.Bau E1'!F12","v":0}]
["M.2. ","Gel.Anz.u.Anl.i.Bau Ebene 2",{"$f":"+'M.2. Gel.Anz.u.Anl.i.Bau E2'!D12","v":0},{"$f":"+'M.2. Gel.Anz.u.Anl.i.Bau E2'!E12","v":0},{"$f":"+'M.2. Gel.Anz.u.Anl.i.Bau E2'!F12","v":0}]
["M.3. ","Gel.Anz.u.Anl.i.Bau Ebene 3",{"$f":"+'M.3. Gel.Anz.u.Anl.i.Bau E3'!D12","v":0},{"$f":"+'M.3. Gel.Anz.u.Anl.i.Bau E3'!E12","v":0},{"$f":"+'M.3. Gel.Anz.u.Anl.i.Bau E3'!F12","v":0}]

{"sheet":"O. Summenblatt nach Jahren","index":29,"n_rows":64,"n_cols":26,"rows_kept":64,"cut":false,"hidden":false,"merged":[[7,8,7,10],[7,3,7,5],[0,2,0,11]]}
["Netzbetreiber:",null,{"$f":"'A.1. Rohrleitungen Ebene 1'!C1:L1","v":"Bitte Auswählen"}]
[]
["O.1.","Summenblatt nach Jahren gegliedert"]
[]
[]
[]
["O.1.1.","Historische Anschaffungskosten gegliedert nach dem Jahr des Zugangs"]
[null,null,null,"Investitionen",null,null,null,null,"BKZ",null,null,null,null,null,null,null,null,null,null,null,"Teil 1 - alte Abfrage",null,null,"Teil 2"]
[null,"Jahr",null,"AHK in TEUR (Ende 2013)","Buchwerte (Ende 2013) in TEUR","Jahres-AFA in TEUR (2013)","AFA - Dauer in Jahren kalk.",null,"AHK in TEUR (Ende 2013)","Buchwerte (Ende 2013) in TEUR","Jahres-AFA in TEUR (2013)","Netto-Invest","Netto - Buchwerte",null,null,null,null,null,null,null,"AHK","BW","AFA","AHK","BW","AFA"]
[null,null,null,"a"]
[1,2013,null,{"$f":"+U11+W11","v":9},{"$f":"+V11+Y11","v":9},{"$f":"+V11+Z11","v":0},{"$f":"+D11/F11","v":{"$error":"#DIV/0!"}},null,{"$f":"+'E.1. Baukostenzuschüsse Ebene 1'!F11+'E.2. Baukostenzuschüsse Ebene 2'!F11+'E.3. Baukostenzuschüsse Ebene 3'!F11","v":0},{"$f":"+'E.1. Baukostenzuschüsse Ebene 1'!H11+'E.2. Baukostenzuschüsse Ebene 2'!H11+'E.3. Baukostenzuschüsse Ebene 3'!H11","v":0},{"$f":"+'E.1. Baukostenzuschüsse Ebene 1'!J11+'E.2. Baukostenzuschüsse Ebene 2'!J11+'E.3. Baukostenzuschüsse Ebene 3'!J11","v":0},{"$f":"+D11-I11","v":9},{"$f":"+E11-J11","v":9},null,null,null,null,null,null,null,{"$f":"+'A.1. Rohrleitungen Ebene 1'!F11+'A.2. Rohrleitungen Ebene 2'!F11+'A.3. Rohrlleitungen Ebene 3'!F11+'B.1. Schieberstationen Ebene 1'!F11+'B.2. Schieberstationen Ebene 2'!F11+'B.3. Schieberstationen Ebene 3'!F11+'C.1. GDRAs Ebene 1'!F11+'C.2. GDRAs Ebene 2'!F11+'C.3. GDRAs Ebene 3'!F11+'D.1. Verdichter Ebene 1'!F11+'D.2. Verdichter Ebene 2'!F11+'D.3. Verdichter Ebene 3'!F11","v":9},{"$f":"+'A.1. Rohrleitungen Ebene 1'!H11+'A.2. Rohrleitungen Ebene 2'!H11+'A.3. Rohrlleitungen Ebene 3'!H11+'B.1. Schieberstationen Ebene 1'!H11+'B.2. Schieberstationen Ebene 2'!H11+'B.3. Schieberstationen Ebene 3'!H11+'C.1. GDRAs Ebene 1'!H11+'C.2. GDRAs Ebene 2'!H11+'C.3. GDRAs Ebene 3'!H11+'D.1. Verdichter Ebene 1'!H11+'D.2. Verdichter Ebene 2'!H11+'D.3. Verdichter Ebene 3'!H11","v":0},{"$f":"+'A.1. Rohrleitungen Ebene 1'!J11+'A.2. Rohrleitungen Ebene 2'!J11+'A.3. Rohrlleitungen Ebene 3'!J11+'B.1. Schieberstationen Ebene 1'!J11+'B.2. Schieberstationen Ebene 2'!J11+'B.3. Schieberstationen Ebene 3'!J11+'C.1. GDRAs Ebene 1'!J11+'C.2. GDRAs Ebene 2'!J11+'C.3. GDRAs Ebene 3'!J11+'D.1. Verdichter Ebene 1'!J11+'D.2. Verdichter Ebene 2'!J11+'D.3. Verdichter Ebene 3'!J11","v":0},{"$f":"+'F.1 Geleistete BKZ E1'!D11+'F.2 Geleistete BKZ E2'!D11+'F.3 Geleistete BKZ E3'!D11+'G. Software'!D11+'H. Zähler u.Messgeräte'!D11+'I. Zähler-Fernaus.ger.'!D11+'J. EDV-Anlagen'!D11+'K. Kommunikationsanlagen'!D11","v":0},{"$f":"+'F.1 Geleistete BKZ E1'!E11+'F.2 Geleistete BKZ E2'!E11+'F.3 Geleistete BKZ E3'!E11+'G. Software'!E11+'H. Zähler u.Messgeräte'!E11+'J. EDV-Anlagen'!E11+'K. Kommunikationsanlagen'!E11","v":9},{"$f":"+'F.1 Geleistete BKZ E1'!F11+'F.2 Geleistete BKZ E2'!F11+'F.3 Geleistete BKZ E3'!F11+'G. Software'!F11+'H. Zähler u.Messgeräte'!F11+'J. EDV-Anlagen'!F11+'K. Kommunikationsanlagen'!F11","v":0}]
[{"$f":"+A11+1","v":2},{"$f":"B11-1","v":2012},null,{"$f":"+U12+X12","v":0},0,{"$f":"+W12+Z12","v":0},{"$error":"#DIV/0!"},null,{"$f":"+'E.1. Baukostenzuschüsse Ebene 1'!F12+'E.2. Baukostenzuschüsse Ebene 2'!F12+'E.3. Baukostenzuschüsse Ebene 3'!F12","v":0},{"$f":"+'E.1. Baukostenzuschüsse Ebene 1'!H12+'E.2. Baukostenzuschüsse Ebene 2'!H12+'E.3. Baukostenzuschüsse Ebene 3'!H12","v":0},{"$f":"+'E.1. Baukostenzuschüsse Ebene 1'!J12+'E.2. Baukostenzuschüsse Ebene 2'!J12+'E.3. Baukostenzuschüsse Ebene 3'!J12","v":0},0,{"$f":"+E12-J12","v":0},null,null,null,null,null,null,null,{"$f":"+'A.1. Rohrleitungen Ebene 1'!F12+'A.2. Rohrleitungen Ebene 2'!F12+'A.3. Rohrlleitungen Ebene 3'!F12+'B.1. Schieberstationen Ebene 1'!F12+'B.2. Schieberstationen Ebene 2'!F12+'B.3. Schieberstationen Ebene 3'!F12+'C.1. GDRAs Ebene 1'!F12+'C.2. GDRAs Ebene 2'!F12+'C.3. GDRAs Ebene 3'!F12+'D.1. Verdichter Ebene 1'!F12+'D.2. Verdichter Ebene 2'!F12+'D.3. Verdichter Ebene 3'!F12","v":0},{"$f":"+'A.1. Rohrleitungen Ebene 1'!H12+'A.2. Rohrleitungen Ebene 2'!H12+'A.3. Rohrlleitungen Ebene 3'!H12+'B.1. Schieberstationen Ebene 1'!H12+'B.2. Schieberstationen Ebene 2'!H12+'B.3. Schieberstationen Ebene 3'!H12+'C.1. GDRAs Ebene 1'!H12+'C.2. GDRAs Ebene 2'!H12+'C.3. GDRAs Ebene 3'!H12+'D.1. Verdichter Ebene 1'!H12+'D.2. Verdichter Ebene 2'!H12+'D.3. Verdichter Ebene 3'!H12","v":0},{"$f":"+'A.1. Rohrleitungen Ebene 1'!J12+'A.2. Rohrleitungen Ebene 2'!J12+'A.3. Rohrlleitungen Ebene 3'!J12+'B.1. Schieberstationen Ebene 1'!J12+'B.2. Schieberstationen Ebene 2'!J12+'B.3. Schieberstationen Ebene 3'!J12+'C.1. GDRAs Ebene 1'!J12+'C.2. GDRAs Ebene 2'!J12+'C.3. GDRAs Ebene 3'!J12+'D.1. Verdichter Ebene 1'!J12+'D.2. Verdichter Ebene 2'!J12+'D.3. Verdichter Ebene 3'!J12","v":0},{"$f":"+'F.1 Geleistete BKZ E1'!D12+'F.2 Geleistete BKZ E2'!D12+'F.3 Geleistete BKZ E3'!D12+'G. Software'!D12+'H. Zähler u.Messgeräte'!D12+'I. Zähler-Fernaus.ger.'!D12+'J. EDV-Anlagen'!D12+'K. Kommunikationsanlagen'!D12","v":0},{"$f":"+'F.1 Geleistete BKZ E1'!E12+'F.2 Geleistete BKZ E2'!E12+'F.3 Geleistete BKZ E3'!E12+'G. Software'!E12+'H. Zähler u.Messgeräte'!E12+'J. EDV-Anlagen'!E12+'K. Kommunikationsanlagen'!E12","v":0},{"$f":"+'F.1 Geleistete BKZ E1'!F12+'F.2 Geleistete BKZ E2'!F12+'F.3 Geleistete BKZ E3'!F12+'G. Software'!F12+'H. Zähler u.Messgeräte'!F12+'J. EDV-Anlagen'!F12+'K. Kommunikationsanlagen'!F12","v":0}]
[3,2011,null,0,0,0,{"$error":"#DIV/0!"},null,{"$f":"+'E.1. Baukostenzuschüsse Ebene 1'!F13+'E.2. Baukostenzuschüsse Ebene 2'!F13+'E.3. Baukostenzuschüsse Ebene 3'!F13","v":0},{"$f":"+'E.1. Baukostenzuschüsse Ebene 1'!H13+'E.2. Baukostenzuschüsse Ebene 2'!H13+'E.3. Baukostenzuschüsse Ebene 3'!H13","v":0},{"$f":"+'E.1. Baukostenzuschüsse Ebene 1'!J13+'E.2. Baukostenzuschüsse Ebene 2'!J13+'E.3. Baukostenzuschüsse Ebene 3'!J13","v":0},0,0,null,null,null,null,null,null,null,{"$f":"+'A.1. Rohrleitungen Ebene 1'!F13+'A.2. Rohrleitungen Ebene 2'!F13+'A.3. Rohrlleitungen Ebene 3'!F13+'B.1. Schieberstationen Ebene 1'!F13+'B.2. Schieberstationen Ebene 2'!F13+'B.3. Schieberstationen Ebene 3'!F13+'C.1. GDRAs Ebene 1'!F13+'C.2. GDRAs Ebene 2'!F13+'C.3. GDRAs Ebene 3'!F13+'D.1. Verdichter Ebene 1'!F13+'D.2. Verdichter Ebene 2'!F13+'D.3. Verdichter Ebene 3'!F13","v":0},{"$f":"+'A.1. Rohrleitungen Ebene 1'!H13+'A.2. Rohrleitungen Ebene 2'!H13+'A.3. Rohrlleitungen Ebene 3'!H13+'B.1. Schieberstationen Ebene 1'!H13+'B.2. Schieberstationen Ebene 2'!H13+'B.3. Schieberstationen Ebene 3'!H13+'C.1. GDRAs Ebene 1'!H13+'C.2. GDRAs Ebene 2'!H13+'C.3. GDRAs Ebene 3'!H13+'D.1. Verdichter Ebene 1'!H13+'D.2. Verdichter Ebene 2'!H13+'D.3. Verdichter Ebene 3'!H13","v":0},{"$f":"+'A.1. Rohrleitungen Ebene 1'!J13+'A.2. Rohrleitungen Ebene 2'!J13+'A.3. Rohrlleitungen Ebene 3'!J13+'B.1. Schieberstationen Ebene 1'!J13+'B.2. Schieberstationen Ebene 2'!J13+'B.3. Schieberstationen Ebene 3'!J13+'C.1. GDRAs Ebene 1'!J13+'C.2. GDRAs Ebene 2'!J13+'C.3. GDRAs Ebene 3'!J13+'D.1. Verdichter Ebene 1'!J13+'D.2. Verdichter Ebene 2'!J13+'D.3. Verdichter Ebene 3'!J13","v":0},{"$f":"+'F.1 Geleistete BKZ E1'!D13+'F.2 Geleistete BKZ E2'!D13+'F.3 Geleistete BKZ E3'!D13+'G. Software'!D13+'H. Zähler u.Messgeräte'!D13+'I. Zähler-Fernaus.ger.'!D13+'J. EDV-Anlagen'!D13+'K. Kommunikationsanlagen'!D13","v":0},{"$f":"+'F.1 Geleistete BKZ E1'!E13+'F.2 Geleistete BKZ E2'!E13+'F.3 Geleistete BKZ E3'!E13+'G. Software'!E13+'H. Zähler u.Messgeräte'!E13+'J. EDV-Anlagen'!E13+'K. Kommunikationsanlagen'!E13","v":0},{"$f":"+'F.1 Geleistete BKZ E1'!F13+'F.2 Geleistete BKZ E2'!F13+'F.3 Geleistete BKZ E3'!F13+'G. Software'!F13+'H. Zähler u.Messgeräte'!F13+'J. EDV-Anlagen'!F13+'K. Kommunikationsanlagen'!F13","v":0}]
[4,2010,null,0,0,0,{"$error":"#DIV/0!"},null,{"$f":"+'E.1. Baukostenzuschüsse Ebene 1'!F14+'E.2. Baukostenzuschüsse Ebene 2'!F14+'E.3. Baukostenzuschüsse Ebene 3'!F14","v":0},{"$f":"+'E.1. Baukostenzuschüsse Ebene 1'!H14+'E.2. Baukostenzuschüsse Ebene 2'!H14+'E.3. Baukostenzuschüsse Ebene 3'!H14","v":0},{"$f":"+'E.1. Baukostenzuschüsse Ebene 1'!J14+'E.2. Baukostenzuschüsse Ebene 2'!J14+'E.3. Baukostenzuschüsse Ebene 3'!J14","v":0},0,0,null,null,null,null,null,null,null,{"$f":"+'A.1. Rohrleitungen Ebene 1'!F14+'A.2. Rohrleitungen Ebene 2'!F14+'A.3. Rohrlleitungen Ebene 3'!F14+'B.1. Schieberstationen Ebene 1'!F14+'B.2. Schieberstationen Ebene 2'!F14+'B.3. Schieberstationen Ebene 3'!F14+'C.1. GDRAs Ebene 1'!F14+'C.2. GDRAs Ebene 2'!F14+'C.3. GDRAs Ebene 3'!F14+'D.1. Verdichter Ebene 1'!F14+'D.2. Verdichter Ebene 2'!F14+'D.3. Verdichter Ebene 3'!F14","v":0},{"$f":"+'A.1. Rohrleitungen Ebene 1'!H14+'A.2. Rohrleitungen Ebene 2'!H14+'A.3. Rohrlleitungen Ebene 3'!H14+'B.1. Schieberstationen Ebene 1'!H14+'B.2. Schieberstationen Ebene 2'!H14+'B.3. Schieberstationen Ebene 3'!H14+'C.1. GDRAs Ebene 1'!H14+'C.2. GDRAs Ebene 2'!H14+'C.3. GDRAs Ebene 3'!H14+'D.1. Verdichter Ebene 1'!H14+'D.2. Verdichter Ebene 2'!H14+'D.3. Verdichter Ebene 3'!H14","v":0},{"$f":"+'A.1. Rohrleitungen Ebene 1'!J14+'A.2. Rohrleitungen Ebene 2'!J14+'A.3. Rohrlleitungen Ebene 3'!J14+'B.1. Schieberstationen Ebene 1'!J14+'B.2. Schieberstationen Ebene 2'!J14+'B.3. Schieberstationen Ebene 3'!J14+'C.1. GDRAs Ebene 1'!J14+'C.2. GDRAs Ebene 2'!J14+'C.3. GDRAs Ebene 3'!J14+'D.1. Verdichter Ebene 1'!J14+'D.2. Verdichter Ebene 2'!J14+'D.3. Verdichter Ebene 3'!J14","v":0},{"$f":"+'F.1 Geleistete BKZ E1'!D14+'F.2 Geleistete BKZ E2'!D14+'F.3 Geleistete BKZ E3'!D14+'G. Software'!D14+'H. Zähler u.Messgeräte'!D14+'I. Zähler-Fernaus.ger.'!D14+'J. EDV-Anlagen'!D14+'K. Kommunikationsanlagen'!D14","v":0},{"$f":"+'F.1 Geleistete BKZ E1'!E14+'F.2 Geleistete BKZ E2'!E14+'F.3 Geleistete BKZ E3'!E14+'G. Software'!E14+'H. Zähler u.Messgeräte'!E14+'J. EDV-Anlagen'!E14+'K. Kommunikationsanlagen'!E14","v":0},{"$f":"+'F.1 Geleistete BKZ E1'!F14+'F.2 Geleistete BKZ E2'!F14+'F.3 Geleistete BKZ E3'!F14+'G. Software'!F14+'H. Zähler u.Messgeräte'!F14+'J. EDV-Anlagen'!F14+'K. Kommunikationsanlagen'!F14","v":0}]
[5,2009,null,0,0,0,{"$error":"#DIV/0!"},null,{"$f":"+'E.1. Baukostenzuschüsse Ebene 1'!F15+'E.2. Baukostenzuschüsse Ebene 2'!F15+'E.3. Baukostenzuschüsse Ebene 3'!F15","v":0},{"$f":"+'E.1. Baukostenzuschüsse Ebene 1'!H15+'E.2. Baukostenzuschüsse Ebene 2'!H15+'E.3. Baukostenzuschüsse Ebene 3'!H15","v":0},{"$f":"+'E.1. Baukostenzuschüsse Ebene 1'!J15+'E.2. Baukostenzuschüsse Ebene 2'!J15+'E.3. Baukostenzuschüsse Ebene 3'!J15","v":0},0,0,null,null,null,null,null,null,null,{"$f":"+'A.1. Rohrleitungen Ebene 1'!F15+'A.2. Rohrleitungen Ebene 2'!F15+'A.3. Rohrlleitungen Ebene 3'!F15+'B.1. Schieberstationen Ebene 1'!F15+'B.2. Schieberstationen Ebene 2'!F15+'B.3. Schieberstationen Ebene 3'!F15+'C.1. GDRAs Ebene 1'!F15+'C.2. GDRAs Ebene 2'!F15+'C.3. GDRAs Ebene 3'!F15+'D.1. Verdichter Ebene 1'!F15+'D.2. Verdichter Ebene 2'!F15+'D.3. Verdichter Ebene 3'!F15","v":0},{"$f":"+'A.1. Rohrleitungen Ebene 1'!H15+'A.2. Rohrleitungen Ebene 2'!H15+'A.3. Rohrlleitungen Ebene 3'!H15+'B.1. Schieberstationen Ebene 1'!H15+'B.2. Schieberstationen Ebene 2'!H15+'B.3. Schieberstationen Ebene 3'!H15+'C.1. GDRAs Ebene 1'!H15+'C.2. GDRAs Ebene 2'!H15+'C.3. GDRAs Ebene 3'!H15+'D.1. Verdichter Ebene 1'!H15+'D.2. Verdichter Ebene 2'!H15+'D.3. Verdichter Ebene 3'!H15","v":0},{"$f":"+'A.1. Rohrleitungen Ebene 1'!J15+'A.2. Rohrleitungen Ebene 2'!J15+'A.3. Rohrlleitungen Ebene 3'!J15+'B.1. Schieberstationen Ebene 1'!J15+'B.2. Schieberstationen Ebene 2'!J15+'B.3. Schieberstationen Ebene 3'!J15+'C.1. GDRAs Ebene 1'!J15+'C.2. GDRAs Ebene 2'!J15+'C.3. GDRAs Ebene 3'!J15+'D.1. Verdichter Ebene 1'!J15+'D.2. Verdichter Ebene 2'!J15+'D.3. Verdichter Ebene 3'!J15","v":0},{"$f":"+'F.1 Geleistete BKZ E1'!D15+'F.2 Geleistete BKZ E2'!D15+'F.3 Geleistete BKZ E3'!D15+'G. Software'!D15+'H. Zähler u.Messgeräte'!D15+'I. Zähler-Fernaus.ger.'!D15+'J. EDV-Anlagen'!D15+'K. Kommunikationsanlagen'!D15","v":0},{"$f":"+'F.1 Geleistete BKZ E1'!E15+'F.2 Geleistete BKZ E2'!E15+'F.3 Geleistete BKZ E3'!E15+'G. Software'!E15+'H. Zähler u.Messgeräte'!E15+'J. EDV-Anlagen'!E15+'K. Kommunikationsanlagen'!E15","v":0},{"$f":"+'F.1 Geleistete BKZ E1'!F15+'F.2 Geleistete BKZ E2'!F15+'F.3 Geleistete BKZ E3'!F15+'G. Software'!F15+'H. Zähler u.Messgeräte'!F15+'J. EDV-Anlagen'!F15+'K. Kommunikationsanlagen'!F15","v":0}]
[6,2008,null,0,0,0,{"$error":"#DIV/0!"},null,{"$f":"+'E.1. Baukostenzuschüsse Ebene 1'!F16+'E.2. Baukostenzuschüsse Ebene 2'!F16+'E.3. Baukostenzuschüsse Ebene 3'!F16","v":0},{"$f":"+'E.1. Baukostenzuschüsse Ebene 1'!H16+'E.2. Baukostenzuschüsse Ebene 2'!H16+'E.3. Baukostenzuschüsse Ebene 3'!H16","v":0},{"$f":"+'E.1. Baukostenzuschüsse Ebene 1'!J16+'E.2. Baukostenzuschüsse Ebene 2'!J16+'E.3. Baukostenzuschüsse Ebene 3'!J16","v":0},0,0,null,null,null,null,null,null,null,{"$f":"+'A.1. Rohrleitungen Ebene 1'!F16+'A.2. Rohrleitungen Ebene 2'!F16+'A.3. Rohrlleitungen Ebene 3'!F16+'B.1. Schieberstationen Ebene 1'!F16+'B.2. Schieberstationen Ebene 2'!F16+'B.3. Schieberstationen Ebene 3'!F16+'C.1. GDRAs Ebene 1'!F16+'C.2. GDRAs Ebene 2'!F16+'C.3. GDRAs Ebene 3'!F16+'D.1. Verdichter Ebene 1'!F16+'D.2. Verdichter Ebene 2'!F16+'D.3. Verdichter Ebene 3'!F16","v":0},{"$f":"+'A.1. Rohrleitungen Ebene 1'!H16+'A.2. Rohrleitungen Ebene 2'!H16+'A.3. Rohrlleitungen Ebene 3'!H16+'B.1. Schieberstationen Ebene 1'!H16+'B.2. Schieberstationen Ebene 2'!H16+'B.3. Schieberstationen Ebene 3'!H16+'C.1. GDRAs Ebene 1'!H16+'C.2. GDRAs Ebene 2'!H16+'C.3. GDRAs Ebene 3'!H16+'D.1. Verdichter Ebene 1'!H16+'D.2. Verdichter Ebene 2'!H16+'D.3. Verdichter Ebene 3'!H16","v":0},{"$f":"+'A.1. Rohrleitungen Ebene 1'!J16+'A.2. Rohrleitungen Ebene 2'!J16+'A.3. Rohrlleitungen Ebene 3'!J16+'B.1. Schieberstationen Ebene 1'!J16+'B.2. Schieberstationen Ebene 2'!J16+'B.3. Schieberstationen Ebene 3'!J16+'C.1. GDRAs Ebene 1'!J16+'C.2. GDRAs Ebene 2'!J16+'C.3. GDRAs Ebene 3'!J16+'D.1. Verdichter Ebene 1'!J16+'D.2. Verdichter Ebene 2'!J16+'D.3. Verdichter Ebene 3'!J16","v":0},{"$f":"+'F.1 Geleistete BKZ E1'!D16+'F.2 Geleistete BKZ E2'!D16+'F.3 Geleistete BKZ E3'!D16+'G. Software'!D16+'H. Zähler u.Messgeräte'!D16+'I. Zähler-Fernaus.ger.'!D16+'J. EDV-Anlagen'!D16+'K. Kommunikationsanlagen'!D16","v":0},{"$f":"+'F.1 Geleistete BKZ E1'!E16+'F.2 Geleistete BKZ E2'!E16+'F.3 Geleistete BKZ E3'!E16+'G. Software'!E16+'H. Zähler u.Messgeräte'!E16+'J. EDV-Anlagen'!E16+'K. Kommunikationsanlagen'!E16","v":0},{"$f":"+'F.1 Geleistete BKZ E1'!F16+'F.2 Geleistete BKZ E2'!F16+'F.3 Geleistete BKZ E3'!F16+'G. Software'!F16+'H. Zähler u.Messgeräte'!F16+'J. EDV-Anlagen'!F16+'K. Kommunikationsanlagen'!F16","v":0}]
[7,2007,null,0,0,0,{"$error":"#DIV/0!"},null,{"$f":"+'E.1. Baukostenzuschüsse Ebene 1'!F17+'E.2. Baukostenzuschüsse Ebene 2'!F17+'E.3. Baukostenzuschüsse Ebene 3'!F17","v":0},{"$f":"+'E.1. Baukostenzuschüsse Ebene 1'!H17+'E.2. Baukostenzuschüsse Ebene 2'!H17+'E.3. Baukostenzuschüsse Ebene 3'!H17","v":0},{"$f":"+'E.1. Baukostenzuschüsse Ebene 1'!J17+'E.2. Baukostenzuschüsse Ebene 2'!J17+'E.3. Baukostenzuschüsse Ebene 3'!J17","v":0},0,0,null,null,null,null,null,null,null,{"$f":"+'A.1. Rohrleitungen Ebene 1'!F17+'A.2. Rohrleitungen Ebene 2'!F17+'A.3. Rohrlleitungen Ebene 3'!F17+'B.1. Schieberstationen Ebene 1'!F17+'B.2. Schieberstationen Ebene 2'!F17+'B.3. Schieberstationen Ebene 3'!F17+'C.1. GDRAs Ebene 1'!F17+'C.2. GDRAs Ebene 2'!F17+'C.3. GDRAs Ebene 3'!F17+'D.1. Verdichter Ebene 1'!F17+'D.2. Verdichter Ebene 2'!F17+'D.3. Verdichter Ebene 3'!F17","v":0},{"$f":"+'A.1. Rohrleitungen Ebene 1'!H17+'A.2. Rohrleitungen Ebene 2'!H17+'A.3. Rohrlleitungen Ebene 3'!H17+'B.1. Schieberstationen Ebene 1'!H17+'B.2. Schieberstationen Ebene 2'!H17+'B.3. Schieberstationen Ebene 3'!H17+'C.1. GDRAs Ebene 1'!H17+'C.2. GDRAs Ebene 2'!H17+'C.3. GDRAs Ebene 3'!H17+'D.1. Verdichter Ebene 1'!H17+'D.2. Verdichter Ebene 2'!H17+'D.3. Verdichter Ebene 3'!H17","v":0},{"$f":"+'A.1. Rohrleitungen Ebene 1'!J17+'A.2. Rohrleitungen Ebene 2'!J17+'A.3. Rohrlleitungen Ebene 3'!J17+'B.1. Schieberstationen Ebene 1'!J17+'B.2. Schieberstationen Ebene 2'!J17+'B.3. Schieberstationen Ebene 3'!J17+'C.1. GDRAs Ebene 1'!J17+'C.2. GDRAs Ebene 2'!J17+'C.3. GDRAs Ebene 3'!J17+'D.1. Verdichter Ebene 1'!J17+'D.2. Verdichter Ebene 2'!J17+'D.3. Verdichter Ebene 3'!J17","v":0},{"$f":"+'F.1 Geleistete BKZ E1'!D17+'F.2 Geleistete BKZ E2'!D17+'F.3 Geleistete BKZ E3'!D17+'G. Software'!D17+'H. Zähler u.Messgeräte'!D17+'I. Zähler-Fernaus.ger.'!D17+'J. EDV-Anlagen'!D17+'K. Kommunikationsanlagen'!D17","v":0},{"$f":"+'F.1 Geleistete BKZ E1'!E17+'F.2 Geleistete BKZ E2'!E17+'F.3 Geleistete BKZ E3'!E17+'G. Software'!E17+'H. Zähler u.Messgeräte'!E17+'J. EDV-Anlagen'!E17+'K. Kommunikationsanlagen'!E17","v":0},{"$f":"+'F.1 Geleistete BKZ E1'!F17+'F.2 Geleistete BKZ E2'!F17+'F.3 Geleistete BKZ E3'!F17+'G. Software'!F17+'H. Zähler u.Messgeräte'!F17+'J. EDV-Anlagen'!F17+'K. Kommunikationsanlagen'!F17","v":0}]
[8,2006,null,0,0,0,{"$error":"#DIV/0!"},null,{"$f":"+'E.1. Baukostenzuschüsse Ebene 1'!F18+'E.2. Baukostenzuschüsse Ebene 2'!F18+'E.3. Baukostenzuschüsse Ebene 3'!F18","v":0},{"$f":"+'E.1. Baukostenzuschüsse Ebene 1'!H18+'E.2. Baukostenzuschüsse Ebene 2'!H18+'E.3. Baukostenzuschüsse Ebene 3'!H18","v":0},{"$f":"+'E.1. Baukostenzuschüsse Ebene 1'!J18+'E.2. Baukostenzuschüsse Ebene 2'!J18+'E.3. Baukostenzuschüsse Ebene 3'!J18","v":0},0,0,null,null,null,null,null,null,null,{"$f":"+'A.1. Rohrleitungen Ebene 1'!F18+'A.2. Rohrleitungen Ebene 2'!F18+'A.3. Rohrlleitungen Ebene 3'!F18+'B.1. Schieberstationen Ebene 1'!F18+'B.2. Schieberstationen Ebene 2'!F18+'B.3. Schieberstationen Ebene 3'!F18+'C.1. GDRAs Ebene 1'!F18+'C.2. GDRAs Ebene 2'!F18+'C.3. GDRAs Ebene 3'!F18+'D.1. Verdichter Ebene 1'!F18+'D.2. Verdichter Ebene 2'!F18+'D.3. Verdichter Ebene 3'!F18","v":0},{"$f":"+'A.1. Rohrleitungen Ebene 1'!H18+'A.2. Rohrleitungen Ebene 2'!H18+'A.3. Rohrlleitungen Ebene 3'!H18+'B.1. Schieberstationen Ebene 1'!H18+'B.2. Schieberstationen Ebene 2'!H18+'B.3. Schieberstationen Ebene 3'!H18+'C.1. GDRAs Ebene 1'!H18+'C.2. GDRAs Ebene 2'!H18+'C.3. GDRAs Ebene 3'!H18+'D.1. Verdichter Ebene 1'!H18+'D.2. Verdichter Ebene 2'!H18+'D.3. Verdichter Ebene 3'!H18","v":0},{"$f":"+'A.1. Rohrleitungen Ebene 1'!J18+'A.2. Rohrleitungen Ebene 2'!J18+'A.3. Rohrlleitungen Ebene 3'!J18+'B.1. Schieberstationen Ebene 1'!J18+'B.2. Schieberstationen Ebene 2'!J18+'B.3. Schieberstationen Ebene 3'!J18+'C.1. GDRAs Ebene 1'!J18+'C.2. GDRAs Ebene 2'!J18+'C.3. GDRAs Ebene 3'!J18+'D.1. Verdichter Ebene 1'!J18+'D.2. Verdichter Ebene 2'!J18+'D.3. Verdichter Ebene 3'!J18","v":0},{"$f":"+'F.1 Geleistete BKZ E1'!D18+'F.2 Geleistete BKZ E2'!D18+'F.3 Geleistete BKZ E3'!D18+'G. Software'!D18+'H. Zähler u.Messgeräte'!D18+'I. Zähler-Fernaus.ger.'!D18+'J. EDV-Anlagen'!D18+'K. Kommunikationsanlagen'!D18","v":0},{"$f":"+'F.1 Geleistete BKZ E1'!E18+'F.2 Geleistete BKZ E2'!E18+'F.3 Geleistete BKZ E3'!E18+'G. Software'!E18+'H. Zähler u.Messgeräte'!E18+'J. EDV-Anlagen'!E18+'K. Kommunikationsanlagen'!E18","v":0},{"$f":"+'F.1 Geleistete BKZ E1'!F18+'F.2 Geleistete BKZ E2'!F18+'F.3 Geleistete BKZ E3'!F18+'G. Software'!F18+'H. Zähler u.Messgeräte'!F18+'J. EDV-Anlagen'!F18+'K. Kommunikationsanlagen'!F18","v":0}]
[9,2005,null,0,0,0,{"$error":"#DIV/0!"},null,{"$f":"+'E.1. Baukostenzuschüsse Ebene 1'!F19+'E.2. Baukostenzuschüsse Ebene 2'!F19+'E.3. Baukostenzuschüsse Ebene 3'!F19","v":0},{"$f":"+'E.1. Baukostenzuschüsse Ebene 1'!H19+'E.2. Baukostenzuschüsse Ebene 2'!H19+'E.3. Baukostenzuschüsse Ebene 3'!H19","v":0},{"$f":"+'E.1. Baukostenzuschüsse Ebene 1'!J19+'E.2. Baukostenzuschüsse Ebene 2'!J19+'E.3. Baukostenzuschüsse Ebene 3'!J19","v":0},0,0,null,null,null,null,null,null,null,{"$f":"+'A.1. Rohrleitungen Ebene 1'!F19+'A.2. Rohrleitungen Ebene 2'!F19+'A.3. Rohrlleitungen Ebene 3'!F19+'B.1. Schieberstationen Ebene 1'!F19+'B.2. Schieberstationen Ebene 2'!F19+'B.3. Schieberstationen Ebene 3'!F19+'C.1. GDRAs Ebene 1'!F19+'C.2. GDRAs Ebene 2'!F19+'C.3. GDRAs Ebene 3'!F19+'D.1. Verdichter Ebene 1'!F19+'D.2. Verdichter Ebene 2'!F19+'D.3. Verdichter Ebene 3'!F19","v":0},{"$f":"+'A.1. Rohrleitungen Ebene 1'!H19+'A.2. Rohrleitungen Ebene 2'!H19+'A.3. Rohrlleitungen Ebene 3'!H19+'B.1. Schieberstationen Ebene 1'!H19+'B.2. Schieberstationen Ebene 2'!H19+'B.3. Schieberstationen Ebene 3'!H19+'C.1. GDRAs Ebene 1'!H19+'C.2. GDRAs Ebene 2'!H19+'C.3. GDRAs Ebene 3'!H19+'D.1. Verdichter Ebene 1'!H19+'D.2. Verdichter Ebene 2'!H19+'D.3. Verdichter Ebene 3'!H19","v":0},{"$f":"+'A.1. Rohrleitungen Ebene 1'!J19+'A.2. Rohrleitungen Ebene 2'!J19+'A.3. Rohrlleitungen Ebene 3'!J19+'B.1. Schieberstationen Ebene 1'!J19+'B.2. Schieberstationen Ebene 2'!J19+'B.3. Schieberstationen Ebene 3'!J19+'C.1. GDRAs Ebene 1'!J19+'C.2. GDRAs Ebene 2'!J19+'C.3. GDRAs Ebene 3'!J19+'D.1. Verdichter Ebene 1'!J19+'D.2. Verdichter Ebene 2'!J19+'D.3. Verdichter Ebene 3'!J19","v":0},{"$f":"+'F.1 Geleistete BKZ E1'!D19+'F.2 Geleistete BKZ E2'!D19+'F.3 Geleistete BKZ E3'!D19+'G. Software'!D19+'H. Zähler u.Messgeräte'!D19+'I. Zähler-Fernaus.ger.'!D19+'J. EDV-Anlagen'!D19+'K. Kommunikationsanlagen'!D19","v":0},{"$f":"+'F.1 Geleistete BKZ E1'!E19+'F.2 Geleistete BKZ E2'!E19+'F.3 Geleistete BKZ E3'!E19+'G. Software'!E19+'H. Zähler u.Messgeräte'!E19+'J. EDV-Anlagen'!E19+'K. Kommunikationsanlagen'!E19","v":0},{"$f":"+'F.1 Geleistete BKZ E1'!F19+'F.2 Geleistete BKZ E2'!F19+'F.3 Geleistete BKZ E3'!F19+'G. Software'!F19+'H. Zähler u.Messgeräte'!F19+'J. EDV-Anlagen'!F19+'K. Kommunikationsanlagen'!F19","v":0}]
[10,2004,null,0,0,0,{"$error":"#DIV/0!"},null,{"$f":"+'E.1. Baukostenzuschüsse Ebene 1'!F20+'E.2. Baukostenzuschüsse Ebene 2'!F20+'E.3. Baukostenzuschüsse Ebene 3'!F20","v":0},{"$f":"+'E.1. Baukostenzuschüsse Ebene 1'!H20+'E.2. Baukostenzuschüsse Ebene 2'!H20+'E.3. Baukostenzuschüsse Ebene 3'!H20","v":0},{"$f":"+'E.1. Baukostenzuschüsse Ebene 1'!J20+'E.2. Baukostenzuschüsse Ebene 2'!J20+'E.3. Baukostenzuschüsse Ebene 3'!J20","v":0},0,0,null,null,null,null,null,null,null,{"$f":"+'A.1. Rohrleitungen Ebene 1'!F20+'A.2. Rohrleitungen Ebene 2'!F20+'A.3. Rohrlleitungen Ebene 3'!F20+'B.1. Schieberstationen Ebene 1'!F20+'B.2. Schieberstationen Ebene 2'!F20+'B.3. Schieberstationen Ebene 3'!F20+'C.1. GDRAs Ebene 1'!F20+'C.2. GDRAs Ebene 2'!F20+'C.3. GDRAs Ebene 3'!F20+'D.1. Verdichter Ebene 1'!F20+'D.2. Verdichter Ebene 2'!F20+'D.3. Verdichter Ebene 3'!F20","v":0},{"$f":"+'A.1. Rohrleitungen Ebene 1'!H20+'A.2. Rohrleitungen Ebene 2'!H20+'A.3. Rohrlleitungen Ebene 3'!H20+'B.1. Schieberstationen Ebene 1'!H20+'B.2. Schieberstationen Ebene 2'!H20+'B.3. Schieberstationen Ebene 3'!H20+'C.1. GDRAs Ebene 1'!H20+'C.2. GDRAs Ebene 2'!H20+'C.3. GDRAs Ebene 3'!H20+'D.1. Verdichter Ebene 1'!H20+'D.2. Verdichter Ebene 2'!H20+'D.3. Verdichter Ebene 3'!H20","v":0},{"$f":"+'A.1. Rohrleitungen Ebene 1'!J20+'A.2. Rohrleitungen Ebene 2'!J20+'A.3. Rohrlleitungen Ebene 3'!J20+'B.1. Schieberstationen Ebene 1'!J20+'B.2. Schieberstationen Ebene 2'!J20+'B.3. Schieberstationen Ebene 3'!J20+'C.1. GDRAs Ebene 1'!J20+'C.2. GDRAs Ebene 2'!J20+'C.3. GDRAs Ebene 3'!J20+'D.1. Verdichter Ebene 1'!J20+'D.2. Verdichter Ebene 2'!J20+'D.3. Verdichter Ebene 3'!J20","v":0},{"$f":"+'F.1 Geleistete BKZ E1'!D20+'F.2 Geleistete BKZ E2'!D20+'F.3 Geleistete BKZ E3'!D20+'G. Software'!D20+'H. Zähler u.Messgeräte'!D20+'I. Zähler-Fernaus.ger.'!D20+'J. EDV-Anlagen'!D20+'K. Kommunikationsanlagen'!D20","v":0},{"$f":"+'F.1 Geleistete BKZ E1'!E20+'F.2 Geleistete BKZ E2'!E20+'F.3 Geleistete BKZ E3'!E20+'G. Software'!E20+'H. Zähler u.Messgeräte'!E20+'J. EDV-Anlagen'!E20+'K. Kommunikationsanlagen'!E20","v":0},{"$f":"+'F.1 Geleistete BKZ E1'!F20+'F.2 Geleistete BKZ E2'!F20+'F.3 Geleistete BKZ E3'!F20+'G. Software'!F20+'H. Zähler u.Messgeräte'!F20+'J. EDV-Anlagen'!F20+'K. Kommunikationsanlagen'!F20","v":0}]
[11,2003,null,0,0,0,{"$error":"#DIV/0!"},null,{"$f":"+'E.1. Baukostenzuschüsse Ebene 1'!F21+'E.2. Baukostenzuschüsse Ebene 2'!F21+'E.3. Baukostenzuschüsse Ebene 3'!F21","v":0},{"$f":"+'E.1. Baukostenzuschüsse Ebene 1'!H21+'E.2. Baukostenzuschüsse Ebene 2'!H21+'E.3. Baukostenzuschüsse Ebene 3'!H21","v":0},{"$f":"+'E.1. Baukostenzuschüsse Ebene 1'!J21+'E.2. Baukostenzuschüsse Ebene 2'!J21+'E.3. Baukostenzuschüsse Ebene 3'!J21","v":0},0,0,null,null,null,null,null,null,null,{"$f":"+'A.1. Rohrleitungen Ebene 1'!F21+'A.2. Rohrleitungen Ebene 2'!F21+'A.3. Rohrlleitungen Ebene 3'!F21+'B.1. Schieberstationen Ebene 1'!F21+'B.2. Schieberstationen Ebene 2'!F21+'B.3. Schieberstationen Ebene 3'!F21+'C.1. GDRAs Ebene 1'!F21+'C.2. GDRAs Ebene 2'!F21+'C.3. GDRAs Ebene 3'!F21+'D.1. Verdichter Ebene 1'!F21+'D.2. Verdichter Ebene 2'!F21+'D.3. Verdichter Ebene 3'!F21","v":0},{"$f":"+'A.1. Rohrleitungen Ebene 1'!H21+'A.2. Rohrleitungen Ebene 2'!H21+'A.3. Rohrlleitungen Ebene 3'!H21+'B.1. Schieberstationen Ebene 1'!H21+'B.2. Schieberstationen Ebene 2'!H21+'B.3. Schieberstationen Ebene 3'!H21+'C.1. GDRAs Ebene 1'!H21+'C.2. GDRAs Ebene 2'!H21+'C.3. GDRAs Ebene 3'!H21+'D.1. Verdichter Ebene 1'!H21+'D.2. Verdichter Ebene 2'!H21+'D.3. Verdichter Ebene 3'!H21","v":0},{"$f":"+'A.1. Rohrleitungen Ebene 1'!J21+'A.2. Rohrleitungen Ebene 2'!J21+'A.3. Rohrlleitungen Ebene 3'!J21+'B.1. Schieberstationen Ebene 1'!J21+'B.2. Schieberstationen Ebene 2'!J21+'B.3. Schieberstationen Ebene 3'!J21+'C.1. GDRAs Ebene 1'!J21+'C.2. GDRAs Ebene 2'!J21+'C.3. GDRAs Ebene 3'!J21+'D.1. Verdichter Ebene 1'!J21+'D.2. Verdichter Ebene 2'!J21+'D.3. Verdichter Ebene 3'!J21","v":0},{"$f":"+'F.1 Geleistete BKZ E1'!D21+'F.2 Geleistete BKZ E2'!D21+'F.3 Geleistete BKZ E3'!D21+'G. Software'!D21+'H. Zähler u.Messgeräte'!D21+'I. Zähler-Fernaus.ger.'!D21+'J. EDV-Anlagen'!D21+'K. Kommunikationsanlagen'!D21","v":0},{"$f":"+'F.1 Geleistete BKZ E1'!E21+'F.2 Geleistete BKZ E2'!E21+'F.3 Geleistete BKZ E3'!E21+'G. Software'!E21+'H. Zähler u.Messgeräte'!E21+'J. EDV-Anlagen'!E21+'K. Kommunikationsanlagen'!E21","v":0},{"$f":"+'F.1 Geleistete BKZ E1'!F21+'F.2 Geleistete BKZ E2'!F21+'F.3 Geleistete BKZ E3'!F21+'G. Software'!F21+'H. Zähler u.Messgeräte'!F21+'J. EDV-Anlagen'!F21+'K. Kommunikationsanlagen'!F21","v":0}]
[12,2002,null,0,0,0,{"$error":"#DIV/0!"},null,{"$f":"+'E.1. Baukostenzuschüsse Ebene 1'!F22+'E.2. Baukostenzuschüsse Ebene 2'!F22+'E.3. Baukostenzuschüsse Ebene 3'!F22","v":0},{"$f":"+'E.1. Baukostenzuschüsse Ebene 1'!H22+'E.2. Baukostenzuschüsse Ebene 2'!H22+'E.3. Baukostenzuschüsse Ebene 3'!H22","v":0},{"$f":"+'E.1. Baukostenzuschüsse Ebene 1'!J22+'E.2. Baukostenzuschüsse Ebene 2'!J22+'E.3. Baukostenzuschüsse Ebene 3'!J22","v":0},0,0,null,null,null,null,null,null,null,{"$f":"+'A.1. Rohrleitungen Ebene 1'!F22+'A.2. Rohrleitungen Ebene 2'!F22+'A.3. Rohrlleitungen Ebene 3'!F22+'B.1. Schieberstationen Ebene 1'!F22+'B.2. Schieberstationen Ebene 2'!F22+'B.3. Schieberstationen Ebene 3'!F22+'C.1. GDRAs Ebene 1'!F22+'C.2. GDRAs Ebene 2'!F22+'C.3. GDRAs Ebene 3'!F22+'D.1. Verdichter Ebene 1'!F22+'D.2. Verdichter Ebene 2'!F22+'D.3. Verdichter Ebene 3'!F22","v":0},{"$f":"+'A.1. Rohrleitungen Ebene 1'!H22+'A.2. Rohrleitungen Ebene 2'!H22+'A.3. Rohrlleitungen Ebene 3'!H22+'B.1. Schieberstationen Ebene 1'!H22+'B.2. Schieberstationen Ebene 2'!H22+'B.3. Schieberstationen Ebene 3'!H22+'C.1. GDRAs Ebene 1'!H22+'C.2. GDRAs Ebene 2'!H22+'C.3. GDRAs Ebene 3'!H22+'D.1. Verdichter Ebene 1'!H22+'D.2. Verdichter Ebene 2'!H22+'D.3. Verdichter Ebene 3'!H22","v":0},{"$f":"+'A.1. Rohrleitungen Ebene 1'!J22+'A.2. Rohrleitungen Ebene 2'!J22+'A.3. Rohrlleitungen Ebene 3'!J22+'B.1. Schieberstationen Ebene 1'!J22+'B.2. Schieberstationen Ebene 2'!J22+'B.3. Schieberstationen Ebene 3'!J22+'C.1. GDRAs Ebene 1'!J22+'C.2. GDRAs Ebene 2'!J22+'C.3. GDRAs Ebene 3'!J22+'D.1. Verdichter Ebene 1'!J22+'D.2. Verdichter Ebene 2'!J22+'D.3. Verdichter Ebene 3'!J22","v":0},{"$f":"+'F.1 Geleistete BKZ E1'!D22+'F.2 Geleistete BKZ E2'!D22+'F.3 Geleistete BKZ E3'!D22+'G. Software'!D22+'H. Zähler u.Messgeräte'!D22+'I. Zähler-Fernaus.ger.'!D22+'J. EDV-Anlagen'!D22+'K. Kommunikationsanlagen'!D22","v":0},{"$f":"+'F.1 Geleistete BKZ E1'!E22+'F.2 Geleistete BKZ E2'!E22+'F.3 Geleistete BKZ E3'!E22+'G. Software'!E22+'H. Zähler u.Messgeräte'!E22+'J. EDV-Anlagen'!E22+'K. Kommunikationsanlagen'!E22","v":0},{"$f":"+'F.1 Geleistete BKZ E1'!F22+'F.2 Geleistete BKZ E2'!F22+'F.3 Geleistete BKZ E3'!F22+'G. Software'!F22+'H. Zähler u.Messgeräte'!F22+'J. EDV-Anlagen'!F22+'K. Kommunikationsanlagen'!F22","v":0}]
[13,2001,null,0,0,0,{"$error":"#DIV/0!"},null,{"$f":"+'E.1. Baukostenzuschüsse Ebene 1'!F23+'E.2. Baukostenzuschüsse Ebene 2'!F23+'E.3. Baukostenzuschüsse Ebene 3'!F23","v":0},{"$f":"+'E.1. Baukostenzuschüsse Ebene 1'!H23+'E.2. Baukostenzuschüsse Ebene 2'!H23+'E.3. Baukostenzuschüsse Ebene 3'!H23","v":0},{"$f":"+'E.1. Baukostenzuschüsse Ebene 1'!J23+'E.2. Baukostenzuschüsse Ebene 2'!J23+'E.3. Baukostenzuschüsse Ebene 3'!J23","v":0},0,0,null,null,null,null,null,null,null,{"$f":"+'A.1. Rohrleitungen Ebene 1'!F23+'A.2. Rohrleitungen Ebene 2'!F23+'A.3. Rohrlleitungen Ebene 3'!F23+'B.1. Schieberstationen Ebene 1'!F23+'B.2. Schieberstationen Ebene 2'!F23+'B.3. Schieberstationen Ebene 3'!F23+'C.1. GDRAs Ebene 1'!F23+'C.2. GDRAs Ebene 2'!F23+'C.3. GDRAs Ebene 3'!F23+'D.1. Verdichter Ebene 1'!F23+'D.2. Verdichter Ebene 2'!F23+'D.3. Verdichter Ebene 3'!F23","v":0},{"$f":"+'A.1. Rohrleitungen Ebene 1'!H23+'A.2. Rohrleitungen Ebene 2'!H23+'A.3. Rohrlleitungen Ebene 3'!H23+'B.1. Schieberstationen Ebene 1'!H23+'B.2. Schieberstationen Ebene 2'!H23+'B.3. Schieberstationen Ebene 3'!H23+'C.1. GDRAs Ebene 1'!H23+'C.2. GDRAs Ebene 2'!H23+'C.3. GDRAs Ebene 3'!H23+'D.1. Verdichter Ebene 1'!H23+'D.2. Verdichter Ebene 2'!H23+'D.3. Verdichter Ebene 3'!H23","v":0},{"$f":"+'A.1. Rohrleitungen Ebene 1'!J23+'A.2. Rohrleitungen Ebene 2'!J23+'A.3. Rohrlleitungen Ebene 3'!J23+'B.1. Schieberstationen Ebene 1'!J23+'B.2. Schieberstationen Ebene 2'!J23+'B.3. Schieberstationen Ebene 3'!J23+'C.1. GDRAs Ebene 1'!J23+'C.2. GDRAs Ebene 2'!J23+'C.3. GDRAs Ebene 3'!J23+'D.1. Verdichter Ebene 1'!J23+'D.2. Verdichter Ebene 2'!J23+'D.3. Verdichter Ebene 3'!J23","v":0},{"$f":"+'F.1 Geleistete BKZ E1'!D23+'F.2 Geleistete BKZ E2'!D23+'F.3 Geleistete BKZ E3'!D23+'G. Software'!D23+'H. Zähler u.Messgeräte'!D23+'I. Zähler-Fernaus.ger.'!D23+'J. EDV-Anlagen'!D23+'K. Kommunikationsanlagen'!D23","v":0},{"$f":"+'F.1 Geleistete BKZ E1'!E23+'F.2 Geleistete BKZ E2'!E23+'F.3 Geleistete BKZ E3'!E23+'G. Software'!E23+'H. Zähler u.Messgeräte'!E23+'J. EDV-Anlagen'!E23+'K. Kommunikationsanlagen'!E23","v":0},{"$f":"+'F.1 Geleistete BKZ E1'!F23+'F.2 Geleistete BKZ E2'!F23+'F.3 Geleistete BKZ E3'!F23+'G. Software'!F23+'H. Zähler u.Messgeräte'!F23+'J. EDV-Anlagen'!F23+'K. Kommunikationsanlagen'!F23","v":0}]
[14,2000,null,0,0,0,{"$error":"#DIV/0!"},null,{"$f":"+'E.1. Baukostenzuschüsse Ebene 1'!F24+'E.2. Baukostenzuschüsse Ebene 2'!F24+'E.3. Baukostenzuschüsse Ebene 3'!F24","v":0},{"$f":"+'E.1. Baukostenzuschüsse Ebene 1'!H24+'E.2. Baukostenzuschüsse Ebene 2'!H24+'E.3. Baukostenzuschüsse Ebene 3'!H24","v":0},{"$f":"+'E.1. Baukostenzuschüsse Ebene 1'!J24+'E.2. Baukostenzuschüsse Ebene 2'!J24+'E.3. Baukostenzuschüsse Ebene 3'!J24","v":0},0,0,null,null,null,null,null,null,null,{"$f":"+'A.1. Rohrleitungen Ebene 1'!F24+'A.2. Rohrleitungen Ebene 2'!F24+'A.3. Rohrlleitungen Ebene 3'!F24+'B.1. Schieberstationen Ebene 1'!F24+'B.2. Schieberstationen Ebene 2'!F24+'B.3. Schieberstationen Ebene 3'!F24+'C.1. GDRAs Ebene 1'!F24+'C.2. GDRAs Ebene 2'!F24+'C.3. GDRAs Ebene 3'!F24+'D.1. Verdichter Ebene 1'!F24+'D.2. Verdichter Ebene 2'!F24+'D.3. Verdichter Ebene 3'!F24","v":0},{"$f":"+'A.1. Rohrleitungen Ebene 1'!H24+'A.2. Rohrleitungen Ebene 2'!H24+'A.3. Rohrlleitungen Ebene 3'!H24+'B.1. Schieberstationen Ebene 1'!H24+'B.2. Schieberstationen Ebene 2'!H24+'B.3. Schieberstationen Ebene 3'!H24+'C.1. GDRAs Ebene 1'!H24+'C.2. GDRAs Ebene 2'!H24+'C.3. GDRAs Ebene 3'!H24+'D.1. Verdichter Ebene 1'!H24+'D.2. Verdichter Ebene 2'!H24+'D.3. Verdichter Ebene 3'!H24","v":0},{"$f":"+'A.1. Rohrleitungen Ebene 1'!J24+'A.2. Rohrleitungen Ebene 2'!J24+'A.3. Rohrlleitungen Ebene 3'!J24+'B.1. Schieberstationen Ebene 1'!J24+'B.2. Schieberstationen Ebene 2'!J24+'B.3. Schieberstationen Ebene 3'!J24+'C.1. GDRAs Ebene 1'!J24+'C.2. GDRAs Ebene 2'!J24+'C.3. GDRAs Ebene 3'!J24+'D.1. Verdichter Ebene 1'!J24+'D.2. Verdichter Ebene 2'!J24+'D.3. Verdichter Ebene 3'!J24","v":0},{"$f":"+'F.1 Geleistete BKZ E1'!D24+'F.2 Geleistete BKZ E2'!D24+'F.3 Geleistete BKZ E3'!D24+'H. Zähler u.Messgeräte'!D24+'I. Zähler-Fernaus.ger.'!D24","v":0},{"$f":"+'F.1 Geleistete BKZ E1'!E24+'F.2 Geleistete BKZ E2'!E24+'F.3 Geleistete BKZ E3'!E24+'H. Zähler u.Messgeräte'!E24","v":0},{"$f":"+'F.1 Geleistete BKZ E1'!F24+'F.2 Geleistete BKZ E2'!F24+'F.3 Geleistete BKZ E3'!F24+'H. Zähler u.Messgeräte'!F24","v":0}]
[15,1999,null,0,0,0,{"$error":"#DIV/0!"},null,{"$f":"+'E.1. Baukostenzuschüsse Ebene 1'!F25+'E.2. Baukostenzuschüsse Ebene 2'!F25+'E.3. Baukostenzuschüsse Ebene 3'!F25","v":0},{"$f":"+'E.1. Baukostenzuschüsse Ebene 1'!H25+'E.2. Baukostenzuschüsse Ebene 2'!H25+'E.3. Baukostenzuschüsse Ebene 3'!H25","v":0},{"$f":"+'E.1. Baukostenzuschüsse Ebene 1'!J25+'E.2. Baukostenzuschüsse Ebene 2'!J25+'E.3. Baukostenzuschüsse Ebene 3'!J25","v":0},0,0,null,null,null,null,null,null,null,{"$f":"+'A.1. Rohrleitungen Ebene 1'!F25+'A.2. Rohrleitungen Ebene 2'!F25+'A.3. Rohrlleitungen Ebene 3'!F25+'B.1. Schieberstationen Ebene 1'!F25+'B.2. Schieberstationen Ebene 2'!F25+'B.3. Schieberstationen Ebene 3'!F25+'C.1. GDRAs Ebene 1'!F25+'C.2. GDRAs Ebene 2'!F25+'C.3. GDRAs Ebene 3'!F25+'D.1. Verdichter Ebene 1'!F25+'D.2. Verdichter Ebene 2'!F25+'D.3. Verdichter Ebene 3'!F25","v":0},{"$f":"+'A.1. Rohrleitungen Ebene 1'!H25+'A.2. Rohrleitungen Ebene 2'!H25+'A.3. Rohrlleitungen Ebene 3'!H25+'B.1. Schieberstationen Ebene 1'!H25+'B.2. Schieberstationen Ebene 2'!H25+'B.3. Schieberstationen Ebene 3'!H25+'C.1. GDRAs Ebene 1'!H25+'C.2. GDRAs Ebene 2'!H25+'C.3. GDRAs Ebene 3'!H25+'D.1. Verdichter Ebene 1'!H25+'D.2. Verdichter Ebene 2'!H25+'D.3. Verdichter Ebene 3'!H25","v":0},{"$f":"+'A.1. Rohrleitungen Ebene 1'!J25+'A.2. Rohrleitungen Ebene 2'!J25+'A.3. Rohrlleitungen Ebene 3'!J25+'B.1. Schieberstationen Ebene 1'!J25+'B.2. Schieberstationen Ebene 2'!J25+'B.3. Schieberstationen Ebene 3'!J25+'C.1. GDRAs Ebene 1'!J25+'C.2. GDRAs Ebene 2'!J25+'C.3. GDRAs Ebene 3'!J25+'D.1. Verdichter Ebene 1'!J25+'D.2. Verdichter Ebene 2'!J25+'D.3. Verdichter Ebene 3'!J25","v":0},{"$f":"+'F.1 Geleistete BKZ E1'!D25+'F.2 Geleistete BKZ E2'!D25+'F.3 Geleistete BKZ E3'!D25+'H. Zähler u.Messgeräte'!D25+'I. Zähler-Fernaus.ger.'!D25","v":0},{"$f":"+'F.1 Geleistete BKZ E1'!E25+'F.2 Geleistete BKZ E2'!E25+'F.3 Geleistete BKZ E3'!E25+'H. Zähler u.Messgeräte'!E25","v":0},{"$f":"+'F.1 Geleistete BKZ E1'!F25+'F.2 Geleistete BKZ E2'!F25+'F.3 Geleistete BKZ E3'!F25+'H. Zähler u.Messgeräte'!F25","v":0}]
[16,1998,null,0,0,0,{"$error":"#DIV/0!"},null,{"$f":"+'E.1. Baukostenzuschüsse Ebene 1'!F26+'E.2. Baukostenzuschüsse Ebene 2'!F26+'E.3. Baukostenzuschüsse Ebene 3'!F26","v":0},{"$f":"+'E.1. Baukostenzuschüsse Ebene 1'!H26+'E.2. Baukostenzuschüsse Ebene 2'!H26+'E.3. Baukostenzuschüsse Ebene 3'!H26","v":0},{"$f":"+'E.1. Baukostenzuschüsse Ebene 1'!J26+'E.2. Baukostenzuschüsse Ebene 2'!J26+'E.3. Baukostenzuschüsse Ebene 3'!J26","v":0},0,0,null,null,null,null,null,null,null,{"$f":"+'A.1. Rohrleitungen Ebene 1'!F26+'A.2. Rohrleitungen Ebene 2'!F26+'A.3. Rohrlleitungen Ebene 3'!F26+'B.1. Schieberstationen Ebene 1'!F26+'B.2. Schieberstationen Ebene 2'!F26+'B.3. Schieberstationen Ebene 3'!F26+'C.1. GDRAs Ebene 1'!F26+'C.2. GDRAs Ebene 2'!F26+'C.3. GDRAs Ebene 3'!F26+'D.1. Verdichter Ebene 1'!F26+'D.2. Verdichter Ebene 2'!F26+'D.3. Verdichter Ebene 3'!F26","v":0},{"$f":"+'A.1. Rohrleitungen Ebene 1'!H26+'A.2. Rohrleitungen Ebene 2'!H26+'A.3. Rohrlleitungen Ebene 3'!H26+'B.1. Schieberstationen Ebene 1'!H26+'B.2. Schieberstationen Ebene 2'!H26+'B.3. Schieberstationen Ebene 3'!H26+'C.1. GDRAs Ebene 1'!H26+'C.2. GDRAs Ebene 2'!H26+'C.3. GDRAs Ebene 3'!H26+'D.1. Verdichter Ebene 1'!H26+'D.2. Verdichter Ebene 2'!H26+'D.3. Verdichter Ebene 3'!H26","v":0},{"$f":"+'A.1. Rohrleitungen Ebene 1'!J26+'A.2. Rohrleitungen Ebene 2'!J26+'A.3. Rohrlleitungen Ebene 3'!J26+'B.1. Schieberstationen Ebene 1'!J26+'B.2. Schieberstationen Ebene 2'!J26+'B.3. Schieberstationen Ebene 3'!J26+'C.1. GDRAs Ebene 1'!J26+'C.2. GDRAs Ebene 2'!J26+'C.3. GDRAs Ebene 3'!J26+'D.1. Verdichter Ebene 1'!J26+'D.2. Verdichter Ebene 2'!J26+'D.3. Verdichter Ebene 3'!J26","v":0},{"$f":"+'F.1 Geleistete BKZ E1'!D26+'F.2 Geleistete BKZ E2'!D26+'F.3 Geleistete BKZ E3'!D26+'H. Zähler u.Messgeräte'!D26+'I. Zähler-Fernaus.ger.'!D26","v":0},{"$f":"+'F.1 Geleistete BKZ E1'!E26+'F.2 Geleistete BKZ E2'!E26+'F.3 Geleistete BKZ E3'!E26+'H. Zähler u.Messgeräte'!E26","v":0},{"$f":"+'F.1 Geleistete BKZ E1'!F26+'F.2 Geleistete BKZ E2'!F26+'F.3 Geleistete BKZ E3'!F26+'H. Zähler u.Messgeräte'!F26","v":0}]
[17,1997,null,0,0,0,{"$error":"#DIV/0!"},null,{"$f":"+'E.1. Baukostenzuschüsse Ebene 1'!F27+'E.2. Baukostenzuschüsse Ebene 2'!F27+'E.3. Baukostenzuschüsse Ebene 3'!F27","v":0},{"$f":"+'E.1. Baukostenzuschüsse Ebene 1'!H27+'E.2. Baukostenzuschüsse Ebene 2'!H27+'E.3. Baukostenzuschüsse Ebene 3'!H27","v":0},{"$f":"+'E.1. Baukostenzuschüsse Ebene 1'!J27+'E.2. Baukostenzuschüsse Ebene 2'!J27+'E.3. Baukostenzuschüsse Ebene 3'!J27","v":0},0,0,null,null,null,null,null,null,null,{"$f":"+'A.1. Rohrleitungen Ebene 1'!F27+'A.2. Rohrleitungen Ebene 2'!F27+'A.3. Rohrlleitungen Ebene 3'!F27+'B.1. Schieberstationen Ebene 1'!F27+'B.2. Schieberstationen Ebene 2'!F27+'B.3. Schieberstationen Ebene 3'!F27+'C.1. GDRAs Ebene 1'!F27+'C.2. GDRAs Ebene 2'!F27+'C.3. GDRAs Ebene 3'!F27+'D.1. Verdichter Ebene 1'!F27+'D.2. Verdichter Ebene 2'!F27+'D.3. Verdichter Ebene 3'!F27","v":0},{"$f":"+'A.1. Rohrleitungen Ebene 1'!H27+'A.2. Rohrleitungen Ebene 2'!H27+'A.3. Rohrlleitungen Ebene 3'!H27+'B.1. Schieberstationen Ebene 1'!H27+'B.2. Schieberstationen Ebene 2'!H27+'B.3. Schieberstationen Ebene 3'!H27+'C.1. GDRAs Ebene 1'!H27+'C.2. GDRAs Ebene 2'!H27+'C.3. GDRAs Ebene 3'!H27+'D.1. Verdichter Ebene 1'!H27+'D.2. Verdichter Ebene 2'!H27+'D.3. Verdichter Ebene 3'!H27","v":0},{"$f":"+'A.1. Rohrleitungen Ebene 1'!J27+'A.2. Rohrleitungen Ebene 2'!J27+'A.3. Rohrlleitungen Ebene 3'!J27+'B.1. Schieberstationen Ebene 1'!J27+'B.2. Schieberstationen Ebene 2'!J27+'B.3. Schieberstationen Ebene 3'!J27+'C.1. GDRAs Ebene 1'!J27+'C.2. GDRAs Ebene 2'!J27+'C.3. GDRAs Ebene 3'!J27+'D.1. Verdichter Ebene 1'!J27+'D.2. Verdichter Ebene 2'!J27+'D.3. Verdichter Ebene 3'!J27","v":0},{"$f":"+'F.1 Geleistete BKZ E1'!D27+'F.2 Geleistete BKZ E2'!D27+'F.3 Geleistete BKZ E3'!D27+'H. Zähler u.Messgeräte'!D27+'I. Zähler-Fernaus.ger.'!D27","v":0},{"$f":"+'F.1 Geleistete BKZ E1'!E27+'F.2 Geleistete BKZ E2'!E27+'F.3 Geleistete BKZ E3'!E27+'H. Zähler u.Messgeräte'!E27","v":0},{"$f":"+'F.1 Geleistete BKZ E1'!F27+'F.2 Geleistete BKZ E2'!F27+'F.3 Geleistete BKZ E3'!F27+'H. Zähler u.Messgeräte'!F27","v":0}]
[18,1996,null,0,0,0,{"$error":"#DIV/0!"},null,{"$f":"+'E.1. Baukostenzuschüsse Ebene 1'!F28+'E.2. Baukostenzuschüsse Ebene 2'!F28+'E.3. Baukostenzuschüsse Ebene 3'!F28","v":0},{"$f":"+'E.1. Baukostenzuschüsse Ebene 1'!H28+'E.2. Baukostenzuschüsse Ebene 2'!H28+'E.3. Baukostenzuschüsse Ebene 3'!H28","v":0},{"$f":"+'E.1. Baukostenzuschüsse Ebene 1'!J28+'E.2. Baukostenzuschüsse Ebene 2'!J28+'E.3. Baukostenzuschüsse Ebene 3'!J28","v":0},0,0,null,null,null,null,null,null,null,{"$f":"+'A.1. Rohrleitungen Ebene 1'!F28+'A.2. Rohrleitungen Ebene 2'!F28+'A.3. Rohrlleitungen Ebene 3'!F28+'B.1. Schieberstationen Ebene 1'!F28+'B.2. Schieberstationen Ebene 2'!F28+'B.3. Schieberstationen Ebene 3'!F28+'C.1. GDRAs Ebene 1'!F28+'C.2. GDRAs Ebene 2'!F28+'C.3. GDRAs Ebene 3'!F28+'D.1. Verdichter Ebene 1'!F28+'D.2. Verdichter Ebene 2'!F28+'D.3. Verdichter Ebene 3'!F28","v":0},{"$f":"+'A.1. Rohrleitungen Ebene 1'!H28+'A.2. Rohrleitungen Ebene 2'!H28+'A.3. Rohrlleitungen Ebene 3'!H28+'B.1. Schieberstationen Ebene 1'!H28+'B.2. Schieberstationen Ebene 2'!H28+'B.3. Schieberstationen Ebene 3'!H28+'C.1. GDRAs Ebene 1'!H28+'C.2. GDRAs Ebene 2'!H28+'C.3. GDRAs Ebene 3'!H28+'D.1. Verdichter Ebene 1'!H28+'D.2. Verdichter Ebene 2'!H28+'D.3. Verdichter Ebene 3'!H28","v":0},{"$f":"+'A.1. Rohrleitungen Ebene 1'!J28+'A.2. Rohrleitungen Ebene 2'!J28+'A.3. Rohrlleitungen Ebene 3'!J28+'B.1. Schieberstationen Ebene 1'!J28+'B.2. Schieberstationen Ebene 2'!J28+'B.3. Schieberstationen Ebene 3'!J28+'C.1. GDRAs Ebene 1'!J28+'C.2. GDRAs Ebene 2'!J28+'C.3. GDRAs Ebene 3'!J28+'D.1. Verdichter Ebene 1'!J28+'D.2. Verdichter Ebene 2'!J28+'D.3. Verdichter Ebene 3'!J28","v":0},{"$f":"+'F.1 Geleistete BKZ E1'!D28+'F.2 Geleistete BKZ E2'!D28+'F.3 Geleistete BKZ E3'!D28+'H. Zähler u.Messgeräte'!D28+'I. Zähler-Fernaus.ger.'!D28","v":0},{"$f":"+'F.1 Geleistete BKZ E1'!E28+'F.2 Geleistete BKZ E2'!E28+'F.3 Geleistete BKZ E3'!E28+'H. Zähler u.Messgeräte'!E28","v":0},{"$f":"+'F.1 Geleistete BKZ E1'!F28+'F.2 Geleistete BKZ E2'!F28+'F.3 Geleistete BKZ E3'!F28+'H. Zähler u.Messgeräte'!F28","v":0}]
[19,1995,null,0,0,0,{"$error":"#DIV/0!"},null,{"$f":"+'E.1. Baukostenzuschüsse Ebene 1'!F29+'E.2. Baukostenzuschüsse Ebene 2'!F29+'E.3. Baukostenzuschüsse Ebene 3'!F29","v":0},{"$f":"+'E.1. Baukostenzuschüsse Ebene 1'!H29+'E.2. Baukostenzuschüsse Ebene 2'!H29+'E.3. Baukostenzuschüsse Ebene 3'!H29","v":0},{"$f":"+'E.1. Baukostenzuschüsse Ebene 1'!J29+'E.2. Baukostenzuschüsse Ebene 2'!J29+'E.3. Baukostenzuschüsse Ebene 3'!J29","v":0},0,0,null,null,null,null,null,null,null,{"$f":"+'A.1. Rohrleitungen Ebene 1'!F29+'A.2. Rohrleitungen Ebene 2'!F29+'A.3. Rohrlleitungen Ebene 3'!F29+'B.1. Schieberstationen Ebene 1'!F29+'B.2. Schieberstationen Ebene 2'!F29+'B.3. Schieberstationen Ebene 3'!F29+'C.1. GDRAs Ebene 1'!F29+'C.2. GDRAs Ebene 2'!F29+'C.3. GDRAs Ebene 3'!F29+'D.1. Verdichter Ebene 1'!F29+'D.2. Verdichter Ebene 2'!F29+'D.3. Verdichter Ebene 3'!F29","v":0},{"$f":"+'A.1. Rohrleitungen Ebene 1'!H29+'A.2. Rohrleitungen Ebene 2'!H29+'A.3. Rohrlleitungen Ebene 3'!H29+'B.1. Schieberstationen Ebene 1'!H29+'B.2. Schieberstationen Ebene 2'!H29+'B.3. Schieberstationen Ebene 3'!H29+'C.1. GDRAs Ebene 1'!H29+'C.2. GDRAs Ebene 2'!H29+'C.3. GDRAs Ebene 3'!H29+'D.1. Verdichter Ebene 1'!H29+'D.2. Verdichter Ebene 2'!H29+'D.3. Verdichter Ebene 3'!H29","v":0},{"$f":"+'A.1. Rohrleitungen Ebene 1'!J29+'A.2. Rohrleitungen Ebene 2'!J29+'A.3. Rohrlleitungen Ebene 3'!J29+'B.1. Schieberstationen Ebene 1'!J29+'B.2. Schieberstationen Ebene 2'!J29+'B.3. Schieberstationen Ebene 3'!J29+'C.1. GDRAs Ebene 1'!J29+'C.2. GDRAs Ebene 2'!J29+'C.3. GDRAs Ebene 3'!J29+'D.1. Verdichter Ebene 1'!J29+'D.2. Verdichter Ebene 2'!J29+'D.3. Verdichter Ebene 3'!J29","v":0},{"$f":"+'F.1 Geleistete BKZ E1'!D29+'F.2 Geleistete BKZ E2'!D29+'F.3 Geleistete BKZ E3'!D29","v":0},{"$f":"+'F.1 Geleistete BKZ E1'!E29+'F.2 Geleistete BKZ E2'!E29+'F.3 Geleistete BKZ E3'!E29","v":0},{"$f":"+'F.1 Geleistete BKZ E1'!F29+'F.2 Geleistete BKZ E2'!F29+'F.3 Geleistete BKZ E3'!F29","v":0}]
[20,1994,null,0,0,0,{"$error":"#DIV/0!"},null,{"$f":"+'E.1. Baukostenzuschüsse Ebene 1'!F30+'E.2. Baukostenzuschüsse Ebene 2'!F30+'E.3. Baukostenzuschüsse Ebene 3'!F30","v":0},{"$f":"+'E.1. Baukostenzuschüsse Ebene 1'!H30+'E.2. Baukostenzuschüsse Ebene 2'!H30+'E.3. Baukostenzuschüsse Ebene 3'!H30","v":0},{"$f":"+'E.1. Baukostenzuschüsse Ebene 1'!J30+'E.2. Baukostenzuschüsse Ebene 2'!J30+'E.3. Baukostenzuschüsse Ebene 3'!J30","v":0},0,0,null,null,null,null,null,null,null,{"$f":"+'A.1. Rohrleitungen Ebene 1'!F30+'A.2. Rohrleitungen Ebene 2'!F30+'A.3. Rohrlleitungen Ebene 3'!F30+'B.1. Schieberstationen Ebene 1'!F30+'B.2. Schieberstationen Ebene 2'!F30+'B.3. Schieberstationen Ebene 3'!F30+'C.1. GDRAs Ebene 1'!F30+'C.2. GDRAs Ebene 2'!F30+'C.3. GDRAs Ebene 3'!F30+'D.1. Verdichter Ebene 1'!F30+'D.2. Verdichter Ebene 2'!F30+'D.3. Verdichter Ebene 3'!F30","v":0},{"$f":"+'A.1. Rohrleitungen Ebene 1'!H30+'A.2. Rohrleitungen Ebene 2'!H30+'A.3. Rohrlleitungen Ebene 3'!H30+'B.1. Schieberstationen Ebene 1'!H30+'B.2. Schieberstationen Ebene 2'!H30+'B.3. Schieberstationen Ebene 3'!H30+'C.1. GDRAs Ebene 1'!H30+'C.2. GDRAs Ebene 2'!H30+'C.3. GDRAs Ebene 3'!H30+'D.1. Verdichter Ebene 1'!H30+'D.2. Verdichter Ebene 2'!H30+'D.3. Verdichter Ebene 3'!H30","v":0},{"$f":"+'A.1. Rohrleitungen Ebene 1'!J30+'A.2. Rohrleitungen Ebene 2'!J30+'A.3. Rohrlleitungen Ebene 3'!J30+'B.1. Schieberstationen Ebene 1'!J30+'B.2. Schieberstationen Ebene 2'!J30+'B.3. Schieberstationen Ebene 3'!J30+'C.1. GDRAs Ebene 1'!J30+'C.2. GDRAs Ebene 2'!J30+'C.3. GDRAs Ebene 3'!J30+'D.1. Verdichter Ebene 1'!J30+'D.2. Verdichter Ebene 2'!J30+'D.3. Verdichter Ebene 3'!J30","v":0},{"$f":"+'F.1 Geleistete BKZ E1'!D30+'F.2 Geleistete BKZ E2'!D30+'F.3 Geleistete BKZ E3'!D30","v":0},{"$f":"+'F.1 Geleistete BKZ E1'!E30+'F.2 Geleistete BKZ E2'!E30+'F.3 Geleistete BKZ E3'!E30","v":0},{"$f":"+'F.1 Geleistete BKZ E1'!F30+'F.2 Geleistete BKZ E2'!F30+'F.3 Geleistete BKZ E3'!F30","v":0}]
[21,1993,null,0,0,0,{"$error":"#DIV/0!"},null,{"$f":"+'E.1. Baukostenzuschüsse Ebene 1'!F31+'E.2. Baukostenzuschüsse Ebene 2'!F31+'E.3. Baukostenzuschüsse Ebene 3'!F31","v":0},{"$f":"+'E.1. Baukostenzuschüsse Ebene 1'!H31+'E.2. Baukostenzuschüsse Ebene 2'!H31+'E.3. Baukostenzuschüsse Ebene 3'!H31","v":0},{"$f":"+'E.1. Baukostenzuschüsse Ebene 1'!J31+'E.2. Baukostenzuschüsse Ebene 2'!J31+'E.3. Baukostenzuschüsse Ebene 3'!J31","v":0},0,0,null,null,null,null,null,null,null,{"$f":"+'A.1. Rohrleitungen Ebene 1'!F31+'A.2. Rohrleitungen Ebene 2'!F31+'A.3. Rohrlleitungen Ebene 3'!F31+'B.1. Schieberstationen Ebene 1'!F31+'B.2. Schieberstationen Ebene 2'!F31+'B.3. Schieberstationen Ebene 3'!F31+'C.1. GDRAs Ebene 1'!F31+'C.2. GDRAs Ebene 2'!F31+'C.3. GDRAs Ebene 3'!F31+'D.1. Verdichter Ebene 1'!F31+'D.2. Verdichter Ebene 2'!F31+'D.3. Verdichter Ebene 3'!F31","v":0},{"$f":"+'A.1. Rohrleitungen Ebene 1'!H31+'A.2. Rohrleitungen Ebene 2'!H31+'A.3. Rohrlleitungen Ebene 3'!H31+'B.1. Schieberstationen Ebene 1'!H31+'B.2. Schieberstationen Ebene 2'!H31+'B.3. Schieberstationen Ebene 3'!H31+'C.1. GDRAs Ebene 1'!H31+'C.2. GDRAs Ebene 2'!H31+'C.3. GDRAs Ebene 3'!H31+'D.1. Verdichter Ebene 1'!H31+'D.2. Verdichter Ebene 2'!H31+'D.3. Verdichter Ebene 3'!H31","v":0},{"$f":"+'A.1. Rohrleitungen Ebene 1'!J31+'A.2. Rohrleitungen Ebene 2'!J31+'A.3. Rohrlleitungen Ebene 3'!J31+'B.1. Schieberstationen Ebene 1'!J31+'B.2. Schieberstationen Ebene 2'!J31+'B.3. Schieberstationen Ebene 3'!J31+'C.1. GDRAs Ebene 1'!J31+'C.2. GDRAs Ebene 2'!J31+'C.3. GDRAs Ebene 3'!J31+'D.1. Verdichter Ebene 1'!J31+'D.2. Verdichter Ebene 2'!J31+'D.3. Verdichter Ebene 3'!J31","v":0},{"$f":"+'F.1 Geleistete BKZ E1'!D31+'F.2 Geleistete BKZ E2'!D31+'F.3 Geleistete BKZ E3'!D31","v":0},{"$f":"+'F.1 Geleistete BKZ E1'!E31+'F.2 Geleistete BKZ E2'!E31+'F.3 Geleistete BKZ E3'!E31","v":0},{"$f":"+'F.1 Geleistete BKZ E1'!F31+'F.2 Geleistete BKZ E2'!F31+'F.3 Geleistete BKZ E3'!F31","v":0}]
[22,1992,null,0,0,0,{"$error":"#DIV/0!"},null,{"$f":"+'E.1. Baukostenzuschüsse Ebene 1'!F32+'E.2. Baukostenzuschüsse Ebene 2'!F32+'E.3. Baukostenzuschüsse Ebene 3'!F32","v":0},{"$f":"+'E.1. Baukostenzuschüsse Ebene 1'!H32+'E.2. Baukostenzuschüsse Ebene 2'!H32+'E.3. Baukostenzuschüsse Ebene 3'!H32","v":0},{"$f":"+'E.1. Baukostenzuschüsse Ebene 1'!J32+'E.2. Baukostenzuschüsse Ebene 2'!J32+'E.3. Baukostenzuschüsse Ebene 3'!J32","v":0},0,0,null,null,null,null,null,null,null,{"$f":"+'A.1. Rohrleitungen Ebene 1'!F32+'A.2. Rohrleitungen Ebene 2'!F32+'A.3. Rohrlleitungen Ebene 3'!F32+'B.1. Schieberstationen Ebene 1'!F32+'B.2. Schieberstationen Ebene 2'!F32+'B.3. Schieberstationen Ebene 3'!F32+'C.1. GDRAs Ebene 1'!F32+'C.2. GDRAs Ebene 2'!F32+'C.3. GDRAs Ebene 3'!F32+'D.1. Verdichter Ebene 1'!F32+'D.2. Verdichter Ebene 2'!F32+'D.3. Verdichter Ebene 3'!F32","v":0},{"$f":"+'A.1. Rohrleitungen Ebene 1'!H32+'A.2. Rohrleitungen Ebene 2'!H32+'A.3. Rohrlleitungen Ebene 3'!H32+'B.1. Schieberstationen Ebene 1'!H32+'B.2. Schieberstationen Ebene 2'!H32+'B.3. Schieberstationen Ebene 3'!H32+'C.1. GDRAs Ebene 1'!H32+'C.2. GDRAs Ebene 2'!H32+'C.3. GDRAs Ebene 3'!H32+'D.1. Verdichter Ebene 1'!H32+'D.2. Verdichter Ebene 2'!H32+'D.3. Verdichter Ebene 3'!H32","v":0},{"$f":"+'A.1. Rohrleitungen Ebene 1'!J32+'A.2. Rohrleitungen Ebene 2'!J32+'A.3. Rohrlleitungen Ebene 3'!J32+'B.1. Schieberstationen Ebene 1'!J32+'B.2. Schieberstationen Ebene 2'!J32+'B.3. Schieberstationen Ebene 3'!J32+'C.1. GDRAs Ebene 1'!J32+'C.2. GDRAs Ebene 2'!J32+'C.3. GDRAs Ebene 3'!J32+'D.1. Verdichter Ebene 1'!J32+'D.2. Verdichter Ebene 2'!J32+'D.3. Verdichter Ebene 3'!J32","v":0},{"$f":"+'F.1 Geleistete BKZ E1'!D32+'F.2 Geleistete BKZ E2'!D32+'F.3 Geleistete BKZ E3'!D32","v":0},{"$f":"+'F.1 Geleistete BKZ E1'!E32+'F.2 Geleistete BKZ E2'!E32+'F.3 Geleistete BKZ E3'!E32","v":0},{"$f":"+'F.1 Geleistete BKZ E1'!F32+'F.2 Geleistete BKZ E2'!F32+'F.3 Geleistete BKZ E3'!F32","v":0}]
[23,1991,null,0,0,0,{"$error":"#DIV/0!"},null,{"$f":"+'E.1. Baukostenzuschüsse Ebene 1'!F33+'E.2. Baukostenzuschüsse Ebene 2'!F33+'E.3. Baukostenzuschüsse Ebene 3'!F33","v":0},{"$f":"+'E.1. Baukostenzuschüsse Ebene 1'!H33+'E.2. Baukostenzuschüsse Ebene 2'!H33+'E.3. Baukostenzuschüsse Ebene 3'!H33","v":0},{"$f":"+'E.1. Baukostenzuschüsse Ebene 1'!J33+'E.2. Baukostenzuschüsse Ebene 2'!J33+'E.3. Baukostenzuschüsse Ebene 3'!J33","v":0},0,0,null,null,null,null,null,null,null,{"$f":"+'A.1. Rohrleitungen Ebene 1'!F33+'A.2. Rohrleitungen Ebene 2'!F33+'A.3. Rohrlleitungen Ebene 3'!F33+'B.1. Schieberstationen Ebene 1'!F33+'B.2. Schieberstationen Ebene 2'!F33+'B.3. Schieberstationen Ebene 3'!F33+'C.1. GDRAs Ebene 1'!F33+'C.2. GDRAs Ebene 2'!F33+'C.3. GDRAs Ebene 3'!F33+'D.1. Verdichter Ebene 1'!F33+'D.2. Verdichter Ebene 2'!F33+'D.3. Verdichter Ebene 3'!F33","v":0},{"$f":"+'A.1. Rohrleitungen Ebene 1'!H33+'A.2. Rohrleitungen Ebene 2'!H33+'A.3. Rohrlleitungen Ebene 3'!H33+'B.1. Schieberstationen Ebene 1'!H33+'B.2. Schieberstationen Ebene 2'!H33+'B.3. Schieberstationen Ebene 3'!H33+'C.1. GDRAs Ebene 1'!H33+'C.2. GDRAs Ebene 2'!H33+'C.3. GDRAs Ebene 3'!H33+'D.1. Verdichter Ebene 1'!H33+'D.2. Verdichter Ebene 2'!H33+'D.3. Verdichter Ebene 3'!H33","v":0},{"$f":"+'A.1. Rohrleitungen Ebene 1'!J33+'A.2. Rohrleitungen Ebene 2'!J33+'A.3. Rohrlleitungen Ebene 3'!J33+'B.1. Schieberstationen Ebene 1'!J33+'B.2. Schieberstationen Ebene 2'!J33+'B.3. Schieberstationen Ebene 3'!J33+'C.1. GDRAs Ebene 1'!J33+'C.2. GDRAs Ebene 2'!J33+'C.3. GDRAs Ebene 3'!J33+'D.1. Verdichter Ebene 1'!J33+'D.2. Verdichter Ebene 2'!J33+'D.3. Verdichter Ebene 3'!J33","v":0},{"$f":"+'F.1 Geleistete BKZ E1'!D33+'F.2 Geleistete BKZ E2'!D33+'F.3 Geleistete BKZ E3'!D33","v":0},{"$f":"+'F.1 Geleistete BKZ E1'!E33+'F.2 Geleistete BKZ E2'!E33+'F.3 Geleistete BKZ E3'!E33","v":0},{"$f":"+'F.1 Geleistete BKZ E1'!F33+'F.2 Geleistete BKZ E2'!F33+'F.3 Geleistete BKZ E3'!F33","v":0}]
[24,1990,null,0,0,0,{"$error":"#DIV/0!"},null,{"$f":"+'E.1. Baukostenzuschüsse Ebene 1'!F34+'E.2. Baukostenzuschüsse Ebene 2'!F34+'E.3. Baukostenzuschüsse Ebene 3'!F34","v":0},{"$f":"+'E.1. Baukostenzuschüsse Ebene 1'!H34+'E.2. Baukostenzuschüsse Ebene 2'!H34+'E.3. Baukostenzuschüsse Ebene 3'!H34","v":0},{"$f":"+'E.1. Baukostenzuschüsse Ebene 1'!J34+'E.2. Baukostenzuschüsse Ebene 2'!J34+'E.3. Baukostenzuschüsse Ebene 3'!J34","v":0},0,0,null,null,null,null,null,null,null,{"$f":"+'A.1. Rohrleitungen Ebene 1'!F34+'A.2. Rohrleitungen Ebene 2'!F34+'A.3. Rohrlleitungen Ebene 3'!F34+'B.1. Schieberstationen Ebene 1'!F34+'B.2. Schieberstationen Ebene 2'!F34+'B.3. Schieberstationen Ebene 3'!F34+'C.1. GDRAs Ebene 1'!F34+'C.2. GDRAs Ebene 2'!F34+'C.3. GDRAs Ebene 3'!F34+'D.1. Verdichter Ebene 1'!F34+'D.2. Verdichter Ebene 2'!F34+'D.3. Verdichter Ebene 3'!F34","v":0},{"$f":"+'A.1. Rohrleitungen Ebene 1'!H34+'A.2. Rohrleitungen Ebene 2'!H34+'A.3. Rohrlleitungen Ebene 3'!H34+'B.1. Schieberstationen Ebene 1'!H34+'B.2. Schieberstationen Ebene 2'!H34+'B.3. Schieberstationen Ebene 3'!H34+'C.1. GDRAs Ebene 1'!H34+'C.2. GDRAs Ebene 2'!H34+'C.3. GDRAs Ebene 3'!H34+'D.1. Verdichter Ebene 1'!H34+'D.2. Verdichter Ebene 2'!H34+'D.3. Verdichter Ebene 3'!H34","v":0},{"$f":"+'A.1. Rohrleitungen Ebene 1'!J34+'A.2. Rohrleitungen Ebene 2'!J34+'A.3. Rohrlleitungen Ebene 3'!J34+'B.1. Schieberstationen Ebene 1'!J34+'B.2. Schieberstationen Ebene 2'!J34+'B.3. Schieberstationen Ebene 3'!J34+'C.1. GDRAs Ebene 1'!J34+'C.2. GDRAs Ebene 2'!J34+'C.3. GDRAs Ebene 3'!J34+'D.1. Verdichter Ebene 1'!J34+'D.2. Verdichter Ebene 2'!J34+'D.3. Verdichter Ebene 3'!J34","v":0},{"$f":"+'F.1 Geleistete BKZ E1'!D34+'F.2 Geleistete BKZ E2'!D34+'F.3 Geleistete BKZ E3'!D34","v":0},{"$f":"+'F.1 Geleistete BKZ E1'!E34+'F.2 Geleistete BKZ E2'!E34+'F.3 Geleistete BKZ E3'!E34","v":0},{"$f":"+'F.1 Geleistete BKZ E1'!F34+'F.2 Geleistete BKZ E2'!F34+'F.3 Geleistete BKZ E3'!F34","v":0}]
[25,1989,null,0,0,0,{"$error":"#DIV/0!"},null,{"$f":"+'E.1. Baukostenzuschüsse Ebene 1'!F35+'E.2. Baukostenzuschüsse Ebene 2'!F35+'E.3. Baukostenzuschüsse Ebene 3'!F35","v":0},{"$f":"+'E.1. Baukostenzuschüsse Ebene 1'!H35+'E.2. Baukostenzuschüsse Ebene 2'!H35+'E.3. Baukostenzuschüsse Ebene 3'!H35","v":0},{"$f":"+'E.1. Baukostenzuschüsse Ebene 1'!J35+'E.2. Baukostenzuschüsse Ebene 2'!J35+'E.3. Baukostenzuschüsse Ebene 3'!J35","v":0},0,0,null,null,null,null,null,null,null,{"$f":"+'A.1. Rohrleitungen Ebene 1'!F35+'A.2. Rohrleitungen Ebene 2'!F35+'A.3. Rohrlleitungen Ebene 3'!F35+'B.1. Schieberstationen Ebene 1'!F35+'B.2. Schieberstationen Ebene 2'!F35+'B.3. Schieberstationen Ebene 3'!F35+'C.1. GDRAs Ebene 1'!F35+'C.2. GDRAs Ebene 2'!F35+'C.3. GDRAs Ebene 3'!F35+'D.1. Verdichter Ebene 1'!F35+'D.2. Verdichter Ebene 2'!F35+'D.3. Verdichter Ebene 3'!F35","v":0},{"$f":"+'A.1. Rohrleitungen Ebene 1'!H35+'A.2. Rohrleitungen Ebene 2'!H35+'A.3. Rohrlleitungen Ebene 3'!H35+'B.1. Schieberstationen Ebene 1'!H35+'B.2. Schieberstationen Ebene 2'!H35+'B.3. Schieberstationen Ebene 3'!H35+'C.1. GDRAs Ebene 1'!H35+'C.2. GDRAs Ebene 2'!H35+'C.3. GDRAs Ebene 3'!H35+'D.1. Verdichter Ebene 1'!H35+'D.2. Verdichter Ebene 2'!H35+'D.3. Verdichter Ebene 3'!H35","v":0},{"$f":"+'A.1. Rohrleitungen Ebene 1'!J35+'A.2. Rohrleitungen Ebene 2'!J35+'A.3. Rohrlleitungen Ebene 3'!J35+'B.1. Schieberstationen Ebene 1'!J35+'B.2. Schieberstationen Ebene 2'!J35+'B.3. Schieberstationen Ebene 3'!J35+'C.1. GDRAs Ebene 1'!J35+'C.2. GDRAs Ebene 2'!J35+'C.3. GDRAs Ebene 3'!J35+'D.1. Verdichter Ebene 1'!J35+'D.2. Verdichter Ebene 2'!J35+'D.3. Verdichter Ebene 3'!J35","v":0},{"$f":"+'F.1 Geleistete BKZ E1'!D35+'F.2 Geleistete BKZ E2'!D35+'F.3 Geleistete BKZ E3'!D35","v":0},{"$f":"+'F.1 Geleistete BKZ E1'!E35+'F.2 Geleistete BKZ E2'!E35+'F.3 Geleistete BKZ E3'!E35","v":0},{"$f":"+'F.1 Geleistete BKZ E1'!F35+'F.2 Geleistete BKZ E2'!F35+'F.3 Geleistete BKZ E3'!F35","v":0}]
[26,1988,null,0,0,0,{"$error":"#DIV/0!"},null,{"$f":"+'E.1. Baukostenzuschüsse Ebene 1'!F36+'E.2. Baukostenzuschüsse Ebene 2'!F36+'E.3. Baukostenzuschüsse Ebene 3'!F36","v":0},{"$f":"+'E.1. Baukostenzuschüsse Ebene 1'!H36+'E.2. Baukostenzuschüsse Ebene 2'!H36+'E.3. Baukostenzuschüsse Ebene 3'!H36","v":0},{"$f":"+'E.1. Baukostenzuschüsse Ebene 1'!J36+'E.2. Baukostenzuschüsse Ebene 2'!J36+'E.3. Baukostenzuschüsse Ebene 3'!J36","v":0},0,0,null,null,null,null,null,null,null,{"$f":"+'A.1. Rohrleitungen Ebene 1'!F36+'A.2. Rohrleitungen Ebene 2'!F36+'A.3. Rohrlleitungen Ebene 3'!F36+'B.1. Schieberstationen Ebene 1'!F36+'B.2. Schieberstationen Ebene 2'!F36+'B.3. Schieberstationen Ebene 3'!F36+'C.1. GDRAs Ebene 1'!F36+'C.2. GDRAs Ebene 2'!F36+'C.3. GDRAs Ebene 3'!F36+'D.1. Verdichter Ebene 1'!F36+'D.2. Verdichter Ebene 2'!F36+'D.3. Verdichter Ebene 3'!F36","v":0},{"$f":"+'A.1. Rohrleitungen Ebene 1'!H36+'A.2. Rohrleitungen Ebene 2'!H36+'A.3. Rohrlleitungen Ebene 3'!H36+'B.1. Schieberstationen Ebene 1'!H36+'B.2. Schieberstationen Ebene 2'!H36+'B.3. Schieberstationen Ebene 3'!H36+'C.1. GDRAs Ebene 1'!H36+'C.2. GDRAs Ebene 2'!H36+'C.3. GDRAs Ebene 3'!H36+'D.1. Verdichter Ebene 1'!H36+'D.2. Verdichter Ebene 2'!H36+'D.3. Verdichter Ebene 3'!H36","v":0},{"$f":"+'A.1. Rohrleitungen Ebene 1'!J36+'A.2. Rohrleitungen Ebene 2'!J36+'A.3. Rohrlleitungen Ebene 3'!J36+'B.1. Schieberstationen Ebene 1'!J36+'B.2. Schieberstationen Ebene 2'!J36+'B.3. Schieberstationen Ebene 3'!J36+'C.1. GDRAs Ebene 1'!J36+'C.2. GDRAs Ebene 2'!J36+'C.3. GDRAs Ebene 3'!J36+'D.1. Verdichter Ebene 1'!J36+'D.2. Verdichter Ebene 2'!J36+'D.3. Verdichter Ebene 3'!J36","v":0},{"$f":"+'F.1 Geleistete BKZ E1'!D36+'F.2 Geleistete BKZ E2'!D36+'F.3 Geleistete BKZ E3'!D36","v":0},{"$f":"+'F.1 Geleistete BKZ E1'!E36+'F.2 Geleistete BKZ E2'!E36+'F.3 Geleistete BKZ E3'!E36","v":0},{"$f":"+'F.1 Geleistete BKZ E1'!F36+'F.2 Geleistete BKZ E2'!F36+'F.3 Geleistete BKZ E3'!F36","v":0}]
[27,1987,null,0,0,0,{"$error":"#DIV/0!"},null,{"$f":"+'E.1. Baukostenzuschüsse Ebene 1'!F37+'E.2. Baukostenzuschüsse Ebene 2'!F37+'E.3. Baukostenzuschüsse Ebene 3'!F37","v":0},{"$f":"+'E.1. Baukostenzuschüsse Ebene 1'!H37+'E.2. Baukostenzuschüsse Ebene 2'!H37+'E.3. Baukostenzuschüsse Ebene 3'!H37","v":0},{"$f":"+'E.1. Baukostenzuschüsse Ebene 1'!J37+'E.2. Baukostenzuschüsse Ebene 2'!J37+'E.3. Baukostenzuschüsse Ebene 3'!J37","v":0},0,0,null,null,null,null,null,null,null,{"$f":"+'A.1. Rohrleitungen Ebene 1'!F37+'A.2. Rohrleitungen Ebene 2'!F37+'A.3. Rohrlleitungen Ebene 3'!F37+'B.1. Schieberstationen Ebene 1'!F37+'B.2. Schieberstationen Ebene 2'!F37+'B.3. Schieberstationen Ebene 3'!F37+'C.1. GDRAs Ebene 1'!F37+'C.2. GDRAs Ebene 2'!F37+'C.3. GDRAs Ebene 3'!F37+'D.1. Verdichter Ebene 1'!F37+'D.2. Verdichter Ebene 2'!F37+'D.3. Verdichter Ebene 3'!F37","v":0},{"$f":"+'A.1. Rohrleitungen Ebene 1'!H37+'A.2. Rohrleitungen Ebene 2'!H37+'A.3. Rohrlleitungen Ebene 3'!H37+'B.1. Schieberstationen Ebene 1'!H37+'B.2. Schieberstationen Ebene 2'!H37+'B.3. Schieberstationen Ebene 3'!H37+'C.1. GDRAs Ebene 1'!H37+'C.2. GDRAs Ebene 2'!H37+'C.3. GDRAs Ebene 3'!H37+'D.1. Verdichter Ebene 1'!H37+'D.2. Verdichter Ebene 2'!H37+'D.3. Verdichter Ebene 3'!H37","v":0},{"$f":"+'A.1. Rohrleitungen Ebene 1'!J37+'A.2. Rohrleitungen Ebene 2'!J37+'A.3. Rohrlleitungen Ebene 3'!J37+'B.1. Schieberstationen Ebene 1'!J37+'B.2. Schieberstationen Ebene 2'!J37+'B.3. Schieberstationen Ebene 3'!J37+'C.1. GDRAs Ebene 1'!J37+'C.2. GDRAs Ebene 2'!J37+'C.3. GDRAs Ebene 3'!J37+'D.1. Verdichter Ebene 1'!J37+'D.2. Verdichter Ebene 2'!J37+'D.3. Verdichter Ebene 3'!J37","v":0},{"$f":"+'F.1 Geleistete BKZ E1'!D37+'F.2 Geleistete BKZ E2'!D37+'F.3 Geleistete BKZ E3'!D37","v":0},{"$f":"+'F.1 Geleistete BKZ E1'!E37+'F.2 Geleistete BKZ E2'!E37+'F.3 Geleistete BKZ E3'!E37","v":0},{"$f":"+'F.1 Geleistete BKZ E1'!F37+'F.2 Geleistete BKZ E2'!F37+'F.3 Geleistete BKZ E3'!F37","v":0}]
[28,1986,null,0,0,0,{"$error":"#DIV/0!"},null,{"$f":"+'E.1. Baukostenzuschüsse Ebene 1'!F38+'E.2. Baukostenzuschüsse Ebene 2'!F38+'E.3. Baukostenzuschüsse Ebene 3'!F38","v":0},{"$f":"+'E.1. Baukostenzuschüsse Ebene 1'!H38+'E.2. Baukostenzuschüsse Ebene 2'!H38+'E.3. Baukostenzuschüsse Ebene 3'!H38","v":0},{"$f":"+'E.1. Baukostenzuschüsse Ebene 1'!J38+'E.2. Baukostenzuschüsse Ebene 2'!J38+'E.3. Baukostenzuschüsse Ebene 3'!J38","v":0},0,0,null,null,null,null,null,null,null,{"$f":"+'A.1. Rohrleitungen Ebene 1'!F38+'A.2. Rohrleitungen Ebene 2'!F38+'A.3. Rohrlleitungen Ebene 3'!F38+'B.1. Schieberstationen Ebene 1'!F38+'B.2. Schieberstationen Ebene 2'!F38+'B.3. Schieberstationen Ebene 3'!F38+'C.1. GDRAs Ebene 1'!F38+'C.2. GDRAs Ebene 2'!F38+'C.3. GDRAs Ebene 3'!F38+'D.1. Verdichter Ebene 1'!F38+'D.2. Verdichter Ebene 2'!F38+'D.3. Verdichter Ebene 3'!F38","v":0},{"$f":"+'A.1. Rohrleitungen Ebene 1'!H38+'A.2. Rohrleitungen Ebene 2'!H38+'A.3. Rohrlleitungen Ebene 3'!H38+'B.1. Schieberstationen Ebene 1'!H38+'B.2. Schieberstationen Ebene 2'!H38+'B.3. Schieberstationen Ebene 3'!H38+'C.1. GDRAs Ebene 1'!H38+'C.2. GDRAs Ebene 2'!H38+'C.3. GDRAs Ebene 3'!H38+'D.1. Verdichter Ebene 1'!H38+'D.2. Verdichter Ebene 2'!H38+'D.3. Verdichter Ebene 3'!H38","v":0},{"$f":"+'A.1. Rohrleitungen Ebene 1'!J38+'A.2. Rohrleitungen Ebene 2'!J38+'A.3. Rohrlleitungen Ebene 3'!J38+'B.1. Schieberstationen Ebene 1'!J38+'B.2. Schieberstationen Ebene 2'!J38+'B.3. Schieberstationen Ebene 3'!J38+'C.1. GDRAs Ebene 1'!J38+'C.2. GDRAs Ebene 2'!J38+'C.3. GDRAs Ebene 3'!J38+'D.1. Verdichter Ebene 1'!J38+'D.2. Verdichter Ebene 2'!J38+'D.3. Verdichter Ebene 3'!J38","v":0},{"$f":"+'F.1 Geleistete BKZ E1'!D38+'F.2 Geleistete BKZ E2'!D38+'F.3 Geleistete BKZ E3'!D38","v":0},{"$f":"+'F.1 Geleistete BKZ E1'!E38+'F.2 Geleistete BKZ E2'!E38+'F.3 Geleistete BKZ E3'!E38","v":0},{"$f":"+'F.1 Geleistete BKZ E1'!F38+'F.2 Geleistete BKZ E2'!F38+'F.3 Geleistete BKZ E3'!F38","v":0}]
[29,1985,null,0,0,0,{"$error":"#DIV/0!"},null,{"$f":"+'E.1. Baukostenzuschüsse Ebene 1'!F39+'E.2. Baukostenzuschüsse Ebene 2'!F39+'E.3. Baukostenzuschüsse Ebene 3'!F39","v":0},{"$f":"+'E.1. Baukostenzuschüsse Ebene 1'!H39+'E.2. Baukostenzuschüsse Ebene 2'!H39+'E.3. Baukostenzuschüsse Ebene 3'!H39","v":0},{"$f":"+'E.1. Baukostenzuschüsse Ebene 1'!J39+'E.2. Baukostenzuschüsse Ebene 2'!J39+'E.3. Baukostenzuschüsse Ebene 3'!J39","v":0},0,0,null,null,null,null,null,null,null,{"$f":"+'A.1. Rohrleitungen Ebene 1'!F39+'A.2. Rohrleitungen Ebene 2'!F39+'A.3. Rohrlleitungen Ebene 3'!F39+'B.1. Schieberstationen Ebene 1'!F39+'B.2. Schieberstationen Ebene 2'!F39+'B.3. Schieberstationen Ebene 3'!F39+'C.1. GDRAs Ebene 1'!F39+'C.2. GDRAs Ebene 2'!F39+'C.3. GDRAs Ebene 3'!F39+'D.1. Verdichter Ebene 1'!F39+'D.2. Verdichter Ebene 2'!F39+'D.3. Verdichter Ebene 3'!F39","v":0},{"$f":"+'A.1. Rohrleitungen Ebene 1'!H39+'A.2. Rohrleitungen Ebene 2'!H39+'A.3. Rohrlleitungen Ebene 3'!H39+'B.1. Schieberstationen Ebene 1'!H39+'B.2. Schieberstationen Ebene 2'!H39+'B.3. Schieberstationen Ebene 3'!H39+'C.1. GDRAs Ebene 1'!H39+'C.2. GDRAs Ebene 2'!H39+'C.3. GDRAs Ebene 3'!H39+'D.1. Verdichter Ebene 1'!H39+'D.2. Verdichter Ebene 2'!H39+'D.3. Verdichter Ebene 3'!H39","v":0},{"$f":"+'A.1. Rohrleitungen Ebene 1'!J39+'A.2. Rohrleitungen Ebene 2'!J39+'A.3. Rohrlleitungen Ebene 3'!J39+'B.1. Schieberstationen Ebene 1'!J39+'B.2. Schieberstationen Ebene 2'!J39+'B.3. Schieberstationen Ebene 3'!J39+'C.1. GDRAs Ebene 1'!J39+'C.2. GDRAs Ebene 2'!J39+'C.3. GDRAs Ebene 3'!J39+'D.1. Verdichter Ebene 1'!J39+'D.2. Verdichter Ebene 2'!J39+'D.3. Verdichter Ebene 3'!J39","v":0},{"$f":"+'F.1 Geleistete BKZ E1'!D39+'F.2 Geleistete BKZ E2'!D39+'F.3 Geleistete BKZ E3'!D39","v":0},{"$f":"+'F.1 Geleistete BKZ E1'!E39+'F.2 Geleistete BKZ E2'!E39+'F.3 Geleistete BKZ E3'!E39","v":0},{"$f":"+'F.1 Geleistete BKZ E1'!F39+'F.2 Geleistete BKZ E2'!F39+'F.3 Geleistete BKZ E3'!F39","v":0}]
[30,1984,null,0,0,0,{"$error":"#DIV/0!"},null,{"$f":"+'E.1. Baukostenzuschüsse Ebene 1'!F40+'E.2. Baukostenzuschüsse Ebene 2'!F40+'E.3. Baukostenzuschüsse Ebene 3'!F40","v":0},{"$f":"+'E.1. Baukostenzuschüsse Ebene 1'!H40+'E.2. Baukostenzuschüsse Ebene 2'!H40+'E.3. Baukostenzuschüsse Ebene 3'!H40","v":0},{"$f":"+'E.1. Baukostenzuschüsse Ebene 1'!J40+'E.2. Baukostenzuschüsse Ebene 2'!J40+'E.3. Baukostenzuschüsse Ebene 3'!J40","v":0},0,0,null,null,null,null,null,null,null,{"$f":"+'A.1. Rohrleitungen Ebene 1'!F40+'A.2. Rohrleitungen Ebene 2'!F40+'A.3. Rohrlleitungen Ebene 3'!F40+'B.1. Schieberstationen Ebene 1'!F40+'B.2. Schieberstationen Ebene 2'!F40+'B.3. Schieberstationen Ebene 3'!F40+'C.1. GDRAs Ebene 1'!F40+'C.2. GDRAs Ebene 2'!F40+'C.3. GDRAs Ebene 3'!F40+'D.1. Verdichter Ebene 1'!F40+'D.2. Verdichter Ebene 2'!F40+'D.3. Verdichter Ebene 3'!F40","v":0},{"$f":"+'A.1. Rohrleitungen Ebene 1'!H40+'A.2. Rohrleitungen Ebene 2'!H40+'A.3. Rohrlleitungen Ebene 3'!H40+'B.1. Schieberstationen Ebene 1'!H40+'B.2. Schieberstationen Ebene 2'!H40+'B.3. Schieberstationen Ebene 3'!H40+'C.1. GDRAs Ebene 1'!H40+'C.2. GDRAs Ebene 2'!H40+'C.3. GDRAs Ebene 3'!H40+'D.1. Verdichter Ebene 1'!H40+'D.2. Verdichter Ebene 2'!H40+'D.3. Verdichter Ebene 3'!H40","v":0},{"$f":"+'A.1. Rohrleitungen Ebene 1'!J40+'A.2. Rohrleitungen Ebene 2'!J40+'A.3. Rohrlleitungen Ebene 3'!J40+'B.1. Schieberstationen Ebene 1'!J40+'B.2. Schieberstationen Ebene 2'!J40+'B.3. Schieberstationen Ebene 3'!J40+'C.1. GDRAs Ebene 1'!J40+'C.2. GDRAs Ebene 2'!J40+'C.3. GDRAs Ebene 3'!J40+'D.1. Verdichter Ebene 1'!J40+'D.2. Verdichter Ebene 2'!J40+'D.3. Verdichter Ebene 3'!J40","v":0},{"$f":"+'F.1 Geleistete BKZ E1'!D40+'F.2 Geleistete BKZ E2'!D40+'F.3 Geleistete BKZ E3'!D40","v":0},{"$f":"+'F.1 Geleistete BKZ E1'!E40+'F.2 Geleistete BKZ E2'!E40+'F.3 Geleistete BKZ E3'!E40","v":0},{"$f":"+'F.1 Geleistete BKZ E1'!F40+'F.2 Geleistete BKZ E2'!F40+'F.3 Geleistete BKZ E3'!F40","v":0}]
[31,1983,null,0,0,0,{"$error":"#DIV/0!"},null,{"$f":"+'E.1. Baukostenzuschüsse Ebene 1'!F41+'E.2. Baukostenzuschüsse Ebene 2'!F41+'E.3. Baukostenzuschüsse Ebene 3'!F41","v":0},{"$f":"+'E.1. Baukostenzuschüsse Ebene 1'!H41+'E.2. Baukostenzuschüsse Ebene 2'!H41+'E.3. Baukostenzuschüsse Ebene 3'!H41","v":0},{"$f":"+'E.1. Baukostenzuschüsse Ebene 1'!J41+'E.2. Baukostenzuschüsse Ebene 2'!J41+'E.3. Baukostenzuschüsse Ebene 3'!J41","v":0},0,0,null,null,null,null,null,null,null,{"$f":"+'A.1. Rohrleitungen Ebene 1'!F41+'A.2. Rohrleitungen Ebene 2'!F41+'A.3. Rohrlleitungen Ebene 3'!F41+'B.1. Schieberstationen Ebene 1'!F41+'B.2. Schieberstationen Ebene 2'!F41+'B.3. Schieberstationen Ebene 3'!F41+'C.1. GDRAs Ebene 1'!F41+'C.2. GDRAs Ebene 2'!F41+'C.3. GDRAs Ebene 3'!F41+'D.1. Verdichter Ebene 1'!F41+'D.2. Verdichter Ebene 2'!F41+'D.3. Verdichter Ebene 3'!F41","v":0},{"$f":"+'A.1. Rohrleitungen Ebene 1'!H41+'A.2. Rohrleitungen Ebene 2'!H41+'A.3. Rohrlleitungen Ebene 3'!H41+'B.1. Schieberstationen Ebene 1'!H41+'B.2. Schieberstationen Ebene 2'!H41+'B.3. Schieberstationen Ebene 3'!H41+'C.1. GDRAs Ebene 1'!H41+'C.2. GDRAs Ebene 2'!H41+'C.3. GDRAs Ebene 3'!H41+'D.1. Verdichter Ebene 1'!H41+'D.2. Verdichter Ebene 2'!H41+'D.3. Verdichter Ebene 3'!H41","v":0},{"$f":"+'A.1. Rohrleitungen Ebene 1'!J41+'A.2. Rohrleitungen Ebene 2'!J41+'A.3. Rohrlleitungen Ebene 3'!J41+'B.1. Schieberstationen Ebene 1'!J41+'B.2. Schieberstationen Ebene 2'!J41+'B.3. Schieberstationen Ebene 3'!J41+'C.1. GDRAs Ebene 1'!J41+'C.2. GDRAs Ebene 2'!J41+'C.3. GDRAs Ebene 3'!J41+'D.1. Verdichter Ebene 1'!J41+'D.2. Verdichter Ebene 2'!J41+'D.3. Verdichter Ebene 3'!J41","v":0},{"$f":"+'F.1 Geleistete BKZ E1'!D41+'F.2 Geleistete BKZ E2'!D41+'F.3 Geleistete BKZ E3'!D41","v":0},{"$f":"+'F.1 Geleistete BKZ E1'!E41+'F.2 Geleistete BKZ E2'!E41+'F.3 Geleistete BKZ E3'!E41","v":0},{"$f":"+'F.1 Geleistete BKZ E1'!F41+'F.2 Geleistete BKZ E2'!F41+'F.3 Geleistete BKZ E3'!F41","v":0}]
[32,1982,null,0,0,0,{"$error":"#DIV/0!"},null,{"$f":"+'E.1. Baukostenzuschüsse Ebene 1'!F42+'E.2. Baukostenzuschüsse Ebene 2'!F42+'E.3. Baukostenzuschüsse Ebene 3'!F42","v":0},{"$f":"+'E.1. Baukostenzuschüsse Ebene 1'!H42+'E.2. Baukostenzuschüsse Ebene 2'!H42+'E.3. Baukostenzuschüsse Ebene 3'!H42","v":0},{"$f":"+'E.1. Baukostenzuschüsse Ebene 1'!J42+'E.2. Baukostenzuschüsse Ebene 2'!J42+'E.3. Baukostenzuschüsse Ebene 3'!J42","v":0},0,0,null,null,null,null,null,null,null,{"$f":"+'A.1. Rohrleitungen Ebene 1'!F42+'A.2. Rohrleitungen Ebene 2'!F42+'A.3. Rohrlleitungen Ebene 3'!F42+'B.1. Schieberstationen Ebene 1'!F42+'B.2. Schieberstationen Ebene 2'!F42+'B.3. Schieberstationen Ebene 3'!F42+'C.1. GDRAs Ebene 1'!F42+'C.2. GDRAs Ebene 2'!F42+'C.3. GDRAs Ebene 3'!F42+'D.1. Verdichter Ebene 1'!F42+'D.2. Verdichter Ebene 2'!F42+'D.3. Verdichter Ebene 3'!F42","v":0},{"$f":"+'A.1. Rohrleitungen Ebene 1'!H42+'A.2. Rohrleitungen Ebene 2'!H42+'A.3. Rohrlleitungen Ebene 3'!H42+'B.1. Schieberstationen Ebene 1'!H42+'B.2. Schieberstationen Ebene 2'!H42+'B.3. Schieberstationen Ebene 3'!H42+'C.1. GDRAs Ebene 1'!H42+'C.2. GDRAs Ebene 2'!H42+'C.3. GDRAs Ebene 3'!H42+'D.1. Verdichter Ebene 1'!H42+'D.2. Verdichter Ebene 2'!H42+'D.3. Verdichter Ebene 3'!H42","v":0},{"$f":"+'A.1. Rohrleitungen Ebene 1'!J42+'A.2. Rohrleitungen Ebene 2'!J42+'A.3. Rohrlleitungen Ebene 3'!J42+'B.1. Schieberstationen Ebene 1'!J42+'B.2. Schieberstationen Ebene 2'!J42+'B.3. Schieberstationen Ebene 3'!J42+'C.1. GDRAs Ebene 1'!J42+'C.2. GDRAs Ebene 2'!J42+'C.3. GDRAs Ebene 3'!J42+'D.1. Verdichter Ebene 1'!J42+'D.2. Verdichter Ebene 2'!J42+'D.3. Verdichter Ebene 3'!J42","v":0},{"$f":"+'F.1 Geleistete BKZ E1'!D42+'F.2 Geleistete BKZ E2'!D42+'F.3 Geleistete BKZ E3'!D42","v":0},{"$f":"+'F.1 Geleistete BKZ E1'!E42+'F.2 Geleistete BKZ E2'!E42+'F.3 Geleistete BKZ E3'!E42","v":0},{"$f":"+'F.1 Geleistete BKZ E1'!F42+'F.2 Geleistete BKZ E2'!F42+'F.3 Geleistete BKZ E3'!F42","v":0}]
[33,1981,null,{"$f":"+U43+X43","v":0},{"$f":"+V43+Y43","v":0},{"$f":"+W43+Z43","v":0},{"$f":"+D43/F43","v":{"$error":"#DIV/0!"}},null,{"$f":"+'E.1. Baukostenzuschüsse Ebene 1'!F43+'E.2. Baukostenzuschüsse Ebene 2'!F43+'E.3. Baukostenzuschüsse Ebene 3'!F43","v":0},{"$f":"+'E.1. Baukostenzuschüsse Ebene 1'!H43+'E.2. Baukostenzuschüsse Ebene 2'!H43+'E.3. Baukostenzuschüsse Ebene 3'!H43","v":0},{"$f":"+'E.1. Baukostenzuschüsse Ebene 1'!J43+'E.2. Baukostenzuschüsse Ebene 2'!J43+'E.3. Baukostenzuschüsse Ebene 3'!J43","v":0},{"$f":"+D43-I43","v":0},0,null,null,null,null,null,null,null,{"$f":"+'A.1. Rohrleitungen Ebene 1'!F43+'A.2. Rohrleitungen Ebene 2'!F43+'A.3. Rohrlleitungen Ebene 3'!F43+'B.1. Schieberstationen Ebene 1'!F43+'B.2. Schieberstationen Ebene 2'!F43+'B.3. Schieberstationen Ebene 3'!F43+'C.1. GDRAs Ebene 1'!F43+'C.2. GDRAs Ebene 2'!F43+'C.3. GDRAs Ebene 3'!F43+'D.1. Verdichter Ebene 1'!F43+'D.2. Verdichter Ebene 2'!F43+'D.3. Verdichter Ebene 3'!F43","v":0},{"$f":"+'A.1. Rohrleitungen Ebene 1'!H43+'A.2. Rohrleitungen Ebene 2'!H43+'A.3. Rohrlleitungen Ebene 3'!H43+'B.1. Schieberstationen Ebene 1'!H43+'B.2. Schieberstationen Ebene 2'!H43+'B.3. Schieberstationen Ebene 3'!H43+'C.1. GDRAs Ebene 1'!H43+'C.2. GDRAs Ebene 2'!H43+'C.3. GDRAs Ebene 3'!H43+'D.1. Verdichter Ebene 1'!H43+'D.2. Verdichter Ebene 2'!H43+'D.3. Verdichter Ebene 3'!H43","v":0},{"$f":"+'A.1. Rohrleitungen Ebene 1'!J43+'A.2. Rohrleitungen Ebene 2'!J43+'A.3. Rohrlleitungen Ebene 3'!J43+'B.1. Schieberstationen Ebene 1'!J43+'B.2. Schieberstationen Ebene 2'!J43+'B.3. Schieberstationen Ebene 3'!J43+'C.1. GDRAs Ebene 1'!J43+'C.2. GDRAs Ebene 2'!J43+'C.3. GDRAs Ebene 3'!J43+'D.1. Verdichter Ebene 1'!J43+'D.2. Verdichter Ebene 2'!J43+'D.3. Verdichter Ebene 3'!J43","v":0},{"$f":"+'F.1 Geleistete BKZ E1'!D43+'F.2 Geleistete BKZ E2'!D43+'F.3 Geleistete BKZ E3'!D43","v":0},{"$f":"+'F.1 Geleistete BKZ E1'!E43+'F.2 Geleistete BKZ E2'!E43+'F.3 Geleistete BKZ E3'!E43","v":0},{"$f":"+'F.1 Geleistete BKZ E1'!F43+'F.2 Geleistete BKZ E2'!F43+'F.3 Geleistete BKZ E3'!F43","v":0}]
[{"$f":"+A43+1","v":34},{"$f":"B43-1","v":1980},null,0,0,0,{"$error":"#DIV/0!"},null,{"$f":"+'E.1. Baukostenzuschüsse Ebene 1'!F44+'E.2. Baukostenzuschüsse Ebene 2'!F44+'E.3. Baukostenzuschüsse Ebene 3'!F44","v":0},{"$f":"+'E.1. Baukostenzuschüsse Ebene 1'!H44+'E.2. Baukostenzuschüsse Ebene 2'!H44+'E.3. Baukostenzuschüsse Ebene 3'!H44","v":0},{"$f":"+'E.1. Baukostenzuschüsse Ebene 1'!J44+'E.2. Baukostenzuschüsse Ebene 2'!J44+'E.3. Baukostenzuschüsse Ebene 3'!J44","v":0},0,0,null,null,null,null,null,null,null,{"$f":"+'A.1. Rohrleitungen Ebene 1'!F44+'A.2. Rohrleitungen Ebene 2'!F44+'A.3. Rohrlleitungen Ebene 3'!F44+'B.1. Schieberstationen Ebene 1'!F44+'B.2. Schieberstationen Ebene 2'!F44+'B.3. Schieberstationen Ebene 3'!F44+'C.1. GDRAs Ebene 1'!F44+'C.2. GDRAs Ebene 2'!F44+'C.3. GDRAs Ebene 3'!F44+'D.1. Verdichter Ebene 1'!F44+'D.2. Verdichter Ebene 2'!F44+'D.3. Verdichter Ebene 3'!F44","v":0},{"$f":"+'A.1. Rohrleitungen Ebene 1'!H44+'A.2. Rohrleitungen Ebene 2'!H44+'A.3. Rohrlleitungen Ebene 3'!H44+'B.1. Schieberstationen Ebene 1'!H44+'B.2. Schieberstationen Ebene 2'!H44+'B.3. Schieberstationen Ebene 3'!H44+'C.1. GDRAs Ebene 1'!H44+'C.2. GDRAs Ebene 2'!H44+'C.3. GDRAs Ebene 3'!H44+'D.1. Verdichter Ebene 1'!H44+'D.2. Verdichter Ebene 2'!H44+'D.3. Verdichter Ebene 3'!H44","v":0},{"$f":"+'A.1. Rohrleitungen Ebene 1'!J44+'A.2. Rohrleitungen Ebene 2'!J44+'A.3. Rohrlleitungen Ebene 3'!J44+'B.1. Schieberstationen Ebene 1'!J44+'B.2. Schieberstationen Ebene 2'!J44+'B.3. Schieberstationen Ebene 3'!J44+'C.1. GDRAs Ebene 1'!J44+'C.2. GDRAs Ebene 2'!J44+'C.3. GDRAs Ebene 3'!J44+'D.1. Verdichter Ebene 1'!J44+'D.2. Verdichter Ebene 2'!J44+'D.3. Verdichter Ebene 3'!J44","v":0},{"$f":"+'F.1 Geleistete BKZ E1'!D44+'F.2 Geleistete BKZ E2'!D44+'F.3 Geleistete BKZ E3'!D44","v":0},{"$f":"+'F.1 Geleistete BKZ E1'!E44+'F.2 Geleistete BKZ E2'!E44+'F.3 Geleistete BKZ E3'!E44","v":0},{"$f":"+'F.1 Geleistete BKZ E1'!F44+'F.2 Geleistete BKZ E2'!F44+'F.3 Geleistete BKZ E3'!F44","v":0}]
[35,1979,null,0,0,0,{"$error":"#DIV/0!"},null,{"$f":"+'E.1. Baukostenzuschüsse Ebene 1'!F45+'E.2. Baukostenzuschüsse Ebene 2'!F45+'E.3. Baukostenzuschüsse Ebene 3'!F45","v":0},{"$f":"+'E.1. Baukostenzuschüsse Ebene 1'!H45+'E.2. Baukostenzuschüsse Ebene 2'!H45+'E.3. Baukostenzuschüsse Ebene 3'!H45","v":0},{"$f":"+'E.1. Baukostenzuschüsse Ebene 1'!J45+'E.2. Baukostenzuschüsse Ebene 2'!J45+'E.3. Baukostenzuschüsse Ebene 3'!J45","v":0},0,0,null,null,null,null,null,null,null,{"$f":"+'A.1. Rohrleitungen Ebene 1'!F45+'A.2. Rohrleitungen Ebene 2'!F45+'A.3. Rohrlleitungen Ebene 3'!F45+'B.1. Schieberstationen Ebene 1'!F45+'B.2. Schieberstationen Ebene 2'!F45+'B.3. Schieberstationen Ebene 3'!F45+'C.1. GDRAs Ebene 1'!F45+'C.2. GDRAs Ebene 2'!F45+'C.3. GDRAs Ebene 3'!F45+'D.1. Verdichter Ebene 1'!F45+'D.2. Verdichter Ebene 2'!F45+'D.3. Verdichter Ebene 3'!F45","v":0},{"$f":"+'A.1. Rohrleitungen Ebene 1'!H45+'A.2. Rohrleitungen Ebene 2'!H45+'A.3. Rohrlleitungen Ebene 3'!H45+'B.1. Schieberstationen Ebene 1'!H45+'B.2. Schieberstationen Ebene 2'!H45+'B.3. Schieberstationen Ebene 3'!H45+'C.1. GDRAs Ebene 1'!H45+'C.2. GDRAs Ebene 2'!H45+'C.3. GDRAs Ebene 3'!H45+'D.1. Verdichter Ebene 1'!H45+'D.2. Verdichter Ebene 2'!H45+'D.3. Verdichter Ebene 3'!H45","v":0},{"$f":"+'A.1. Rohrleitungen Ebene 1'!J45+'A.2. Rohrleitungen Ebene 2'!J45+'A.3. Rohrlleitungen Ebene 3'!J45+'B.1. Schieberstationen Ebene 1'!J45+'B.2. Schieberstationen Ebene 2'!J45+'B.3. Schieberstationen Ebene 3'!J45+'C.1. GDRAs Ebene 1'!J45+'C.2. GDRAs Ebene 2'!J45+'C.3. GDRAs Ebene 3'!J45+'D.1. Verdichter Ebene 1'!J45+'D.2. Verdichter Ebene 2'!J45+'D.3. Verdichter Ebene 3'!J45","v":0},{"$f":"+'F.1 Geleistete BKZ E1'!D45+'F.2 Geleistete BKZ E2'!D45+'F.3 Geleistete BKZ E3'!D45","v":0},{"$f":"+'F.1 Geleistete BKZ E1'!E45+'F.2 Geleistete BKZ E2'!E45+'F.3 Geleistete BKZ E3'!E45","v":0},{"$f":"+'F.1 Geleistete BKZ E1'!F45+'F.2 Geleistete BKZ E2'!F45+'F.3 Geleistete BKZ E3'!F45","v":0}]
[36,1978,null,0,0,0,{"$error":"#DIV/0!"},null,{"$f":"+'E.1. Baukostenzuschüsse Ebene 1'!F46+'E.2. Baukostenzuschüsse Ebene 2'!F46+'E.3. Baukostenzuschüsse Ebene 3'!F46","v":0},{"$f":"+'E.1. Baukostenzuschüsse Ebene 1'!H46+'E.2. Baukostenzuschüsse Ebene 2'!H46+'E.3. Baukostenzuschüsse Ebene 3'!H46","v":0},{"$f":"+'E.1. Baukostenzuschüsse Ebene 1'!J46+'E.2. Baukostenzuschüsse Ebene 2'!J46+'E.3. Baukostenzuschüsse Ebene 3'!J46","v":0},0,0,null,null,null,null,null,null,null,{"$f":"+'A.1. Rohrleitungen Ebene 1'!F46+'A.2. Rohrleitungen Ebene 2'!F46+'A.3. Rohrlleitungen Ebene 3'!F46+'B.1. Schieberstationen Ebene 1'!F46+'B.2. Schieberstationen Ebene 2'!F46+'B.3. Schieberstationen Ebene 3'!F46+'C.1. GDRAs Ebene 1'!F46+'C.2. GDRAs Ebene 2'!F46+'C.3. GDRAs Ebene 3'!F46+'D.1. Verdichter Ebene 1'!F46+'D.2. Verdichter Ebene 2'!F46+'D.3. Verdichter Ebene 3'!F46","v":0},{"$f":"+'A.1. Rohrleitungen Ebene 1'!H46+'A.2. Rohrleitungen Ebene 2'!H46+'A.3. Rohrlleitungen Ebene 3'!H46+'B.1. Schieberstationen Ebene 1'!H46+'B.2. Schieberstationen Ebene 2'!H46+'B.3. Schieberstationen Ebene 3'!H46+'C.1. GDRAs Ebene 1'!H46+'C.2. GDRAs Ebene 2'!H46+'C.3. GDRAs Ebene 3'!H46+'D.1. Verdichter Ebene 1'!H46+'D.2. Verdichter Ebene 2'!H46+'D.3. Verdichter Ebene 3'!H46","v":0},{"$f":"+'A.1. Rohrleitungen Ebene 1'!J46+'A.2. Rohrleitungen Ebene 2'!J46+'A.3. Rohrlleitungen Ebene 3'!J46+'B.1. Schieberstationen Ebene 1'!J46+'B.2. Schieberstationen Ebene 2'!J46+'B.3. Schieberstationen Ebene 3'!J46+'C.1. GDRAs Ebene 1'!J46+'C.2. GDRAs Ebene 2'!J46+'C.3. GDRAs Ebene 3'!J46+'D.1. Verdichter Ebene 1'!J46+'D.2. Verdichter Ebene 2'!J46+'D.3. Verdichter Ebene 3'!J46","v":0},{"$f":"+'F.1 Geleistete BKZ E1'!D46+'F.2 Geleistete BKZ E2'!D46+'F.3 Geleistete BKZ E3'!D46","v":0},{"$f":"+'F.1 Geleistete BKZ E1'!E46+'F.2 Geleistete BKZ E2'!E46+'F.3 Geleistete BKZ E3'!E46","v":0},{"$f":"+'F.1 Geleistete BKZ E1'!F46+'F.2 Geleistete BKZ E2'!F46+'F.3 Geleistete BKZ E3'!F46","v":0}]
[37,1977,null,0,0,0,{"$error":"#DIV/0!"},null,{"$f":"+'E.1. Baukostenzuschüsse Ebene 1'!F47+'E.2. Baukostenzuschüsse Ebene 2'!F47+'E.3. Baukostenzuschüsse Ebene 3'!F47","v":0},{"$f":"+'E.1. Baukostenzuschüsse Ebene 1'!H47+'E.2. Baukostenzuschüsse Ebene 2'!H47+'E.3. Baukostenzuschüsse Ebene 3'!H47","v":0},{"$f":"+'E.1. Baukostenzuschüsse Ebene 1'!J47+'E.2. Baukostenzuschüsse Ebene 2'!J47+'E.3. Baukostenzuschüsse Ebene 3'!J47","v":0},0,0,null,null,null,null,null,null,null,{"$f":"+'A.1. Rohrleitungen Ebene 1'!F47+'A.2. Rohrleitungen Ebene 2'!F47+'A.3. Rohrlleitungen Ebene 3'!F47+'B.1. Schieberstationen Ebene 1'!F47+'B.2. Schieberstationen Ebene 2'!F47+'B.3. Schieberstationen Ebene 3'!F47+'C.1. GDRAs Ebene 1'!F47+'C.2. GDRAs Ebene 2'!F47+'C.3. GDRAs Ebene 3'!F47+'D.1. Verdichter Ebene 1'!F47+'D.2. Verdichter Ebene 2'!F47+'D.3. Verdichter Ebene 3'!F47","v":0},{"$f":"+'A.1. Rohrleitungen Ebene 1'!H47+'A.2. Rohrleitungen Ebene 2'!H47+'A.3. Rohrlleitungen Ebene 3'!H47+'B.1. Schieberstationen Ebene 1'!H47+'B.2. Schieberstationen Ebene 2'!H47+'B.3. Schieberstationen Ebene 3'!H47+'C.1. GDRAs Ebene 1'!H47+'C.2. GDRAs Ebene 2'!H47+'C.3. GDRAs Ebene 3'!H47+'D.1. Verdichter Ebene 1'!H47+'D.2. Verdichter Ebene 2'!H47+'D.3. Verdichter Ebene 3'!H47","v":0},{"$f":"+'A.1. Rohrleitungen Ebene 1'!J47+'A.2. Rohrleitungen Ebene 2'!J47+'A.3. Rohrlleitungen Ebene 3'!J47+'B.1. Schieberstationen Ebene 1'!J47+'B.2. Schieberstationen Ebene 2'!J47+'B.3. Schieberstationen Ebene 3'!J47+'C.1. GDRAs Ebene 1'!J47+'C.2. GDRAs Ebene 2'!J47+'C.3. GDRAs Ebene 3'!J47+'D.1. Verdichter Ebene 1'!J47+'D.2. Verdichter Ebene 2'!J47+'D.3. Verdichter Ebene 3'!J47","v":0},{"$f":"+'F.1 Geleistete BKZ E1'!D47+'F.2 Geleistete BKZ E2'!D47+'F.3 Geleistete BKZ E3'!D47","v":0},{"$f":"+'F.1 Geleistete BKZ E1'!E47+'F.2 Geleistete BKZ E2'!E47+'F.3 Geleistete BKZ E3'!E47","v":0},{"$f":"+'F.1 Geleistete BKZ E1'!F47+'F.2 Geleistete BKZ E2'!F47+'F.3 Geleistete BKZ E3'!F47","v":0}]
[38,1976,null,0,0,0,{"$error":"#DIV/0!"},null,{"$f":"+'E.1. Baukostenzuschüsse Ebene 1'!F48+'E.2. Baukostenzuschüsse Ebene 2'!F48+'E.3. Baukostenzuschüsse Ebene 3'!F48","v":0},{"$f":"+'E.1. Baukostenzuschüsse Ebene 1'!H48+'E.2. Baukostenzuschüsse Ebene 2'!H48+'E.3. Baukostenzuschüsse Ebene 3'!H48","v":0},{"$f":"+'E.1. Baukostenzuschüsse Ebene 1'!J48+'E.2. Baukostenzuschüsse Ebene 2'!J48+'E.3. Baukostenzuschüsse Ebene 3'!J48","v":0},0,0,null,null,null,null,null,null,null,{"$f":"+'A.1. Rohrleitungen Ebene 1'!F48+'A.2. Rohrleitungen Ebene 2'!F48+'A.3. Rohrlleitungen Ebene 3'!F48+'B.1. Schieberstationen Ebene 1'!F48+'B.2. Schieberstationen Ebene 2'!F48+'B.3. Schieberstationen Ebene 3'!F48+'C.1. GDRAs Ebene 1'!F48+'C.2. GDRAs Ebene 2'!F48+'C.3. GDRAs Ebene 3'!F48+'D.1. Verdichter Ebene 1'!F48+'D.2. Verdichter Ebene 2'!F48+'D.3. Verdichter Ebene 3'!F48","v":0},{"$f":"+'A.1. Rohrleitungen Ebene 1'!H48+'A.2. Rohrleitungen Ebene 2'!H48+'A.3. Rohrlleitungen Ebene 3'!H48+'B.1. Schieberstationen Ebene 1'!H48+'B.2. Schieberstationen Ebene 2'!H48+'B.3. Schieberstationen Ebene 3'!H48+'C.1. GDRAs Ebene 1'!H48+'C.2. GDRAs Ebene 2'!H48+'C.3. GDRAs Ebene 3'!H48+'D.1. Verdichter Ebene 1'!H48+'D.2. Verdichter Ebene 2'!H48+'D.3. Verdichter Ebene 3'!H48","v":0},{"$f":"+'A.1. Rohrleitungen Ebene 1'!J48+'A.2. Rohrleitungen Ebene 2'!J48+'A.3. Rohrlleitungen Ebene 3'!J48+'B.1. Schieberstationen Ebene 1'!J48+'B.2. Schieberstationen Ebene 2'!J48+'B.3. Schieberstationen Ebene 3'!J48+'C.1. GDRAs Ebene 1'!J48+'C.2. GDRAs Ebene 2'!J48+'C.3. GDRAs Ebene 3'!J48+'D.1. Verdichter Ebene 1'!J48+'D.2. Verdichter Ebene 2'!J48+'D.3. Verdichter Ebene 3'!J48","v":0},{"$f":"+'F.1 Geleistete BKZ E1'!D48+'F.2 Geleistete BKZ E2'!D48+'F.3 Geleistete BKZ E3'!D48","v":0},{"$f":"+'F.1 Geleistete BKZ E1'!E48+'F.2 Geleistete BKZ E2'!E48+'F.3 Geleistete BKZ E3'!E48","v":0},{"$f":"+'F.1 Geleistete BKZ E1'!F48+'F.2 Geleistete BKZ E2'!F48+'F.3 Geleistete BKZ E3'!F48","v":0}]
[39,1975,null,0,0,0,{"$error":"#DIV/0!"},null,{"$f":"+'E.1. Baukostenzuschüsse Ebene 1'!F49+'E.2. Baukostenzuschüsse Ebene 2'!F49+'E.3. Baukostenzuschüsse Ebene 3'!F49","v":0},{"$f":"+'E.1. Baukostenzuschüsse Ebene 1'!H49+'E.2. Baukostenzuschüsse Ebene 2'!H49+'E.3. Baukostenzuschüsse Ebene 3'!H49","v":0},{"$f":"+'E.1. Baukostenzuschüsse Ebene 1'!J49+'E.2. Baukostenzuschüsse Ebene 2'!J49+'E.3. Baukostenzuschüsse Ebene 3'!J49","v":0},0,0,null,null,null,null,null,null,null,{"$f":"+'A.1. Rohrleitungen Ebene 1'!F49+'A.2. Rohrleitungen Ebene 2'!F49+'A.3. Rohrlleitungen Ebene 3'!F49+'B.1. Schieberstationen Ebene 1'!F49+'B.2. Schieberstationen Ebene 2'!F49+'B.3. Schieberstationen Ebene 3'!F49+'C.1. GDRAs Ebene 1'!F49+'C.2. GDRAs Ebene 2'!F49+'C.3. GDRAs Ebene 3'!F49+'D.1. Verdichter Ebene 1'!F49+'D.2. Verdichter Ebene 2'!F49+'D.3. Verdichter Ebene 3'!F49","v":0},{"$f":"+'A.1. Rohrleitungen Ebene 1'!H49+'A.2. Rohrleitungen Ebene 2'!H49+'A.3. Rohrlleitungen Ebene 3'!H49+'B.1. Schieberstationen Ebene 1'!H49+'B.2. Schieberstationen Ebene 2'!H49+'B.3. Schieberstationen Ebene 3'!H49+'C.1. GDRAs Ebene 1'!H49+'C.2. GDRAs Ebene 2'!H49+'C.3. GDRAs Ebene 3'!H49+'D.1. Verdichter Ebene 1'!H49+'D.2. Verdichter Ebene 2'!H49+'D.3. Verdichter Ebene 3'!H49","v":0},{"$f":"+'A.1. Rohrleitungen Ebene 1'!J49+'A.2. Rohrleitungen Ebene 2'!J49+'A.3. Rohrlleitungen Ebene 3'!J49+'B.1. Schieberstationen Ebene 1'!J49+'B.2. Schieberstationen Ebene 2'!J49+'B.3. Schieberstationen Ebene 3'!J49+'C.1. GDRAs Ebene 1'!J49+'C.2. GDRAs Ebene 2'!J49+'C.3. GDRAs Ebene 3'!J49+'D.1. Verdichter Ebene 1'!J49+'D.2. Verdichter Ebene 2'!J49+'D.3. Verdichter Ebene 3'!J49","v":0},{"$f":"+'F.1 Geleistete BKZ E1'!D49+'F.2 Geleistete BKZ E2'!D49+'F.3 Geleistete BKZ E3'!D49","v":0},{"$f":"+'F.1 Geleistete BKZ E1'!E49+'F.2 Geleistete BKZ E2'!E49+'F.3 Geleistete BKZ E3'!E49","v":0},{"$f":"+'F.1 Geleistete BKZ E1'!F49+'F.2 Geleistete BKZ E2'!F49+'F.3 Geleistete BKZ E3'!F49","v":0}]
[40,1974,null,0,0,0,{"$error":"#DIV/0!"},null,{"$f":"+'E.1. Baukostenzuschüsse Ebene 1'!F50+'E.2. Baukostenzuschüsse Ebene 2'!F50+'E.3. Baukostenzuschüsse Ebene 3'!F50","v":0},{"$f":"+'E.1. Baukostenzuschüsse Ebene 1'!H50+'E.2. Baukostenzuschüsse Ebene 2'!H50+'E.3. Baukostenzuschüsse Ebene 3'!H50","v":0},{"$f":"+'E.1. Baukostenzuschüsse Ebene 1'!J50+'E.2. Baukostenzuschüsse Ebene 2'!J50+'E.3. Baukostenzuschüsse Ebene 3'!J50","v":0},0,0,null,null,null,null,null,null,null,{"$f":"+'A.1. Rohrleitungen Ebene 1'!F50+'A.2. Rohrleitungen Ebene 2'!F50+'A.3. Rohrlleitungen Ebene 3'!F50+'B.1. Schieberstationen Ebene 1'!F50+'B.2. Schieberstationen Ebene 2'!F50+'B.3. Schieberstationen Ebene 3'!F50+'C.1. GDRAs Ebene 1'!F50+'C.2. GDRAs Ebene 2'!F50+'C.3. GDRAs Ebene 3'!F50+'D.1. Verdichter Ebene 1'!F50+'D.2. Verdichter Ebene 2'!F50+'D.3. Verdichter Ebene 3'!F50","v":0},{"$f":"+'A.1. Rohrleitungen Ebene 1'!H50+'A.2. Rohrleitungen Ebene 2'!H50+'A.3. Rohrlleitungen Ebene 3'!H50+'B.1. Schieberstationen Ebene 1'!H50+'B.2. Schieberstationen Ebene 2'!H50+'B.3. Schieberstationen Ebene 3'!H50+'C.1. GDRAs Ebene 1'!H50+'C.2. GDRAs Ebene 2'!H50+'C.3. GDRAs Ebene 3'!H50+'D.1. Verdichter Ebene 1'!H50+'D.2. Verdichter Ebene 2'!H50+'D.3. Verdichter Ebene 3'!H50","v":0},{"$f":"+'A.1. Rohrleitungen Ebene 1'!J50+'A.2. Rohrleitungen Ebene 2'!J50+'A.3. Rohrlleitungen Ebene 3'!J50+'B.1. Schieberstationen Ebene 1'!J50+'B.2. Schieberstationen Ebene 2'!J50+'B.3. Schieberstationen Ebene 3'!J50+'C.1. GDRAs Ebene 1'!J50+'C.2. GDRAs Ebene 2'!J50+'C.3. GDRAs Ebene 3'!J50+'D.1. Verdichter Ebene 1'!J50+'D.2. Verdichter Ebene 2'!J50+'D.3. Verdichter Ebene 3'!J50","v":0},{"$f":"+'F.1 Geleistete BKZ E1'!D50+'F.2 Geleistete BKZ E2'!D50+'F.3 Geleistete BKZ E3'!D50","v":0},{"$f":"+'F.1 Geleistete BKZ E1'!E50+'F.2 Geleistete BKZ E2'!E50+'F.3 Geleistete BKZ E3'!E50","v":0},{"$f":"+'F.1 Geleistete BKZ E1'!F50+'F.2 Geleistete BKZ E2'!F50+'F.3 Geleistete BKZ E3'!F50","v":0}]
[41,1973,null,0,0,0,{"$error":"#DIV/0!"},null,{"$f":"+'E.1. Baukostenzuschüsse Ebene 1'!F51+'E.2. Baukostenzuschüsse Ebene 2'!F51+'E.3. Baukostenzuschüsse Ebene 3'!F51","v":0},{"$f":"+'E.1. Baukostenzuschüsse Ebene 1'!H51+'E.2. Baukostenzuschüsse Ebene 2'!H51+'E.3. Baukostenzuschüsse Ebene 3'!H51","v":0},{"$f":"+'E.1. Baukostenzuschüsse Ebene 1'!J51+'E.2. Baukostenzuschüsse Ebene 2'!J51+'E.3. Baukostenzuschüsse Ebene 3'!J51","v":0},0,0,null,null,null,null,null,null,null,{"$f":"+'A.1. Rohrleitungen Ebene 1'!F51+'A.2. Rohrleitungen Ebene 2'!F51+'A.3. Rohrlleitungen Ebene 3'!F51+'B.1. Schieberstationen Ebene 1'!F51+'B.2. Schieberstationen Ebene 2'!F51+'B.3. Schieberstationen Ebene 3'!F51+'C.1. GDRAs Ebene 1'!F51+'C.2. GDRAs Ebene 2'!F51+'C.3. GDRAs Ebene 3'!F51+'D.1. Verdichter Ebene 1'!F51+'D.2. Verdichter Ebene 2'!F51+'D.3. Verdichter Ebene 3'!F51","v":0},{"$f":"+'A.1. Rohrleitungen Ebene 1'!H51+'A.2. Rohrleitungen Ebene 2'!H51+'A.3. Rohrlleitungen Ebene 3'!H51+'B.1. Schieberstationen Ebene 1'!H51+'B.2. Schieberstationen Ebene 2'!H51+'B.3. Schieberstationen Ebene 3'!H51+'C.1. GDRAs Ebene 1'!H51+'C.2. GDRAs Ebene 2'!H51+'C.3. GDRAs Ebene 3'!H51+'D.1. Verdichter Ebene 1'!H51+'D.2. Verdichter Ebene 2'!H51+'D.3. Verdichter Ebene 3'!H51","v":0},{"$f":"+'A.1. Rohrleitungen Ebene 1'!J51+'A.2. Rohrleitungen Ebene 2'!J51+'A.3. Rohrlleitungen Ebene 3'!J51+'B.1. Schieberstationen Ebene 1'!J51+'B.2. Schieberstationen Ebene 2'!J51+'B.3. Schieberstationen Ebene 3'!J51+'C.1. GDRAs Ebene 1'!J51+'C.2. GDRAs Ebene 2'!J51+'C.3. GDRAs Ebene 3'!J51+'D.1. Verdichter Ebene 1'!J51+'D.2. Verdichter Ebene 2'!J51+'D.3. Verdichter Ebene 3'!J51","v":0},{"$f":"+'F.1 Geleistete BKZ E1'!D51+'F.2 Geleistete BKZ E2'!D51+'F.3 Geleistete BKZ E3'!D51","v":0},{"$f":"+'F.1 Geleistete BKZ E1'!E51+'F.2 Geleistete BKZ E2'!E51+'F.3 Geleistete BKZ E3'!E51","v":0},{"$f":"+'F.1 Geleistete BKZ E1'!F51+'F.2 Geleistete BKZ E2'!F51+'F.3 Geleistete BKZ E3'!F51","v":0}]
[42,1972,null,0,0,0,{"$error":"#DIV/0!"},null,{"$f":"+'E.1. Baukostenzuschüsse Ebene 1'!F52+'E.2. Baukostenzuschüsse Ebene 2'!F52+'E.3. Baukostenzuschüsse Ebene 3'!F52","v":0},{"$f":"+'E.1. Baukostenzuschüsse Ebene 1'!H52+'E.2. Baukostenzuschüsse Ebene 2'!H52+'E.3. Baukostenzuschüsse Ebene 3'!H52","v":0},{"$f":"+'E.1. Baukostenzuschüsse Ebene 1'!J52+'E.2. Baukostenzuschüsse Ebene 2'!J52+'E.3. Baukostenzuschüsse Ebene 3'!J52","v":0},0,0,null,null,null,null,null,null,null,{"$f":"+'A.1. Rohrleitungen Ebene 1'!F52+'A.2. Rohrleitungen Ebene 2'!F52+'A.3. Rohrlleitungen Ebene 3'!F52+'B.1. Schieberstationen Ebene 1'!F52+'B.2. Schieberstationen Ebene 2'!F52+'B.3. Schieberstationen Ebene 3'!F52+'C.1. GDRAs Ebene 1'!F52+'C.2. GDRAs Ebene 2'!F52+'C.3. GDRAs Ebene 3'!F52+'D.1. Verdichter Ebene 1'!F52+'D.2. Verdichter Ebene 2'!F52+'D.3. Verdichter Ebene 3'!F52","v":0},{"$f":"+'A.1. Rohrleitungen Ebene 1'!H52+'A.2. Rohrleitungen Ebene 2'!H52+'A.3. Rohrlleitungen Ebene 3'!H52+'B.1. Schieberstationen Ebene 1'!H52+'B.2. Schieberstationen Ebene 2'!H52+'B.3. Schieberstationen Ebene 3'!H52+'C.1. GDRAs Ebene 1'!H52+'C.2. GDRAs Ebene 2'!H52+'C.3. GDRAs Ebene 3'!H52+'D.1. Verdichter Ebene 1'!H52+'D.2. Verdichter Ebene 2'!H52+'D.3. Verdichter Ebene 3'!H52","v":0},{"$f":"+'A.1. Rohrleitungen Ebene 1'!J52+'A.2. Rohrleitungen Ebene 2'!J52+'A.3. Rohrlleitungen Ebene 3'!J52+'B.1. Schieberstationen Ebene 1'!J52+'B.2. Schieberstationen Ebene 2'!J52+'B.3. Schieberstationen Ebene 3'!J52+'C.1. GDRAs Ebene 1'!J52+'C.2. GDRAs Ebene 2'!J52+'C.3. GDRAs Ebene 3'!J52+'D.1. Verdichter Ebene 1'!J52+'D.2. Verdichter Ebene 2'!J52+'D.3. Verdichter Ebene 3'!J52","v":0},{"$f":"+'F.1 Geleistete BKZ E1'!D52+'F.2 Geleistete BKZ E2'!D52+'F.3 Geleistete BKZ E3'!D52","v":0},{"$f":"+'F.1 Geleistete BKZ E1'!E52+'F.2 Geleistete BKZ E2'!E52+'F.3 Geleistete BKZ E3'!E52","v":0},{"$f":"+'F.1 Geleistete BKZ E1'!F52+'F.2 Geleistete BKZ E2'!F52+'F.3 Geleistete BKZ E3'!F52","v":0}]
[43,1971,null,0,0,0,{"$error":"#DIV/0!"},null,{"$f":"+'E.1. Baukostenzuschüsse Ebene 1'!F53+'E.2. Baukostenzuschüsse Ebene 2'!F53+'E.3. Baukostenzuschüsse Ebene 3'!F53","v":0},{"$f":"+'E.1. Baukostenzuschüsse Ebene 1'!H53+'E.2. Baukostenzuschüsse Ebene 2'!H53+'E.3. Baukostenzuschüsse Ebene 3'!H53","v":0},{"$f":"+'E.1. Baukostenzuschüsse Ebene 1'!J53+'E.2. Baukostenzuschüsse Ebene 2'!J53+'E.3. Baukostenzuschüsse Ebene 3'!J53","v":0},0,0,null,null,null,null,null,null,null,{"$f":"+'A.1. Rohrleitungen Ebene 1'!F53+'A.2. Rohrleitungen Ebene 2'!F53+'A.3. Rohrlleitungen Ebene 3'!F53+'B.1. Schieberstationen Ebene 1'!F53+'B.2. Schieberstationen Ebene 2'!F53+'B.3. Schieberstationen Ebene 3'!F53+'C.1. GDRAs Ebene 1'!F53+'C.2. GDRAs Ebene 2'!F53+'C.3. GDRAs Ebene 3'!F53+'D.1. Verdichter Ebene 1'!F53+'D.2. Verdichter Ebene 2'!F53+'D.3. Verdichter Ebene 3'!F53","v":0},{"$f":"+'A.1. Rohrleitungen Ebene 1'!H53+'A.2. Rohrleitungen Ebene 2'!H53+'A.3. Rohrlleitungen Ebene 3'!H53+'B.1. Schieberstationen Ebene 1'!H53+'B.2. Schieberstationen Ebene 2'!H53+'B.3. Schieberstationen Ebene 3'!H53+'C.1. GDRAs Ebene 1'!H53+'C.2. GDRAs Ebene 2'!H53+'C.3. GDRAs Ebene 3'!H53+'D.1. Verdichter Ebene 1'!H53+'D.2. Verdichter Ebene 2'!H53+'D.3. Verdichter Ebene 3'!H53","v":0},{"$f":"+'A.1. Rohrleitungen Ebene 1'!J53+'A.2. Rohrleitungen Ebene 2'!J53+'A.3. Rohrlleitungen Ebene 3'!J53+'B.1. Schieberstationen Ebene 1'!J53+'B.2. Schieberstationen Ebene 2'!J53+'B.3. Schieberstationen Ebene 3'!J53+'C.1. GDRAs Ebene 1'!J53+'C.2. GDRAs Ebene 2'!J53+'C.3. GDRAs Ebene 3'!J53+'D.1. Verdichter Ebene 1'!J53+'D.2. Verdichter Ebene 2'!J53+'D.3. Verdichter Ebene 3'!J53","v":0},{"$f":"+'F.1 Geleistete BKZ E1'!D53+'F.2 Geleistete BKZ E2'!D53+'F.3 Geleistete BKZ E3'!D53","v":0},{"$f":"+'F.1 Geleistete BKZ E1'!E53+'F.2 Geleistete BKZ E2'!E53+'F.3 Geleistete BKZ E3'!E53","v":0},{"$f":"+'F.1 Geleistete BKZ E1'!F53+'F.2 Geleistete BKZ E2'!F53+'F.3 Geleistete BKZ E3'!F53","v":0}]
[44,1970,null,0,0,0,{"$error":"#DIV/0!"},null,{"$f":"+'E.1. Baukostenzuschüsse Ebene 1'!F54+'E.2. Baukostenzuschüsse Ebene 2'!F54+'E.3. Baukostenzuschüsse Ebene 3'!F54","v":0},{"$f":"+'E.1. Baukostenzuschüsse Ebene 1'!H54+'E.2. Baukostenzuschüsse Ebene 2'!H54+'E.3. Baukostenzuschüsse Ebene 3'!H54","v":0},{"$f":"+'E.1. Baukostenzuschüsse Ebene 1'!J54+'E.2. Baukostenzuschüsse Ebene 2'!J54+'E.3. Baukostenzuschüsse Ebene 3'!J54","v":0},0,0,null,null,null,null,null,null,null,{"$f":"+'A.1. Rohrleitungen Ebene 1'!F54+'A.2. Rohrleitungen Ebene 2'!F54+'A.3. Rohrlleitungen Ebene 3'!F54+'B.1. Schieberstationen Ebene 1'!F54+'B.2. Schieberstationen Ebene 2'!F54+'B.3. Schieberstationen Ebene 3'!F54+'C.1. GDRAs Ebene 1'!F54+'C.2. GDRAs Ebene 2'!F54+'C.3. GDRAs Ebene 3'!F54+'D.1. Verdichter Ebene 1'!F54+'D.2. Verdichter Ebene 2'!F54+'D.3. Verdichter Ebene 3'!F54","v":0},{"$f":"+'A.1. Rohrleitungen Ebene 1'!H54+'A.2. Rohrleitungen Ebene 2'!H54+'A.3. Rohrlleitungen Ebene 3'!H54+'B.1. Schieberstationen Ebene 1'!H54+'B.2. Schieberstationen Ebene 2'!H54+'B.3. Schieberstationen Ebene 3'!H54+'C.1. GDRAs Ebene 1'!H54+'C.2. GDRAs Ebene 2'!H54+'C.3. GDRAs Ebene 3'!H54+'D.1. Verdichter Ebene 1'!H54+'D.2. Verdichter Ebene 2'!H54+'D.3. Verdichter Ebene 3'!H54","v":0},{"$f":"+'A.1. Rohrleitungen Ebene 1'!J54+'A.2. Rohrleitungen Ebene 2'!J54+'A.3. Rohrlleitungen Ebene 3'!J54+'B.1. Schieberstationen Ebene 1'!J54+'B.2. Schieberstationen Ebene 2'!J54+'B.3. Schieberstationen Ebene 3'!J54+'C.1. GDRAs Ebene 1'!J54+'C.2. GDRAs Ebene 2'!J54+'C.3. GDRAs Ebene 3'!J54+'D.1. Verdichter Ebene 1'!J54+'D.2. Verdichter Ebene 2'!J54+'D.3. Verdichter Ebene 3'!J54","v":0},{"$f":"+'F.1 Geleistete BKZ E1'!D54+'F.2 Geleistete BKZ E2'!D54+'F.3 Geleistete BKZ E3'!D54","v":0},{"$f":"+'F.1 Geleistete BKZ E1'!E54+'F.2 Geleistete BKZ E2'!E54+'F.3 Geleistete BKZ E3'!E54","v":0},{"$f":"+'F.1 Geleistete BKZ E1'!F54+'F.2 Geleistete BKZ E2'!F54+'F.3 Geleistete BKZ E3'!F54","v":0}]
[45,1969,null,0,0,0,{"$error":"#DIV/0!"},null,{"$f":"+'E.1. Baukostenzuschüsse Ebene 1'!F55+'E.2. Baukostenzuschüsse Ebene 2'!F55+'E.3. Baukostenzuschüsse Ebene 3'!F55","v":0},{"$f":"+'E.1. Baukostenzuschüsse Ebene 1'!H55+'E.2. Baukostenzuschüsse Ebene 2'!H55+'E.3. Baukostenzuschüsse Ebene 3'!H55","v":0},{"$f":"+'E.1. Baukostenzuschüsse Ebene 1'!J55+'E.2. Baukostenzuschüsse Ebene 2'!J55+'E.3. Baukostenzuschüsse Ebene 3'!J55","v":0},0,0,null,null,null,null,null,null,null,{"$f":"+'A.1. Rohrleitungen Ebene 1'!F55+'A.2. Rohrleitungen Ebene 2'!F55+'A.3. Rohrlleitungen Ebene 3'!F55+'B.1. Schieberstationen Ebene 1'!F55+'B.2. Schieberstationen Ebene 2'!F55+'B.3. Schieberstationen Ebene 3'!F55+'C.1. GDRAs Ebene 1'!F55+'C.2. GDRAs Ebene 2'!F55+'C.3. GDRAs Ebene 3'!F55+'D.1. Verdichter Ebene 1'!F55+'D.2. Verdichter Ebene 2'!F55+'D.3. Verdichter Ebene 3'!F55","v":0},{"$f":"+'A.1. Rohrleitungen Ebene 1'!H55+'A.2. Rohrleitungen Ebene 2'!H55+'A.3. Rohrlleitungen Ebene 3'!H55+'B.1. Schieberstationen Ebene 1'!H55+'B.2. Schieberstationen Ebene 2'!H55+'B.3. Schieberstationen Ebene 3'!H55+'C.1. GDRAs Ebene 1'!H55+'C.2. GDRAs Ebene 2'!H55+'C.3. GDRAs Ebene 3'!H55+'D.1. Verdichter Ebene 1'!H55+'D.2. Verdichter Ebene 2'!H55+'D.3. Verdichter Ebene 3'!H55","v":0},{"$f":"+'A.1. Rohrleitungen Ebene 1'!J55+'A.2. Rohrleitungen Ebene 2'!J55+'A.3. Rohrlleitungen Ebene 3'!J55+'B.1. Schieberstationen Ebene 1'!J55+'B.2. Schieberstationen Ebene 2'!J55+'B.3. Schieberstationen Ebene 3'!J55+'C.1. GDRAs Ebene 1'!J55+'C.2. GDRAs Ebene 2'!J55+'C.3. GDRAs Ebene 3'!J55+'D.1. Verdichter Ebene 1'!J55+'D.2. Verdichter Ebene 2'!J55+'D.3. Verdichter Ebene 3'!J55","v":0},{"$f":"+'F.1 Geleistete BKZ E1'!D55+'F.2 Geleistete BKZ E2'!D55+'F.3 Geleistete BKZ E3'!D55","v":0},{"$f":"+'F.1 Geleistete BKZ E1'!E55+'F.2 Geleistete BKZ E2'!E55+'F.3 Geleistete BKZ E3'!E55","v":0},{"$f":"+'F.1 Geleistete BKZ E1'!F55+'F.2 Geleistete BKZ E2'!F55+'F.3 Geleistete BKZ E3'!F55","v":0}]
[46,1968,null,0,0,0,{"$error":"#DIV/0!"},null,{"$f":"+'E.1. Baukostenzuschüsse Ebene 1'!F56+'E.2. Baukostenzuschüsse Ebene 2'!F56+'E.3. Baukostenzuschüsse Ebene 3'!F56","v":0},{"$f":"+'E.1. Baukostenzuschüsse Ebene 1'!H56+'E.2. Baukostenzuschüsse Ebene 2'!H56+'E.3. Baukostenzuschüsse Ebene 3'!H56","v":0},{"$f":"+'E.1. Baukostenzuschüsse Ebene 1'!J56+'E.2. Baukostenzuschüsse Ebene 2'!J56+'E.3. Baukostenzuschüsse Ebene 3'!J56","v":0},0,0,null,null,null,null,null,null,null,{"$f":"+'A.1. Rohrleitungen Ebene 1'!F56+'A.2. Rohrleitungen Ebene 2'!F56+'A.3. Rohrlleitungen Ebene 3'!F56+'B.1. Schieberstationen Ebene 1'!F56+'B.2. Schieberstationen Ebene 2'!F56+'B.3. Schieberstationen Ebene 3'!F56+'C.1. GDRAs Ebene 1'!F56+'C.2. GDRAs Ebene 2'!F56+'C.3. GDRAs Ebene 3'!F56+'D.1. Verdichter Ebene 1'!F56+'D.2. Verdichter Ebene 2'!F56+'D.3. Verdichter Ebene 3'!F56","v":0},{"$f":"+'A.1. Rohrleitungen Ebene 1'!H56+'A.2. Rohrleitungen Ebene 2'!H56+'A.3. Rohrlleitungen Ebene 3'!H56+'B.1. Schieberstationen Ebene 1'!H56+'B.2. Schieberstationen Ebene 2'!H56+'B.3. Schieberstationen Ebene 3'!H56+'C.1. GDRAs Ebene 1'!H56+'C.2. GDRAs Ebene 2'!H56+'C.3. GDRAs Ebene 3'!H56+'D.1. Verdichter Ebene 1'!H56+'D.2. Verdichter Ebene 2'!H56+'D.3. Verdichter Ebene 3'!H56","v":0},{"$f":"+'A.1. Rohrleitungen Ebene 1'!J56+'A.2. Rohrleitungen Ebene 2'!J56+'A.3. Rohrlleitungen Ebene 3'!J56+'B.1. Schieberstationen Ebene 1'!J56+'B.2. Schieberstationen Ebene 2'!J56+'B.3. Schieberstationen Ebene 3'!J56+'C.1. GDRAs Ebene 1'!J56+'C.2. GDRAs Ebene 2'!J56+'C.3. GDRAs Ebene 3'!J56+'D.1. Verdichter Ebene 1'!J56+'D.2. Verdichter Ebene 2'!J56+'D.3. Verdichter Ebene 3'!J56","v":0},{"$f":"+'F.1 Geleistete BKZ E1'!D56+'F.2 Geleistete BKZ E2'!D56+'F.3 Geleistete BKZ E3'!D56","v":0},{"$f":"+'F.1 Geleistete BKZ E1'!E56+'F.2 Geleistete BKZ E2'!E56+'F.3 Geleistete BKZ E3'!E56","v":0},{"$f":"+'F.1 Geleistete BKZ E1'!F56+'F.2 Geleistete BKZ E2'!F56+'F.3 Geleistete BKZ E3'!F56","v":0}]
[47,1967,null,0,0,0,{"$error":"#DIV/0!"},null,{"$f":"+'E.1. Baukostenzuschüsse Ebene 1'!F57+'E.2. Baukostenzuschüsse Ebene 2'!F57+'E.3. Baukostenzuschüsse Ebene 3'!F57","v":0},{"$f":"+'E.1. Baukostenzuschüsse Ebene 1'!H57+'E.2. Baukostenzuschüsse Ebene 2'!H57+'E.3. Baukostenzuschüsse Ebene 3'!H57","v":0},{"$f":"+'E.1. Baukostenzuschüsse Ebene 1'!J57+'E.2. Baukostenzuschüsse Ebene 2'!J57+'E.3. Baukostenzuschüsse Ebene 3'!J57","v":0},0,0,null,null,null,null,null,null,null,{"$f":"+'A.1. Rohrleitungen Ebene 1'!F57+'A.2. Rohrleitungen Ebene 2'!F57+'A.3. Rohrlleitungen Ebene 3'!F57+'B.1. Schieberstationen Ebene 1'!F57+'B.2. Schieberstationen Ebene 2'!F57+'B.3. Schieberstationen Ebene 3'!F57+'C.1. GDRAs Ebene 1'!F57+'C.2. GDRAs Ebene 2'!F57+'C.3. GDRAs Ebene 3'!F57+'D.1. Verdichter Ebene 1'!F57+'D.2. Verdichter Ebene 2'!F57+'D.3. Verdichter Ebene 3'!F57","v":0},{"$f":"+'A.1. Rohrleitungen Ebene 1'!H57+'A.2. Rohrleitungen Ebene 2'!H57+'A.3. Rohrlleitungen Ebene 3'!H57+'B.1. Schieberstationen Ebene 1'!H57+'B.2. Schieberstationen Ebene 2'!H57+'B.3. Schieberstationen Ebene 3'!H57+'C.1. GDRAs Ebene 1'!H57+'C.2. GDRAs Ebene 2'!H57+'C.3. GDRAs Ebene 3'!H57+'D.1. Verdichter Ebene 1'!H57+'D.2. Verdichter Ebene 2'!H57+'D.3. Verdichter Ebene 3'!H57","v":0},{"$f":"+'A.1. Rohrleitungen Ebene 1'!J57+'A.2. Rohrleitungen Ebene 2'!J57+'A.3. Rohrlleitungen Ebene 3'!J57+'B.1. Schieberstationen Ebene 1'!J57+'B.2. Schieberstationen Ebene 2'!J57+'B.3. Schieberstationen Ebene 3'!J57+'C.1. GDRAs Ebene 1'!J57+'C.2. GDRAs Ebene 2'!J57+'C.3. GDRAs Ebene 3'!J57+'D.1. Verdichter Ebene 1'!J57+'D.2. Verdichter Ebene 2'!J57+'D.3. Verdichter Ebene 3'!J57","v":0},{"$f":"+'F.1 Geleistete BKZ E1'!D57+'F.2 Geleistete BKZ E2'!D57+'F.3 Geleistete BKZ E3'!D57","v":0},{"$f":"+'F.1 Geleistete BKZ E1'!E57+'F.2 Geleistete BKZ E2'!E57+'F.3 Geleistete BKZ E3'!E57","v":0},{"$f":"+'F.1 Geleistete BKZ E1'!F57+'F.2 Geleistete BKZ E2'!F57+'F.3 Geleistete BKZ E3'!F57","v":0}]
[48,1966,null,0,0,0,{"$error":"#DIV/0!"},null,{"$f":"+'E.1. Baukostenzuschüsse Ebene 1'!F58+'E.2. Baukostenzuschüsse Ebene 2'!F58+'E.3. Baukostenzuschüsse Ebene 3'!F58","v":0},{"$f":"+'E.1. Baukostenzuschüsse Ebene 1'!H58+'E.2. Baukostenzuschüsse Ebene 2'!H58+'E.3. Baukostenzuschüsse Ebene 3'!H58","v":0},{"$f":"+'E.1. Baukostenzuschüsse Ebene 1'!J58+'E.2. Baukostenzuschüsse Ebene 2'!J58+'E.3. Baukostenzuschüsse Ebene 3'!J58","v":0},0,0,null,null,null,null,null,null,null,{"$f":"+'A.1. Rohrleitungen Ebene 1'!F58+'A.2. Rohrleitungen Ebene 2'!F58+'A.3. Rohrlleitungen Ebene 3'!F58+'B.1. Schieberstationen Ebene 1'!F58+'B.2. Schieberstationen Ebene 2'!F58+'B.3. Schieberstationen Ebene 3'!F58+'C.1. GDRAs Ebene 1'!F58+'C.2. GDRAs Ebene 2'!F58+'C.3. GDRAs Ebene 3'!F58+'D.1. Verdichter Ebene 1'!F58+'D.2. Verdichter Ebene 2'!F58+'D.3. Verdichter Ebene 3'!F58","v":0},{"$f":"+'A.1. Rohrleitungen Ebene 1'!H58+'A.2. Rohrleitungen Ebene 2'!H58+'A.3. Rohrlleitungen Ebene 3'!H58+'B.1. Schieberstationen Ebene 1'!H58+'B.2. Schieberstationen Ebene 2'!H58+'B.3. Schieberstationen Ebene 3'!H58+'C.1. GDRAs Ebene 1'!H58+'C.2. GDRAs Ebene 2'!H58+'C.3. GDRAs Ebene 3'!H58+'D.1. Verdichter Ebene 1'!H58+'D.2. Verdichter Ebene 2'!H58+'D.3. Verdichter Ebene 3'!H58","v":0},{"$f":"+'A.1. Rohrleitungen Ebene 1'!J58+'A.2. Rohrleitungen Ebene 2'!J58+'A.3. Rohrlleitungen Ebene 3'!J58+'B.1. Schieberstationen Ebene 1'!J58+'B.2. Schieberstationen Ebene 2'!J58+'B.3. Schieberstationen Ebene 3'!J58+'C.1. GDRAs Ebene 1'!J58+'C.2. GDRAs Ebene 2'!J58+'C.3. GDRAs Ebene 3'!J58+'D.1. Verdichter Ebene 1'!J58+'D.2. Verdichter Ebene 2'!J58+'D.3. Verdichter Ebene 3'!J58","v":0},{"$f":"+'F.1 Geleistete BKZ E1'!D58+'F.2 Geleistete BKZ E2'!D58+'F.3 Geleistete BKZ E3'!D58","v":0},{"$f":"+'F.1 Geleistete BKZ E1'!E58+'F.2 Geleistete BKZ E2'!E58+'F.3 Geleistete BKZ E3'!E58","v":0},{"$f":"+'F.1 Geleistete BKZ E1'!F58+'F.2 Geleistete BKZ E2'!F58+'F.3 Geleistete BKZ E3'!F58","v":0}]
[49,1965,null,0,0,0,{"$error":"#DIV/0!"},null,{"$f":"+'E.1. Baukostenzuschüsse Ebene 1'!F59+'E.2. Baukostenzuschüsse Ebene 2'!F59+'E.3. Baukostenzuschüsse Ebene 3'!F59","v":0},{"$f":"+'E.1. Baukostenzuschüsse Ebene 1'!H59+'E.2. Baukostenzuschüsse Ebene 2'!H59+'E.3. Baukostenzuschüsse Ebene 3'!H59","v":0},{"$f":"+'E.1. Baukostenzuschüsse Ebene 1'!J59+'E.2. Baukostenzuschüsse Ebene 2'!J59+'E.3. Baukostenzuschüsse Ebene 3'!J59","v":0},0,0,null,null,null,null,null,null,null,{"$f":"+'A.1. Rohrleitungen Ebene 1'!F59+'A.2. Rohrleitungen Ebene 2'!F59+'A.3. Rohrlleitungen Ebene 3'!F59+'B.1. Schieberstationen Ebene 1'!F59+'B.2. Schieberstationen Ebene 2'!F59+'B.3. Schieberstationen Ebene 3'!F59+'C.1. GDRAs Ebene 1'!F59+'C.2. GDRAs Ebene 2'!F59+'C.3. GDRAs Ebene 3'!F59+'D.1. Verdichter Ebene 1'!F59+'D.2. Verdichter Ebene 2'!F59+'D.3. Verdichter Ebene 3'!F59","v":0},{"$f":"+'A.1. Rohrleitungen Ebene 1'!H59+'A.2. Rohrleitungen Ebene 2'!H59+'A.3. Rohrlleitungen Ebene 3'!H59+'B.1. Schieberstationen Ebene 1'!H59+'B.2. Schieberstationen Ebene 2'!H59+'B.3. Schieberstationen Ebene 3'!H59+'C.1. GDRAs Ebene 1'!H59+'C.2. GDRAs Ebene 2'!H59+'C.3. GDRAs Ebene 3'!H59+'D.1. Verdichter Ebene 1'!H59+'D.2. Verdichter Ebene 2'!H59+'D.3. Verdichter Ebene 3'!H59","v":0},{"$f":"+'A.1. Rohrleitungen Ebene 1'!J59+'A.2. Rohrleitungen Ebene 2'!J59+'A.3. Rohrlleitungen Ebene 3'!J59+'B.1. Schieberstationen Ebene 1'!J59+'B.2. Schieberstationen Ebene 2'!J59+'B.3. Schieberstationen Ebene 3'!J59+'C.1. GDRAs Ebene 1'!J59+'C.2. GDRAs Ebene 2'!J59+'C.3. GDRAs Ebene 3'!J59+'D.1. Verdichter Ebene 1'!J59+'D.2. Verdichter Ebene 2'!J59+'D.3. Verdichter Ebene 3'!J59","v":0},{"$f":"+'F.1 Geleistete BKZ E1'!D59+'F.2 Geleistete BKZ E2'!D59+'F.3 Geleistete BKZ E3'!D59","v":0},{"$f":"+'F.1 Geleistete BKZ E1'!E59+'F.2 Geleistete BKZ E2'!E59+'F.3 Geleistete BKZ E3'!E59","v":0},{"$f":"+'F.1 Geleistete BKZ E1'!F59+'F.2 Geleistete BKZ E2'!F59+'F.3 Geleistete BKZ E3'!F59","v":0}]
[50,1964,null,0,0,0,{"$error":"#DIV/0!"},null,{"$f":"+'E.1. Baukostenzuschüsse Ebene 1'!F60+'E.2. Baukostenzuschüsse Ebene 2'!F60+'E.3. Baukostenzuschüsse Ebene 3'!F60","v":0},{"$f":"+'E.1. Baukostenzuschüsse Ebene 1'!H60+'E.2. Baukostenzuschüsse Ebene 2'!H60+'E.3. Baukostenzuschüsse Ebene 3'!H60","v":0},{"$f":"+'E.1. Baukostenzuschüsse Ebene 1'!J60+'E.2. Baukostenzuschüsse Ebene 2'!J60+'E.3. Baukostenzuschüsse Ebene 3'!J60","v":0},0,0,null,null,null,null,null,null,null,{"$f":"+'A.1. Rohrleitungen Ebene 1'!F60+'A.2. Rohrleitungen Ebene 2'!F60+'A.3. Rohrlleitungen Ebene 3'!F60+'B.1. Schieberstationen Ebene 1'!F60+'B.2. Schieberstationen Ebene 2'!F60+'B.3. Schieberstationen Ebene 3'!F60+'C.1. GDRAs Ebene 1'!F60+'C.2. GDRAs Ebene 2'!F60+'C.3. GDRAs Ebene 3'!F60+'D.1. Verdichter Ebene 1'!F60+'D.2. Verdichter Ebene 2'!F60+'D.3. Verdichter Ebene 3'!F60","v":0},{"$f":"+'A.1. Rohrleitungen Ebene 1'!H60+'A.2. Rohrleitungen Ebene 2'!H60+'A.3. Rohrlleitungen Ebene 3'!H60+'B.1. Schieberstationen Ebene 1'!H60+'B.2. Schieberstationen Ebene 2'!H60+'B.3. Schieberstationen Ebene 3'!H60+'C.1. GDRAs Ebene 1'!H60+'C.2. GDRAs Ebene 2'!H60+'C.3. GDRAs Ebene 3'!H60+'D.1. Verdichter Ebene 1'!H60+'D.2. Verdichter Ebene 2'!H60+'D.3. Verdichter Ebene 3'!H60","v":0},{"$f":"+'A.1. Rohrleitungen Ebene 1'!J60+'A.2. Rohrleitungen Ebene 2'!J60+'A.3. Rohrlleitungen Ebene 3'!J60+'B.1. Schieberstationen Ebene 1'!J60+'B.2. Schieberstationen Ebene 2'!J60+'B.3. Schieberstationen Ebene 3'!J60+'C.1. GDRAs Ebene 1'!J60+'C.2. GDRAs Ebene 2'!J60+'C.3. GDRAs Ebene 3'!J60+'D.1. Verdichter Ebene 1'!J60+'D.2. Verdichter Ebene 2'!J60+'D.3. Verdichter Ebene 3'!J60","v":0},{"$f":"+'F.1 Geleistete BKZ E1'!D60+'F.2 Geleistete BKZ E2'!D60+'F.3 Geleistete BKZ E3'!D60","v":0},{"$f":"+'F.1 Geleistete BKZ E1'!E60+'F.2 Geleistete BKZ E2'!E60+'F.3 Geleistete BKZ E3'!E60","v":0},{"$f":"+'F.1 Geleistete BKZ E1'!F60+'F.2 Geleistete BKZ E2'!F60+'F.3 Geleistete BKZ E3'!F60","v":0}]
[51,1963,null,0,0,0,{"$error":"#DIV/0!"},null,{"$f":"+'E.1. Baukostenzuschüsse Ebene 1'!F61+'E.2. Baukostenzuschüsse Ebene 2'!F61+'E.3. Baukostenzuschüsse Ebene 3'!F61","v":0},{"$f":"+'E.1. Baukostenzuschüsse Ebene 1'!H61+'E.2. Baukostenzuschüsse Ebene 2'!H61+'E.3. Baukostenzuschüsse Ebene 3'!H61","v":0},{"$f":"+'E.1. Baukostenzuschüsse Ebene 1'!J61+'E.2. Baukostenzuschüsse Ebene 2'!J61+'E.3. Baukostenzuschüsse Ebene 3'!J61","v":0},0,0,null,null,null,null,null,null,null,{"$f":"+'A.1. Rohrleitungen Ebene 1'!F61+'A.2. Rohrleitungen Ebene 2'!F61+'A.3. Rohrlleitungen Ebene 3'!F61+'B.1. Schieberstationen Ebene 1'!F61+'B.2. Schieberstationen Ebene 2'!F61+'B.3. Schieberstationen Ebene 3'!F61+'C.1. GDRAs Ebene 1'!F61+'C.2. GDRAs Ebene 2'!F61+'C.3. GDRAs Ebene 3'!F61+'D.1. Verdichter Ebene 1'!F61+'D.2. Verdichter Ebene 2'!F61+'D.3. Verdichter Ebene 3'!F61","v":0},{"$f":"+'A.1. Rohrleitungen Ebene 1'!H61+'A.2. Rohrleitungen Ebene 2'!H61+'A.3. Rohrlleitungen Ebene 3'!H61+'B.1. Schieberstationen Ebene 1'!H61+'B.2. Schieberstationen Ebene 2'!H61+'B.3. Schieberstationen Ebene 3'!H61+'C.1. GDRAs Ebene 1'!H61+'C.2. GDRAs Ebene 2'!H61+'C.3. GDRAs Ebene 3'!H61+'D.1. Verdichter Ebene 1'!H61+'D.2. Verdichter Ebene 2'!H61+'D.3. Verdichter Ebene 3'!H61","v":0},{"$f":"+'A.1. Rohrleitungen Ebene 1'!J61+'A.2. Rohrleitungen Ebene 2'!J61+'A.3. Rohrlleitungen Ebene 3'!J61+'B.1. Schieberstationen Ebene 1'!J61+'B.2. Schieberstationen Ebene 2'!J61+'B.3. Schieberstationen Ebene 3'!J61+'C.1. GDRAs Ebene 1'!J61+'C.2. GDRAs Ebene 2'!J61+'C.3. GDRAs Ebene 3'!J61+'D.1. Verdichter Ebene 1'!J61+'D.2. Verdichter Ebene 2'!J61+'D.3. Verdichter Ebene 3'!J61","v":0},{"$f":"+'F.1 Geleistete BKZ E1'!D61+'F.2 Geleistete BKZ E2'!D61+'F.3 Geleistete BKZ E3'!D61","v":0},{"$f":"+'F.1 Geleistete BKZ E1'!E61+'F.2 Geleistete BKZ E2'!E61+'F.3 Geleistete BKZ E3'!E61","v":0},{"$f":"+'F.1 Geleistete BKZ E1'!F61+'F.2 Geleistete BKZ E2'!F61+'F.3 Geleistete BKZ E3'!F61","v":0}]
[52,1962,null,0,0,0,{"$error":"#DIV/0!"},null,{"$f":"+'E.1. Baukostenzuschüsse Ebene 1'!F62+'E.2. Baukostenzuschüsse Ebene 2'!F62+'E.3. Baukostenzuschüsse Ebene 3'!F62","v":0},{"$f":"+'E.1. Baukostenzuschüsse Ebene 1'!H62+'E.2. Baukostenzuschüsse Ebene 2'!H62+'E.3. Baukostenzuschüsse Ebene 3'!H62","v":0},{"$f":"+'E.1. Baukostenzuschüsse Ebene 1'!J62+'E.2. Baukostenzuschüsse Ebene 2'!J62+'E.3. Baukostenzuschüsse Ebene 3'!J62","v":0},0,0,null,null,null,null,null,null,null,{"$f":"+'A.1. Rohrleitungen Ebene 1'!F62+'A.2. Rohrleitungen Ebene 2'!F62+'A.3. Rohrlleitungen Ebene 3'!F62+'B.1. Schieberstationen Ebene 1'!F62+'B.2. Schieberstationen Ebene 2'!F62+'B.3. Schieberstationen Ebene 3'!F62+'C.1. GDRAs Ebene 1'!F62+'C.2. GDRAs Ebene 2'!F62+'C.3. GDRAs Ebene 3'!F62+'D.1. Verdichter Ebene 1'!F62+'D.2. Verdichter Ebene 2'!F62+'D.3. Verdichter Ebene 3'!F62","v":0},{"$f":"+'A.1. Rohrleitungen Ebene 1'!H62+'A.2. Rohrleitungen Ebene 2'!H62+'A.3. Rohrlleitungen Ebene 3'!H62+'B.1. Schieberstationen Ebene 1'!H62+'B.2. Schieberstationen Ebene 2'!H62+'B.3. Schieberstationen Ebene 3'!H62+'C.1. GDRAs Ebene 1'!H62+'C.2. GDRAs Ebene 2'!H62+'C.3. GDRAs Ebene 3'!H62+'D.1. Verdichter Ebene 1'!H62+'D.2. Verdichter Ebene 2'!H62+'D.3. Verdichter Ebene 3'!H62","v":0},{"$f":"+'A.1. Rohrleitungen Ebene 1'!J62+'A.2. Rohrleitungen Ebene 2'!J62+'A.3. Rohrlleitungen Ebene 3'!J62+'B.1. Schieberstationen Ebene 1'!J62+'B.2. Schieberstationen Ebene 2'!J62+'B.3. Schieberstationen Ebene 3'!J62+'C.1. GDRAs Ebene 1'!J62+'C.2. GDRAs Ebene 2'!J62+'C.3. GDRAs Ebene 3'!J62+'D.1. Verdichter Ebene 1'!J62+'D.2. Verdichter Ebene 2'!J62+'D.3. Verdichter Ebene 3'!J62","v":0},{"$f":"+'F.1 Geleistete BKZ E1'!D62+'F.2 Geleistete BKZ E2'!D62+'F.3 Geleistete BKZ E3'!D62","v":0},{"$f":"+'F.1 Geleistete BKZ E1'!E62+'F.2 Geleistete BKZ E2'!E62+'F.3 Geleistete BKZ E3'!E62","v":0},{"$f":"+'F.1 Geleistete BKZ E1'!F62+'F.2 Geleistete BKZ E2'!F62+'F.3 Geleistete BKZ E3'!F62","v":0}]
[53,"älter",null,0,0,0,{"$error":"#DIV/0!"},null,{"$f":"+'E.1. Baukostenzuschüsse Ebene 1'!F63+'E.2. Baukostenzuschüsse Ebene 2'!F63+'E.3. Baukostenzuschüsse Ebene 3'!F63","v":0},{"$f":"+'E.1. Baukostenzuschüsse Ebene 1'!H63+'E.2. Baukostenzuschüsse Ebene 2'!H63+'E.3. Baukostenzuschüsse Ebene 3'!H63","v":0},{"$f":"+'E.1. Baukostenzuschüsse Ebene 1'!J63+'E.2. Baukostenzuschüsse Ebene 2'!J63+'E.3. Baukostenzuschüsse Ebene 3'!J63","v":0},0,0,null,null,null,null,null,null,null,{"$f":"+'A.1. Rohrleitungen Ebene 1'!F63+'A.2. Rohrleitungen Ebene 2'!F63+'A.3. Rohrlleitungen Ebene 3'!F63+'B.1. Schieberstationen Ebene 1'!F63+'B.2. Schieberstationen Ebene 2'!F63+'B.3. Schieberstationen Ebene 3'!F63+'C.1. GDRAs Ebene 1'!F63+'C.2. GDRAs Ebene 2'!F63+'C.3. GDRAs Ebene 3'!F63+'D.1. Verdichter Ebene 1'!F63+'D.2. Verdichter Ebene 2'!F63+'D.3. Verdichter Ebene 3'!F63","v":0},{"$f":"+'A.1. Rohrleitungen Ebene 1'!H63+'A.2. Rohrleitungen Ebene 2'!H63+'A.3. Rohrlleitungen Ebene 3'!H63+'B.1. Schieberstationen Ebene 1'!H63+'B.2. Schieberstationen Ebene 2'!H63+'B.3. Schieberstationen Ebene 3'!H63+'C.1. GDRAs Ebene 1'!H63+'C.2. GDRAs Ebene 2'!H63+'C.3. GDRAs Ebene 3'!H63+'D.1. Verdichter Ebene 1'!H63+'D.2. Verdichter Ebene 2'!H63+'D.3. Verdichter Ebene 3'!H63","v":0},{"$f":"+'A.1. Rohrleitungen Ebene 1'!J63+'A.2. Rohrleitungen Ebene 2'!J63+'A.3. Rohrlleitungen Ebene 3'!J63+'B.1. Schieberstationen Ebene 1'!J63+'B.2. Schieberstationen Ebene 2'!J63+'B.3. Schieberstationen Ebene 3'!J63+'C.1. GDRAs Ebene 1'!J63+'C.2. GDRAs Ebene 2'!J63+'C.3. GDRAs Ebene 3'!J63+'D.1. Verdichter Ebene 1'!J63+'D.2. Verdichter Ebene 2'!J63+'D.3. Verdichter Ebene 3'!J63","v":0},{"$f":"+'F.1 Geleistete BKZ E1'!D63+'F.2 Geleistete BKZ E2'!D63+'F.3 Geleistete BKZ E3'!D63","v":0},{"$f":"+'F.1 Geleistete BKZ E1'!E63+'F.2 Geleistete BKZ E2'!E63+'F.3 Geleistete BKZ E3'!E63","v":0},{"$f":"+'F.1 Geleistete BKZ E1'!F63+'F.2 Geleistete BKZ E2'!F63+'F.3 Geleistete BKZ E3'!F63","v":0}]
[54,"Summe",null,{"$f":"SUM(D11:D63)","v":9},{"$f":"SUM(E11:E63)","v":9},{"$f":"SUM(F11:F63)","v":0},{"$error":"#DIV/0!"},null,{"$f":"SUM(I11:I63)","v":0},{"$f":"SUM(J11:J63)","v":0},{"$f":"SUM(K11:K63)","v":0},{"$f":"SUM(L11:L63)","v":9},{"$f":"SUM(M11:M63)","v":9},null,null,null,null,null,null,null,{"$f":"+'A.1. Rohrleitungen Ebene 1'!F64+'A.2. Rohrleitungen Ebene 2'!F64+'A.3. Rohrlleitungen Ebene 3'!F64+'B.1. Schieberstationen Ebene 1'!F64+'B.2. Schieberstationen Ebene 2'!F64+'B.3. Schieberstationen Ebene 3'!F64+'C.1. GDRAs Ebene 1'!F64+'C.2. GDRAs Ebene 2'!F64+'C.3. GDRAs Ebene 3'!F64+'D.1. Verdichter Ebene 1'!F64+'D.2. Verdichter Ebene 2'!F64+'D.3. Verdichter Ebene 3'!F64","v":0},{"$f":"+'A.1. Rohrleitungen Ebene 1'!H64+'A.2. Rohrleitungen Ebene 2'!H64+'A.3. Rohrlleitungen Ebene 3'!H64+'B.1. Schieberstationen Ebene 1'!H64+'B.2. Schieberstationen Ebene 2'!H64+'B.3. Schieberstationen Ebene 3'!H64+'C.1. GDRAs Ebene 1'!H64+'C.2. GDRAs Ebene 2'!H64+'C.3. GDRAs Ebene 3'!H64+'D.1. Verdichter Ebene 1'!H64+'D.2. Verdichter Ebene 2'!H64+'D.3. Verdichter Ebene 3'!H64","v":0},{"$f":"+'A.1. Rohrleitungen Ebene 1'!J64+'A.2. Rohrleitungen Ebene 2'!J64+'A.3. Rohrlleitungen Ebene 3'!J64+'B.1. Schieberstationen Ebene 1'!J64+'B.2. Schieberstationen Ebene 2'!J64+'B.3. Schieberstationen Ebene 3'!J64+'C.1. GDRAs Ebene 1'!J64+'C.2. GDRAs Ebene 2'!J64+'C.3. GDRAs Ebene 3'!J64+'D.1. Verdichter Ebene 1'!J64+'D.2. Verdichter Ebene 2'!J64+'D.3. Verdichter Ebene 3'!J64","v":0},{"$f":"+'F.1 Geleistete BKZ E1'!D64+'F.2 Geleistete BKZ E2'!D64+'F.3 Geleistete BKZ E3'!D64","v":0},{"$f":"+'F.1 Geleistete BKZ E1'!E64+'F.2 Geleistete BKZ E2'!E64+'F.3 Geleistete BKZ E3'!E64","v":9},{"$f":"+'F.1 Geleistete BKZ E1'!F64+'F.2 Geleistete BKZ E2'!F64+'F.3 Geleistete BKZ E3'!F64","v":0}]

{"sheet":"Verfahrensnummer","index":30,"n_rows":24,"n_cols":5,"rows_kept":24,"cut":false,"hidden":true,"merged":[]}
["Verfahrensnummer","Netzbetreiberkennzahl","Netzbetreiber"]
["V KOS G 001/14","G 001","Netz Burgenland Erdgas GmbH","V KOS G 001/14","G 001"]
["V KOS G 002/14","G 002","Wiener Netze GmbH","V KOS G 002/14","G 002"]
["V KOS G 003/14","G 003","AGGM - Austrian Gas Grid Management AG","V KOS G 003/14","G 003"]
["V KOS G 005/14","G 005","LINZ GAS Netz GmbH","V KOS G 005/14","G 005"]
["V KOS G 006/14","G 006","Elektrizitätswerk Wels AG","V KOS G 006/14","G 006"]
["V KOS G 007/14","G 007","Energie Ried GmbH","V KOS G 007/14","G 007"]
["V KOS G 010/14","G 010","Salzburg Netz GmbH","V KOS G 010/14","G 010"]
["V KOS G 011/14","G 011","Energie Graz GmbH & Co KG","V KOS G 011/14","G 011"]
["V KOS G 013/14","G 013","TIGAS Erdgas Tirol GmbH","V KOS G 013/14","G 013"]
["V KOS G 014/14","G 014","Netz Niederösterreich GmbH","V KOS G 014/14","G 014"]
["V KOS G 016/14","G 016","KNG-Kärnten Netz GbmH","V KOS G 016/14","G 016"]
["V KOS G 017/14","G 017","Energie Klagenfurt GmbH","V KOS G 017/14","G 017"]
["V KOS G 023/14","G 023","Stadtwerke Kapfenberg GmbH","V KOS G 023/14","G 023"]
["V KOS G 031/14","G 031","OÖ. Ferngas Netz GmbH","V KOS G 031/14","G 031"]
["V KOS G 032/14","G 032","Gasnetz Steiermark GmbH","V KOS G 032/14","G 032"]
["V KOS G 033/14","G 033","Vorarlberger Energienetze GmbH","V KOS G 033/14","G 033"]
["V KOS G 034/14","G 034","Stadtwerke Bregenz GmbH","V KOS G 034/14","G 034"]
["V KOS G 035/14","G 035","Stadtwerke Leoben","V KOS G 035/14","G 035"]
["V KOS G 036/14","G 036","Gas Connect Austria GmbH","V KOS G 036/14","G 036"]
["V KOS G 039/14","G 039","EVA - Erdgasversorgung Ausserfern GmbH ","V KOS G 039/14","G 039"]
["V KOS G 043/14","G 043","Stadtbetriebe Steyr GmbH","V KOS G 043/14","G 043"]
["V KOS G 045/14","G 045","GasNetz Veitsch","V KOS G 045/14","G 045"]
[null,null,"Bitte Auswählen"," "," "]